PDS_VERSION_ID = PDS3
/* FILE DATA ELEMENTS */
RECORD_TYPE = STREAM
/* POINTERS TO DATA OBJECTS */
^COMPRESSED_FILE = "H2436_0000_IR3.JP2"
/* IDENTIFICATION DATA ELEMENTS */
DATA_SET_ID = "MEX-M-HRSC-5-REFDR-MAPPROJECTED-V3.0"
DATA_SET_NAME = "MARS EXPRESS HRSC MAP PROJECTED REFDR V3.0"
DETECTOR_ID = MEX_HRSC_IR
EVENT_TYPE = "MARS-REGIONAL-MAPPING-Im-Fl-Gl"
INSTRUMENT_HOST_ID = MEX
INSTRUMENT_HOST_NAME = "MARS EXPRESS"
INSTRUMENT_ID = HRSC
INSTRUMENT_NAME = "HIGH RESOLUTION STEREO CAMERA"
MISSION_NAME = "MARS EXPRESS"
MISSION_PHASE_NAME = ME_Phase_1
PROCESSING_LEVEL_ID = 3
PRODUCT_CREATION_TIME = 2016-04-06T10:39:59.000Z
PRODUCT_ID = "H2436_0000_IR3.JP2"
RELEASE_ID = 0030
REVISION_ID = 0000
/* QUALITY DATA ELEMENTS */
DATA_QUALITY_ID = 1
DATA_QUALITY_DESC = "Data calculated based on original SPICE kernels"
/* TIME DATA ELEMENTS */
SPACECRAFT_CLOCK_START_COUNT = "1/0081890520.57968"
SPACECRAFT_CLOCK_STOP_COUNT = "1/0081890802.31913"
START_TIME = 2005-12-05T19:22:12.612Z
STOP_TIME = 2005-12-05T19:26:01.966Z
/* ORBITAL DATA ELEMENTS */
ASCENDING_NODE_LONGITUDE = 177.12
MAXIMUM_RESOLUTION = 90.6
FOOTPRINT_POINT_LATITUDE = (-78.0924,-78.164,-78.2292,-78.2133, -78.0574,-77.9011,-77.7447,-77.4361, -77.1334,-76.6781,-76.3742,-75.9176, -75.6126,-75.1529,-74.846,-74.5397, -74.2437,-73.9469,-73.6483,-73.3505, -72.9034,-72.4573,-72.1587,-71.8588, -71.409,-71.1096,-70.8095,-70.3592, -70.0587,-69.7583,-69.4577,-69.1564, -68.8545,-68.5523,-68.0992,-67.7968, -67.4943,-67.1918,-66.7387,-66.4367, -65.9817,-65.6772,-65.3732,-65.0694, -64.7638,-64.4599,-64.1542,-63.849, -63.5435,-63.2384,-63.0352,-63.0243, -63.0105,-62.9852,-63.1267,-63.4305, -63.7338,-64.0371,-64.3425,-64.6459, -64.9484,-65.4022,-65.8557,-66.1568, -66.4585,-66.7602,-67.0609,-67.5112, -67.9622,-68.2629,-68.7137,-69.1631, -69.6105,-69.9081,-70.2057,-70.5036, -70.9498,-71.2468,-71.5416,-71.84, -72.1346,-72.5772,-73.0201,-73.3152, -73.7542,-74.0471,-74.3386,-74.7914, -75.0932,-75.393,-75.6937,-75.9926, -76.2911,-76.5887,-76.8853,-77.1807, -77.4808,-77.6338,-77.9384,-78.0924)
FOOTPRINT_POINT_LONGITUDE = (154.92,156.279,157.667,159.135,159.287 ,159.435,159.58,159.856,160.113,160.477 ,160.705,161.027,161.23,161.523,161.708 ,161.883,162.047,162.206,162.363, 162.511,162.723,162.918,163.045,163.17, 163.348,163.46,163.569,163.726,163.826, 163.922,164.015,164.106,164.196,164.282 ,164.407,164.487,164.564,164.639, 164.746,164.814,164.916,164.983,165.048 ,165.109,165.173,165.232,165.292, 165.349,165.405,165.459,165.171,164.788 ,164.369,163.676,163.334,163.262, 163.188,163.113,163.035,162.954,162.871 ,162.743,162.608,162.515,162.419,162.32 ,162.218,162.06,161.893,161.778,161.598 ,161.409,161.211,161.074,160.932, 160.785,160.555,160.395,160.23,160.058, 159.88,159.602,159.307,159.101,158.778, 158.552,158.318,157.935,157.664,157.383 ,157.089,156.782,156.461,156.126, 155.774,155.407,155.014,154.806,154.374 ,154.92)
ORBIT_NUMBER = 2436
ORBITAL_ECCENTRICITY = 0.572
ORBITAL_INCLINATION = 86.62
ORBITAL_SEMIMAJOR_AXIS = 8537.08
PERIAPSIS_ALTITUDE = 274.51
PERIAPSIS_ARGUMENT_ANGLE = 290.07
PERIAPSIS_TIME = 2005-12-05T19:24:41.000Z
SPACECRAFT_ORIENTATION = (0.0,-1.0,0.0)
^MEX_ORIENTATION_DESC = "MEX_ORIENTATION_DESC.TXT"
SPACECRAFT_POINTING_MODE = ACROSSTRACK
^MEX_POINTING_DESC = "MEX_POINTING_DESC.TXT"
RIGHT_ASCENSION = -1e+32
DECLINATION = -1e+32
OFFSET_ANGLE = -0.32
SPACECRAFT_SOLAR_DISTANCE = 2.23963e+08
TARGET_NAME = MARS
/* CAMERA DATA ELEMENTS */
DETECTOR_TEMPERATURE = 17.351
FOCAL_PLANE_TEMPERATURE = 8.5833
INST_CMPRS_NAME = "DISCRETE COSINE TRANSFORMATION (DCT)"
INST_CMPRS_RATIO = 32.0537
INST_CMPRS_QUALITY = 0
INST_CMPRS_QUANTZ_TBL_ID = 0
INSTRUMENT_TEMPERATURE = 12.4574
LENS_TEMPERATURE = 8.9911
MACROPIXEL_SIZE = 8
MISSING_FRAMES = 0
PIXEL_SUBSAMPLING_FLAG = N
SIGNAL_CHAIN_ID = 2
/* RADIOMETRIC DATA ELEMENTS */
BANDWIDTH = 81.0
CENTER_FILTER_WAVELENGTH = 955.5
RADIANCE_OFFSET = 0.619311
RADIANCE_SCALING_FACTOR = 0.00364301
REFLECTANCE_SCALING_FACTOR = 0.000394221
MEX:REFLECTANCE_OFFSET = 0.0670176
/* IMAGE OBJECT DEFINITIONS */
OBJECT = IMAGE
  INTERCHANGE_FORMAT = BINARY
  LINES = 9036
  LINE_SAMPLES = 1875
  SAMPLE_TYPE = UNSIGNED_INTEGER
  SAMPLE_BITS = 8
  BANDS = 1
  BAND_STORAGE_TYPE = BAND_SEQUENTIAL
  MAXIMUM = 255
  MEAN = 129.657
  MINIMUM = 2
  STANDARD_DEVIATION = 51.4492
END_OBJECT = IMAGE
/* MAP OBJECT DEFINITIONS */
OBJECT = IMAGE_MAP_PROJECTION
  ^DATA_SET_MAP_PROJECTION_CATALOG= "DSMAP.CAT"
  A_AXIS_RADIUS = 3396.0
  B_AXIS_RADIUS = 3396.0
  C_AXIS_RADIUS = 3396.0
  CENTER_LATITUDE = 0.0
  CENTER_LONGITUDE = 162.0
  COORDINATE_SYSTEM_NAME = PLANETOGRAPHIC
  COORDINATE_SYSTEM_TYPE = "BODY-FIXED ROTATING"
  EASTERNMOST_LONGITUDE = 165.459
  FIRST_STANDARD_PARALLEL = "N/A"
  LINE_FIRST_PIXEL = 1
  LINE_LAST_PIXEL = 9036
  LINE_PROJECTION_OFFSET = -37315.0625
  MAP_PROJECTION_ROTATION = 0.0
  MAP_PROJECTION_TYPE = SINUSOIDAL
  MAP_RESOLUTION = 592.713803866667
  MAP_SCALE = 0.1
  MAXIMUM_LATITUDE = -62.9852
  MINIMUM_LATITUDE = -78.22920000000001
  POSITIVE_LONGITUDE_DIRECTION = EAST
  REFERENCE_LATITUDE = "N/A"
  REFERENCE_LONGITUDE = "N/A"
  SAMPLE_FIRST_PIXEL = 1
  SAMPLE_LAST_PIXEL = 1875
  SAMPLE_PROJECTION_OFFSET = 939.0625
  SECOND_STANDARD_PARALLEL = "N/A"
  WESTERNMOST_LONGITUDE = 154.374
END_OBJECT = IMAGE_MAP_PROJECTION
/* The JPEG2000 image data file associated with this label. */
OBJECT = COMPRESSED_FILE
  FILE_NAME = "H2436_0000_IR3.JP2"
  RECORD_TYPE = UNDEFINED
  FILE_RECORDS = UNK
  ENCODING_TYPE = "JP2"
  INTERCHANGE_FORMAT = BINARY
  UNCOMPRESSED_FILE_NAME = "H2436_0000_IR3.IMG"
  REQUIRED_STORAGE_BYTES = "16963125"
  ^DESCRIPTION = "JP2INFO.TXT"
END_OBJECT = COMPRESSED_FILE
END
