PDS_VERSION_ID = PDS3
/* FILE DATA ELEMENTS */
RECORD_TYPE = STREAM
/* POINTERS TO DATA OBJECTS */
^COMPRESSED_FILE = "H2439_0000_RE3.JP2"
/* IDENTIFICATION DATA ELEMENTS */
DATA_SET_ID = "MEX-M-HRSC-5-REFDR-MAPPROJECTED-V3.0"
DATA_SET_NAME = "MARS EXPRESS HRSC MAP PROJECTED REFDR V3.0"
DETECTOR_ID = MEX_HRSC_RED
EVENT_TYPE = "MARS-REGIONAL-MAPPING-Im"
INSTRUMENT_HOST_ID = MEX
INSTRUMENT_HOST_NAME = "MARS EXPRESS"
INSTRUMENT_ID = HRSC
INSTRUMENT_NAME = "HIGH RESOLUTION STEREO CAMERA"
MISSION_NAME = "MARS EXPRESS"
MISSION_PHASE_NAME = ME_Phase_1
PROCESSING_LEVEL_ID = 3
PRODUCT_CREATION_TIME = 2016-04-06T10:39:59.000Z
PRODUCT_ID = "H2439_0000_RE3.JP2"
RELEASE_ID = 0030
REVISION_ID = 0000
/* QUALITY DATA ELEMENTS */
DATA_QUALITY_ID = 1
DATA_QUALITY_DESC = "Data calculated based on original SPICE kernels"
/* TIME DATA ELEMENTS */
SPACECRAFT_CLOCK_START_COUNT = "1/0081963082.57147"
SPACECRAFT_CLOCK_STOP_COUNT = "1/0081963414.24879"
START_TIME = 2005-12-06T15:32:15.267Z
STOP_TIME = 2005-12-06T15:36:54.670Z
/* ORBITAL DATA ELEMENTS */
ASCENDING_NODE_LONGITUDE = 177.06
MAXIMUM_RESOLUTION = 45.1
FOOTPRINT_POINT_LATITUDE = (-76.2995,-76.3547,-76.4121,-76.5357, -76.1675,-75.7998,-75.2487,-74.8799, -74.5095,-74.1386,-73.7689,-73.2206, -72.8523,-72.4983,-71.9668,-71.6136, -71.2579,-70.7263,-70.3736,-70.0193, -69.6661,-69.3117,-68.7814,-68.2378, -67.8709,-67.5038,-67.1371,-66.7713, -66.4051,-66.0397,-65.6745,-65.1272, -64.763,-64.2173,-63.8539,-63.491, -62.9312,-62.5561,-62.1792,-61.8036, -61.2439,-60.8689,-60.4957,-60.3022, -60.109,-59.9158,-59.7226,-59.3372, -58.9523,-58.5681,-58.1469,-58.131, -58.1087,-58.0783,-58.4671,-58.8476, -59.2323,-59.6176,-60.0022,-60.1947, -60.5741,-61.132,-61.691,-62.2523, -62.8147,-63.1901,-63.5518,-63.9151, -64.456,-64.8181,-65.1796,-65.5443, -65.9074,-66.2699,-66.6342,-66.9976, -67.3618,-67.7258,-68.0886,-68.6387, -68.9886,-69.3325,-69.8599,-70.2121, -70.5617,-71.0874,-71.4377,-71.7887, -72.1392,-72.489,-72.8398,-73.2041, -73.569,-74.1157,-74.6606,-75.0232, -75.5659,-75.9273,-76.2881,-76.2995)
FOOTPRINT_POINT_LONGITUDE = (221.197,222.142,223.198,224.049, 224.372,224.678,225.108,225.376,225.63, 225.872,226.103,226.432,226.633,226.822 ,227.091,227.262,227.425,227.658, 227.806,227.948,228.086,228.217,228.407 ,228.591,228.71,228.825,228.936,229.043 ,229.146,229.246,229.343,229.482, 229.571,229.699,229.781,229.861,229.978 ,230.055,230.129,230.201,230.306, 230.372,230.437,230.47,230.502,230.534, 230.566,230.627,230.687,230.745,230.543 ,230.11,229.565,228.783,228.718,228.654 ,228.583,228.511,228.437,228.399, 228.322,228.204,228.08,227.947,227.807, 227.71,227.614,227.511,227.357,227.248, 227.136,227.016,226.894,226.769,226.636 ,226.501,226.359,226.213,226.062, 225.808,225.646,225.489,225.221,225.032 ,224.84,224.534,224.32,224.094,223.86, 223.617,223.362,223.083,222.789,222.32, 221.818,221.462,220.891,220.484,220.053 ,221.197)
ORBIT_NUMBER = 2439
ORBITAL_ECCENTRICITY = 0.572
ORBITAL_INCLINATION = 86.63
ORBITAL_SEMIMAJOR_AXIS = 8534.89
PERIAPSIS_ALTITUDE = 273.67
PERIAPSIS_ARGUMENT_ANGLE = 289.53
PERIAPSIS_TIME = 2005-12-06T15:33:30.000Z
SPACECRAFT_ORIENTATION = (0.0,-1.0,0.0)
^MEX_ORIENTATION_DESC = "MEX_ORIENTATION_DESC.TXT"
SPACECRAFT_POINTING_MODE = ACROSSTRACK
^MEX_POINTING_DESC = "MEX_POINTING_DESC.TXT"
RIGHT_ASCENSION = -1e+32
DECLINATION = -1e+32
OFFSET_ANGLE = 0.08
SPACECRAFT_SOLAR_DISTANCE = 2.24127e+08
TARGET_NAME = MARS
/* CAMERA DATA ELEMENTS */
DETECTOR_TEMPERATURE = 18.3705
FOCAL_PLANE_TEMPERATURE = 7.9716
INST_CMPRS_NAME = "DISCRETE COSINE TRANSFORMATION (DCT)"
INST_CMPRS_RATIO = 31.6362
INST_CMPRS_QUALITY = 0
INST_CMPRS_QUANTZ_TBL_ID = 0
INSTRUMENT_TEMPERATURE = 11.0301
LENS_TEMPERATURE = 8.5833
MACROPIXEL_SIZE = 4
MISSING_FRAMES = 0
PIXEL_SUBSAMPLING_FLAG = N
SIGNAL_CHAIN_ID = 2
/* RADIOMETRIC DATA ELEMENTS */
BANDWIDTH = 48.0
CENTER_FILTER_WAVELENGTH = 748.0
RADIANCE_OFFSET = 0.781388
RADIANCE_SCALING_FACTOR = 0.00341784
REFLECTANCE_SCALING_FACTOR = 0.0003918
MEX:REFLECTANCE_OFFSET = 0.0895736
/* IMAGE OBJECT DEFINITIONS */
OBJECT = IMAGE
  INTERCHANGE_FORMAT = BINARY
  LINES = 21884
  LINE_SAMPLES = 3921
  SAMPLE_TYPE = UNSIGNED_INTEGER
  SAMPLE_BITS = 8
  BANDS = 1
  BAND_STORAGE_TYPE = BAND_SEQUENTIAL
  MAXIMUM = 255
  MEAN = 129.63
  MINIMUM = 1
  STANDARD_DEVIATION = 35.7702
END_OBJECT = IMAGE
/* MAP OBJECT DEFINITIONS */
OBJECT = IMAGE_MAP_PROJECTION
  ^DATA_SET_MAP_PROJECTION_CATALOG= "DSMAP.CAT"
  A_AXIS_RADIUS = 3396.0
  B_AXIS_RADIUS = 3396.0
  C_AXIS_RADIUS = 3396.0
  CENTER_LATITUDE = 0.0
  CENTER_LONGITUDE = 228.0
  COORDINATE_SYSTEM_NAME = PLANETOGRAPHIC
  COORDINATE_SYSTEM_TYPE = "BODY-FIXED ROTATING"
  EASTERNMOST_LONGITUDE = 230.745
  FIRST_STANDARD_PARALLEL = "N/A"
  LINE_FIRST_PIXEL = 1
  LINE_LAST_PIXEL = 21884
  LINE_PROJECTION_OFFSET = -68863.375
  MAP_PROJECTION_ROTATION = 0.0
  MAP_PROJECTION_TYPE = SINUSOIDAL
  MAP_RESOLUTION = 1185.42760773333
  MAP_SCALE = 0.05
  MAXIMUM_LATITUDE = -58.0783
  MINIMUM_LATITUDE = -76.53570000000001
  POSITIVE_LONGITUDE_DIRECTION = EAST
  REFERENCE_LATITUDE = "N/A"
  REFERENCE_LONGITUDE = "N/A"
  SAMPLE_FIRST_PIXEL = 1
  SAMPLE_LAST_PIXEL = 3921
  SAMPLE_PROJECTION_OFFSET = 2206.125
  SECOND_STANDARD_PARALLEL = "N/A"
  WESTERNMOST_LONGITUDE = 220.053
END_OBJECT = IMAGE_MAP_PROJECTION
/* The JPEG2000 image data file associated with this label. */
OBJECT = COMPRESSED_FILE
  FILE_NAME = "H2439_0000_RE3.JP2"
  RECORD_TYPE = UNDEFINED
  FILE_RECORDS = UNK
  ENCODING_TYPE = "JP2"
  INTERCHANGE_FORMAT = BINARY
  UNCOMPRESSED_FILE_NAME = "H2439_0000_RE3.IMG"
  REQUIRED_STORAGE_BYTES = "85830690"
  ^DESCRIPTION = "JP2INFO.TXT"
END_OBJECT = COMPRESSED_FILE
END
