PDS_VERSION_ID = PDS3
/* FILE DATA ELEMENTS */
RECORD_TYPE = STREAM
/* POINTERS TO DATA OBJECTS */
^COMPRESSED_FILE = "H2440_0000_S23.JP2"
/* IDENTIFICATION DATA ELEMENTS */
DATA_SET_ID = "MEX-M-HRSC-5-REFDR-MAPPROJECTED-V3.0"
DATA_SET_NAME = "MARS EXPRESS HRSC MAP PROJECTED REFDR V3.0"
DETECTOR_ID = MEX_HRSC_S2
EVENT_TYPE = "MARS-REGIONAL-MAPPING-Gl-Pf-La"
INSTRUMENT_HOST_ID = MEX
INSTRUMENT_HOST_NAME = "MARS EXPRESS"
INSTRUMENT_ID = HRSC
INSTRUMENT_NAME = "HIGH RESOLUTION STEREO CAMERA"
MISSION_NAME = "MARS EXPRESS"
MISSION_PHASE_NAME = ME_Phase_1
PROCESSING_LEVEL_ID = 3
PRODUCT_CREATION_TIME = 2016-04-06T10:39:59.000Z
PRODUCT_ID = "H2440_0000_S23.JP2"
RELEASE_ID = 0030
REVISION_ID = 0000
/* QUALITY DATA ELEMENTS */
DATA_QUALITY_ID = 1
DATA_QUALITY_DESC = "Data calculated based on original SPICE kernels"
/* TIME DATA ELEMENTS */
SPACECRAFT_CLOCK_START_COUNT = "1/0081987183.56201"
SPACECRAFT_CLOCK_STOP_COUNT = "1/0081987476.32250"
START_TIME = 2005-12-06T22:14:05.106Z
STOP_TIME = 2005-12-06T22:18:01.332Z
/* ORBITAL DATA ELEMENTS */
ASCENDING_NODE_LONGITUDE = 177.04
MAXIMUM_RESOLUTION = 23.1
FOOTPRINT_POINT_LATITUDE = (-80.9591,-81.0555,-81.1805,-81.2951, -81.4354,-81.2781,-81.1209,-80.9639, -80.8036,-80.6432,-80.3345,-80.0243, -79.7133,-79.4,-79.0864,-78.7728, -78.3042,-77.8312,-77.5145,-77.2021, -76.9002,-76.4428,-76.1373,-75.6771, -75.2178,-74.7573,-74.4494,-74.1429, -73.8343,-73.5263,-73.2159,-72.9099, -72.6031,-72.2949,-71.9867,-71.525, -71.214,-70.9047,-70.593,-70.1368, -69.8315,-69.5207,-69.215,-68.9062, -68.6013,-68.2952,-67.8365,-67.3774, -67.071,-66.6093,-66.3014,-65.9649, -65.9368,-65.9151,-66.0356,-66.3369, -66.6417,-66.9457,-67.2488,-67.704, -68.0075,-68.3109,-68.7628,-69.0658, -69.3733,-69.8356,-70.1397,-70.5969, -70.9004,-71.2048,-71.5092,-71.813, -72.264,-72.5614,-72.8665,-73.1765, -73.4816,-73.7848,-74.2387,-74.6923, -75.1448,-75.446,-75.7462,-76.1957, -76.4945,-76.9345,-77.2356,-77.5429, -77.8489,-78.3047,-78.7571,-79.2079, -79.5063,-79.8033,-79.9525,-80.2446, -80.394,-80.5438,-80.6939,-80.9591)
FOOTPRINT_POINT_LONGITUDE = (109.346,110.646,112.472,114.312, 114.986,115.424,115.844,116.248,116.645 ,117.029,117.726,118.381,118.994, 119.574,120.118,120.63,121.34,121.998, 122.41,122.797,123.15,123.653,123.971, 124.422,124.843,125.238,125.489,125.728 ,125.96,126.182,126.397,126.601,126.798 ,126.988,127.172,127.436,127.606,127.77 ,127.929,128.151,128.294,128.436, 128.571,128.703,128.829,128.952,129.129 ,129.299,129.409,129.569,129.672, 129.431,128.637,128.066,127.274,127.155 ,127.024,126.891,126.756,126.546,126.4, 126.25,126.025,125.864,125.685,125.403, 125.218,124.926,124.727,124.517,124.299 ,124.075,123.739,123.515,123.253, 122.962,122.677,122.387,121.93,121.442, 120.923,120.557,120.177,119.572,119.145 ,118.505,118.001,117.476,116.929, 116.058,115.118,114.082,113.341,112.55, 112.123,111.273,110.811,110.337,109.836 ,109.346)
ORBIT_NUMBER = 2440
ORBITAL_ECCENTRICITY = 0.572
ORBITAL_INCLINATION = 86.61
ORBITAL_SEMIMAJOR_AXIS = 8537.83
PERIAPSIS_ALTITUDE = 274.72
PERIAPSIS_ARGUMENT_ANGLE = 289.36
PERIAPSIS_TIME = 2005-12-06T22:16:31.000Z
SPACECRAFT_ORIENTATION = (0.0,-1.0,0.0)
^MEX_ORIENTATION_DESC = "MEX_ORIENTATION_DESC.TXT"
SPACECRAFT_POINTING_MODE = ACROSSTRACK
^MEX_POINTING_DESC = "MEX_POINTING_DESC.TXT"
RIGHT_ASCENSION = -1e+32
DECLINATION = -1e+32
OFFSET_ANGLE = 0.55
SPACECRAFT_SOLAR_DISTANCE = 2.24181e+08
TARGET_NAME = MARS
/* CAMERA DATA ELEMENTS */
DETECTOR_TEMPERATURE = 18.3705
FOCAL_PLANE_TEMPERATURE = 8.1755
INST_CMPRS_NAME = "DISCRETE COSINE TRANSFORMATION (DCT)"
INST_CMPRS_RATIO = 14.4567
INST_CMPRS_QUALITY = 0
INST_CMPRS_QUANTZ_TBL_ID = 0
INSTRUMENT_TEMPERATURE = 11.234
LENS_TEMPERATURE = 8.3794
MACROPIXEL_SIZE = 2
MISSING_FRAMES = 0
PIXEL_SUBSAMPLING_FLAG = N
SIGNAL_CHAIN_ID = 1
/* RADIOMETRIC DATA ELEMENTS */
BANDWIDTH = 178.0
CENTER_FILTER_WAVELENGTH = 679.0
RADIANCE_OFFSET = 2.3971
RADIANCE_SCALING_FACTOR = 0.0155216
REFLECTANCE_SCALING_FACTOR = 0.000413106
MEX:REFLECTANCE_OFFSET = 0.0637987
/* IMAGE OBJECT DEFINITIONS */
OBJECT = IMAGE
  INTERCHANGE_FORMAT = BINARY
  LINES = 37021
  LINE_SAMPLES = 11257
  SAMPLE_TYPE = UNSIGNED_INTEGER
  SAMPLE_BITS = 8
  BANDS = 1
  BAND_STORAGE_TYPE = BAND_SEQUENTIAL
  MAXIMUM = 255
  MEAN = 120.842
  MINIMUM = 1
  STANDARD_DEVIATION = 50.7845
END_OBJECT = IMAGE
/* MAP OBJECT DEFINITIONS */
OBJECT = IMAGE_MAP_PROJECTION
  ^DATA_SET_MAP_PROJECTION_CATALOG= "DSMAP.CAT"
  A_AXIS_RADIUS = 3396.0
  B_AXIS_RADIUS = 3396.0
  C_AXIS_RADIUS = 3396.0
  CENTER_LATITUDE = 0.0
  CENTER_LONGITUDE = 124.0
  COORDINATE_SYSTEM_NAME = PLANETOGRAPHIC
  COORDINATE_SYSTEM_TYPE = "BODY-FIXED ROTATING"
  EASTERNMOST_LONGITUDE = 129.672
  FIRST_STANDARD_PARALLEL = "N/A"
  LINE_FIRST_PIXEL = 1
  LINE_LAST_PIXEL = 37021
  LINE_PROJECTION_OFFSET = -156169.25
  MAP_PROJECTION_ROTATION = 0.0
  MAP_PROJECTION_TYPE = SINUSOIDAL
  MAP_RESOLUTION = 2370.85521546667
  MAP_SCALE = 0.025
  MAXIMUM_LATITUDE = -65.9151
  MINIMUM_LATITUDE = -81.4354
  POSITIVE_LONGITUDE_DIRECTION = EAST
  REFERENCE_LATITUDE = "N/A"
  REFERENCE_LONGITUDE = "N/A"
  SAMPLE_FIRST_PIXEL = 1
  SAMPLE_LAST_PIXEL = 11257
  SAMPLE_PROJECTION_OFFSET = 5722.75
  SECOND_STANDARD_PARALLEL = "N/A"
  WESTERNMOST_LONGITUDE = 109.346
END_OBJECT = IMAGE_MAP_PROJECTION
/* The JPEG2000 image data file associated with this label. */
OBJECT = COMPRESSED_FILE
  FILE_NAME = "H2440_0000_S23.JP2"
  RECORD_TYPE = UNDEFINED
  FILE_RECORDS = UNK
  ENCODING_TYPE = "JP2"
  INTERCHANGE_FORMAT = BINARY
  UNCOMPRESSED_FILE_NAME = "H2440_0000_S23.IMG"
  REQUIRED_STORAGE_BYTES = "416779168"
  ^DESCRIPTION = "JP2INFO.TXT"
END_OBJECT = COMPRESSED_FILE
END
