PDS_VERSION_ID = PDS3
/* FILE DATA ELEMENTS */
RECORD_TYPE = STREAM
/* POINTERS TO DATA OBJECTS */
^COMPRESSED_FILE = "H2441_0000_GR3.JP2"
/* IDENTIFICATION DATA ELEMENTS */
DATA_SET_ID = "MEX-M-HRSC-5-REFDR-MAPPROJECTED-V3.0"
DATA_SET_NAME = "MARS EXPRESS HRSC MAP PROJECTED REFDR V3.0"
DETECTOR_ID = MEX_HRSC_GREEN
EVENT_TYPE = "MARS-REGIONAL-MAPPING-Vo-Im-Gl"
INSTRUMENT_HOST_ID = MEX
INSTRUMENT_HOST_NAME = "MARS EXPRESS"
INSTRUMENT_ID = HRSC
INSTRUMENT_NAME = "HIGH RESOLUTION STEREO CAMERA"
MISSION_NAME = "MARS EXPRESS"
MISSION_PHASE_NAME = ME_Phase_1
PROCESSING_LEVEL_ID = 3
PRODUCT_CREATION_TIME = 2016-04-06T10:39:59.000Z
PRODUCT_ID = "H2441_0000_GR3.JP2"
RELEASE_ID = 0030
REVISION_ID = 0000
/* QUALITY DATA ELEMENTS */
DATA_QUALITY_ID = 1
DATA_QUALITY_DESC = "Data calculated based on original SPICE kernels"
/* TIME DATA ELEMENTS */
SPACECRAFT_CLOCK_START_COUNT = "1/0082011676.57944"
SPACECRAFT_CLOCK_STOP_COUNT = "1/0082012051.23980"
START_TIME = 2005-12-07T05:01:44.436Z
STOP_TIME = 2005-12-07T05:06:43.497Z
/* ORBITAL DATA ELEMENTS */
ASCENDING_NODE_LONGITUDE = 177.02
MAXIMUM_RESOLUTION = 45.8
FOOTPRINT_POINT_LATITUDE = (-61.17,-61.2175,-60.9183,-60.5882, -60.2583,-59.9285,-59.5988,-59.2601, -58.9181,-58.5766,-58.2351,-57.8937, -57.5526,-57.2118,-56.8588,-56.5061, -56.1536,-55.8013,-55.4494,-55.0904, -54.7266,-54.3633,-54.0003,-53.6378, -53.2633,-52.8892,-52.5154,-52.1421, -51.7578,-51.373,-50.9888,-50.6054, -50.2223,-49.6409,-49.2599,-48.6886, -48.3087,-47.6347,-47.1832,-46.7325, -46.2827,-45.834,-45.3866,-44.9401, -44.4944,-43.8177,-43.3627,-42.9018, -42.437,-41.9635,-41.8872,-41.8674, -41.8494,-42.3228,-42.786,-43.2491, -43.7031,-44.1561,-44.6003,-45.0451, -45.491,-45.9381,-46.3864,-46.836, -47.2861,-47.7372,-48.382,-48.7617, -49.3321,-49.7126,-50.1008,-50.4826, -50.8653,-51.249,-51.6334,-52.0171, -52.3901,-52.7629,-53.1361,-53.6917, -54.0536,-54.4157,-54.7782,-55.3188, -55.6697,-56.0209,-56.3724,-56.7242, -57.2475,-57.5874,-57.9275,-58.2678, -58.6079,-58.9485,-59.4579,-59.7863, -60.115,-60.4439,-60.7727,-61.17)
FOOTPRINT_POINT_LONGITUDE = (31.5652,32.434,33.4209,33.4828,33.5433 ,33.6022,33.6598,33.7174,33.7744, 33.8294,33.8835,33.9364,33.988,34.0384, 34.0892,34.1386,34.1869,34.2341,34.2802 ,34.3261,34.3715,34.4157,34.4589, 34.5011,34.5435,34.5849,34.6255,34.665, 34.7049,34.7439,34.7818,34.8185,34.8545 ,34.9094,34.9422,34.9916,35.0232, 35.0784,35.1139,35.1488,35.1828,35.2156 ,35.2471,35.2777,35.308,35.3547,35.3836 ,35.4097,35.4382,35.4665,34.644,33.9824 ,33.4441,33.427,33.4077,33.3899,33.37, 33.3488,33.3271,33.3032,33.2783,33.2524 ,33.2263,33.1997,33.1707,33.14,33.0926, 33.0644,33.0185,32.9848,32.9502,32.9142 ,32.8786,32.8428,32.8067,32.7648, 32.7257,32.6839,32.6409,32.5738,32.529, 32.4821,32.4338,32.3583,32.3078,32.2559 ,32.2025,32.1473,32.0622,32.0051,31.946 ,31.8852,31.8206,31.7552,31.6544, 31.5866,31.5175,31.4467,31.3729, 31.5652)
ORBIT_NUMBER = 2441
ORBITAL_ECCENTRICITY = 0.572
ORBITAL_INCLINATION = 86.62
ORBITAL_SEMIMAJOR_AXIS = 8537.08
PERIAPSIS_ALTITUDE = 274.66
PERIAPSIS_ARGUMENT_ANGLE = 289.18
PERIAPSIS_TIME = 2005-12-07T04:59:28.000Z
SPACECRAFT_ORIENTATION = (0.0,-1.0,0.0)
^MEX_ORIENTATION_DESC = "MEX_ORIENTATION_DESC.TXT"
SPACECRAFT_POINTING_MODE = ACROSSTRACK
^MEX_POINTING_DESC = "MEX_POINTING_DESC.TXT"
RIGHT_ASCENSION = -1e+32
DECLINATION = -1e+32
OFFSET_ANGLE = 0.28
SPACECRAFT_SOLAR_DISTANCE = 2.24236e+08
TARGET_NAME = MARS
/* CAMERA DATA ELEMENTS */
DETECTOR_TEMPERATURE = 18.1666
FOCAL_PLANE_TEMPERATURE = 8.3794
INST_CMPRS_NAME = "DISCRETE COSINE TRANSFORMATION (DCT)"
INST_CMPRS_RATIO = 15.2718
INST_CMPRS_QUALITY = 0
INST_CMPRS_QUANTZ_TBL_ID = 0
INSTRUMENT_TEMPERATURE = 11.234
LENS_TEMPERATURE = 8.9911
MACROPIXEL_SIZE = 4
MISSING_FRAMES = 1
PIXEL_SUBSAMPLING_FLAG = N
SIGNAL_CHAIN_ID = 2
/* RADIOMETRIC DATA ELEMENTS */
BANDWIDTH = 88.0
CENTER_FILTER_WAVELENGTH = 538.0
RADIANCE_OFFSET = 1.41788
RADIANCE_SCALING_FACTOR = 0.0040815
REFLECTANCE_SCALING_FACTOR = 0.000176693
MEX:REFLECTANCE_OFFSET = 0.0613816
/* IMAGE OBJECT DEFINITIONS */
OBJECT = IMAGE
  INTERCHANGE_FORMAT = BINARY
  LINES = 23008
  LINE_SAMPLES = 2897
  SAMPLE_TYPE = UNSIGNED_INTEGER
  SAMPLE_BITS = 8
  BANDS = 1
  BAND_STORAGE_TYPE = BAND_SEQUENTIAL
  MAXIMUM = 255
  MEAN = 146.985
  MINIMUM = 1
  STANDARD_DEVIATION = 37.2363
END_OBJECT = IMAGE
/* MAP OBJECT DEFINITIONS */
OBJECT = IMAGE_MAP_PROJECTION
  ^DATA_SET_MAP_PROJECTION_CATALOG= "DSMAP.CAT"
  A_AXIS_RADIUS = 3396.0
  B_AXIS_RADIUS = 3396.0
  C_AXIS_RADIUS = 3396.0
  CENTER_LATITUDE = 0.0
  CENTER_LONGITUDE = 34.0
  COORDINATE_SYSTEM_NAME = PLANETOGRAPHIC
  COORDINATE_SYSTEM_TYPE = "BODY-FIXED ROTATING"
  EASTERNMOST_LONGITUDE = 35.4665
  FIRST_STANDARD_PARALLEL = "N/A"
  LINE_FIRST_PIXEL = 1
  LINE_LAST_PIXEL = 23008
  LINE_PROJECTION_OFFSET = -49601.875
  MAP_PROJECTION_ROTATION = 0.0
  MAP_PROJECTION_TYPE = SINUSOIDAL
  MAP_RESOLUTION = 1185.42760773333
  MAP_SCALE = 0.05
  MAXIMUM_LATITUDE = -41.8494
  MINIMUM_LATITUDE = -61.2175
  POSITIVE_LONGITUDE_DIRECTION = EAST
  REFERENCE_LATITUDE = "N/A"
  REFERENCE_LONGITUDE = "N/A"
  SAMPLE_FIRST_PIXEL = 1
  SAMPLE_LAST_PIXEL = 2897
  SAMPLE_PROJECTION_OFFSET = 1566.375
  SECOND_STANDARD_PARALLEL = "N/A"
  WESTERNMOST_LONGITUDE = 31.3729
END_OBJECT = IMAGE_MAP_PROJECTION
/* The JPEG2000 image data file associated with this label. */
OBJECT = COMPRESSED_FILE
  FILE_NAME = "H2441_0000_GR3.JP2"
  RECORD_TYPE = UNDEFINED
  FILE_RECORDS = UNK
  ENCODING_TYPE = "JP2"
  INTERCHANGE_FORMAT = BINARY
  UNCOMPRESSED_FILE_NAME = "H2441_0000_GR3.IMG"
  REQUIRED_STORAGE_BYTES = "66677352"
  ^DESCRIPTION = "JP2INFO.TXT"
END_OBJECT = COMPRESSED_FILE
END
