PDS_VERSION_ID = PDS3
/* FILE DATA ELEMENTS */
RECORD_TYPE = STREAM
/* POINTERS TO DATA OBJECTS */
^COMPRESSED_FILE = "H2441_0000_ND3.JP2"
/* IDENTIFICATION DATA ELEMENTS */
DATA_SET_ID = "MEX-M-HRSC-5-REFDR-MAPPROJECTED-V3.0"
DATA_SET_NAME = "MARS EXPRESS HRSC MAP PROJECTED REFDR V3.0"
DETECTOR_ID = MEX_HRSC_NADIR
EVENT_TYPE = "MARS-REGIONAL-MAPPING-Vo-Im-Gl"
INSTRUMENT_HOST_ID = MEX
INSTRUMENT_HOST_NAME = "MARS EXPRESS"
INSTRUMENT_ID = HRSC
INSTRUMENT_NAME = "HIGH RESOLUTION STEREO CAMERA"
MISSION_NAME = "MARS EXPRESS"
MISSION_PHASE_NAME = ME_Phase_1
PROCESSING_LEVEL_ID = 3
PRODUCT_CREATION_TIME = 2016-04-06T10:39:59.000Z
PRODUCT_ID = "H2441_0000_ND3.JP2"
RELEASE_ID = 0030
REVISION_ID = 0000
/* QUALITY DATA ELEMENTS */
DATA_QUALITY_ID = 1
DATA_QUALITY_DESC = "Data calculated based on original SPICE kernels"
/* TIME DATA ELEMENTS */
SPACECRAFT_CLOCK_START_COUNT = "1/0082011676.57944"
SPACECRAFT_CLOCK_STOP_COUNT = "1/0082012051.23980"
START_TIME = 2005-12-07T05:01:48.634Z
STOP_TIME = 2005-12-07T05:06:50.634Z
/* ORBITAL DATA ELEMENTS */
ASCENDING_NODE_LONGITUDE = 177.02
MAXIMUM_RESOLUTION = 11.5
FOOTPRINT_POINT_LATITUDE = (-61.1909,-61.2521,-60.9217,-60.5916, -59.9318,-59.5947,-59.2527,-58.911, -58.5695,-58.2284,-57.8875,-57.547, -57.0193,-56.667,-56.315,-55.9633, -55.4302,-55.0671,-54.7043,-54.342, -53.9801,-53.6072,-53.2338,-52.861, -52.4887,-52.1062,-51.7226,-51.3396, -50.9572,-50.5754,-50.1943,-49.8139, -49.434,-49.0548,-48.6763,-48.2318, -47.7819,-47.333,-46.8852,-46.4384, -45.9926,-45.5479,-45.1043,-44.6617, -44.2117,-43.7595,-43.2997,-42.838, -42.3677,-41.8961,-41.8728,-41.8478, -42.3127,-42.782,-43.2425,-43.7012, -44.1523,-44.6015,-45.043,-45.4856, -45.9293,-46.3741,-46.82,-47.2669, -47.7148,-48.1637,-48.6073,-48.985, -49.3633,-49.7423,-50.1218,-50.5021, -50.883,-51.2645,-51.6467,-52.0293, -52.4109,-52.7823,-53.1543,-53.5267, -53.8986,-54.2595,-54.6209,-54.9827, -55.3449,-55.8765,-56.2271,-56.5781, -56.9294,-57.4555,-57.795,-58.1348, -58.4749,-58.8151,-59.1556,-59.4964, -59.8323,-60.4897,-61.1476,-61.1909)
FOOTPRINT_POINT_LONGITUDE = (32.0703,33.3711,33.4352,33.4972, 33.6167,33.6756,33.7339,33.7908,33.8459 ,33.9,33.9528,34.0043,34.0819,34.1319, 34.1807,34.2285,34.2988,34.3453,34.3907 ,34.4348,34.4779,34.5212,34.5637, 34.6048,34.6455,34.6862,34.7259,34.7648 ,34.8026,34.8391,34.8749,34.9123, 34.9452,34.9789,35.0114,35.0486,35.0857 ,35.1216,35.1567,35.191,35.2246,35.2561 ,35.2873,35.3175,35.3503,35.3804, 35.4095,35.4356,35.4648,35.4932,34.4618 ,33.6059,33.4152,33.3952,33.3785, 33.3589,33.3378,33.3162,33.2927,33.2679 ,33.2428,33.2171,33.1909,33.1625, 33.1324,33.0997,33.067,33.0375,33.0074, 32.974,32.9395,32.9045,32.8691,32.8332, 32.7982,32.7562,32.7166,32.6747,32.6319 ,32.5875,32.5416,32.4961,32.4482, 32.3997,32.3486,32.2716,32.219,32.1649, 32.109,32.0223,31.9644,31.904,31.8415, 31.7761,31.71,31.642,31.5728,31.4325, 31.282,32.0703)
ORBIT_NUMBER = 2441
ORBITAL_ECCENTRICITY = 0.572
ORBITAL_INCLINATION = 86.62
ORBITAL_SEMIMAJOR_AXIS = 8537.08
PERIAPSIS_ALTITUDE = 274.66
PERIAPSIS_ARGUMENT_ANGLE = 289.18
PERIAPSIS_TIME = 2005-12-07T04:59:28.000Z
SPACECRAFT_ORIENTATION = (0.0,-1.0,0.0)
^MEX_ORIENTATION_DESC = "MEX_ORIENTATION_DESC.TXT"
SPACECRAFT_POINTING_MODE = ACROSSTRACK
^MEX_POINTING_DESC = "MEX_POINTING_DESC.TXT"
RIGHT_ASCENSION = -1e+32
DECLINATION = -1e+32
OFFSET_ANGLE = 0.28
SPACECRAFT_SOLAR_DISTANCE = 2.24236e+08
TARGET_NAME = MARS
/* CAMERA DATA ELEMENTS */
DETECTOR_TEMPERATURE = 18.1666
FOCAL_PLANE_TEMPERATURE = 8.3794
INST_CMPRS_NAME = "DISCRETE COSINE TRANSFORMATION (DCT)"
INST_CMPRS_RATIO = 7.09086
INST_CMPRS_QUALITY = 0
INST_CMPRS_QUANTZ_TBL_ID = 0
INSTRUMENT_TEMPERATURE = 11.234
LENS_TEMPERATURE = 8.9911
MACROPIXEL_SIZE = 1
MISSING_FRAMES = 0
PIXEL_SUBSAMPLING_FLAG = N
SIGNAL_CHAIN_ID = 0
/* RADIOMETRIC DATA ELEMENTS */
BANDWIDTH = 177.0
CENTER_FILTER_WAVELENGTH = 677.5
RADIANCE_OFFSET = 2.89784
RADIANCE_SCALING_FACTOR = 0.0178299
REFLECTANCE_SCALING_FACTOR = 0.000476258
MEX:REFLECTANCE_OFFSET = 0.0774051
/* IMAGE OBJECT DEFINITIONS */
OBJECT = IMAGE
  INTERCHANGE_FORMAT = BINARY
  LINES = 92029
  LINE_SAMPLES = 11585
  SAMPLE_TYPE = UNSIGNED_INTEGER
  SAMPLE_BITS = 8
  BANDS = 1
  BAND_STORAGE_TYPE = BAND_SEQUENTIAL
  MAXIMUM = 255
  MEAN = 144.188
  MINIMUM = 1
  STANDARD_DEVIATION = 39.4153
END_OBJECT = IMAGE
/* MAP OBJECT DEFINITIONS */
OBJECT = IMAGE_MAP_PROJECTION
  ^DATA_SET_MAP_PROJECTION_CATALOG= "DSMAP.CAT"
  A_AXIS_RADIUS = 3396.0
  B_AXIS_RADIUS = 3396.0
  C_AXIS_RADIUS = 3396.0
  CENTER_LATITUDE = 0.0
  CENTER_LONGITUDE = 34.0
  COORDINATE_SYSTEM_NAME = PLANETOGRAPHIC
  COORDINATE_SYSTEM_TYPE = "BODY-FIXED ROTATING"
  EASTERNMOST_LONGITUDE = 35.4932
  FIRST_STANDARD_PARALLEL = "N/A"
  LINE_FIRST_PIXEL = 1
  LINE_LAST_PIXEL = 92029
  LINE_PROJECTION_OFFSET = -198406.0
  MAP_PROJECTION_ROTATION = 0.0
  MAP_PROJECTION_TYPE = SINUSOIDAL
  MAP_RESOLUTION = 4741.71043093333
  MAP_SCALE = 0.0125
  MAXIMUM_LATITUDE = -41.8478
  MINIMUM_LATITUDE = -61.2521
  POSITIVE_LONGITUDE_DIRECTION = EAST
  REFERENCE_LATITUDE = "N/A"
  REFERENCE_LONGITUDE = "N/A"
  SAMPLE_FIRST_PIXEL = 1
  SAMPLE_LAST_PIXEL = 11585
  SAMPLE_PROJECTION_OFFSET = 6267.0
  SECOND_STANDARD_PARALLEL = "N/A"
  WESTERNMOST_LONGITUDE = 31.282
END_OBJECT = IMAGE_MAP_PROJECTION
/* The JPEG2000 image data file associated with this label. */
OBJECT = COMPRESSED_FILE
  FILE_NAME = "H2441_0000_ND3.JP2"
  RECORD_TYPE = UNDEFINED
  FILE_RECORDS = UNK
  ENCODING_TYPE = "JP2"
  INTERCHANGE_FORMAT = BINARY
  UNCOMPRESSED_FILE_NAME = "H2441_0000_ND3.IMG"
  REQUIRED_STORAGE_BYTES = "1066190720"
  ^DESCRIPTION = "JP2INFO.TXT"
END_OBJECT = COMPRESSED_FILE
END
