PDS_VERSION_ID = PDS3
/* FILE DATA ELEMENTS */
RECORD_TYPE = STREAM
/* POINTERS TO DATA OBJECTS */
^COMPRESSED_FILE = "H2441_0000_S13.JP2"
/* IDENTIFICATION DATA ELEMENTS */
DATA_SET_ID = "MEX-M-HRSC-5-REFDR-MAPPROJECTED-V3.0"
DATA_SET_NAME = "MARS EXPRESS HRSC MAP PROJECTED REFDR V3.0"
DETECTOR_ID = MEX_HRSC_S1
EVENT_TYPE = "MARS-REGIONAL-MAPPING-Vo-Im-Gl"
INSTRUMENT_HOST_ID = MEX
INSTRUMENT_HOST_NAME = "MARS EXPRESS"
INSTRUMENT_ID = HRSC
INSTRUMENT_NAME = "HIGH RESOLUTION STEREO CAMERA"
MISSION_NAME = "MARS EXPRESS"
MISSION_PHASE_NAME = ME_Phase_1
PROCESSING_LEVEL_ID = 3
PRODUCT_CREATION_TIME = 2016-04-06T10:39:59.000Z
PRODUCT_ID = "H2441_0000_S13.JP2"
RELEASE_ID = 0030
REVISION_ID = 0000
/* QUALITY DATA ELEMENTS */
DATA_QUALITY_ID = 1
DATA_QUALITY_DESC = "Data calculated based on original SPICE kernels"
/* TIME DATA ELEMENTS */
SPACECRAFT_CLOCK_START_COUNT = "1/0082011676.57944"
SPACECRAFT_CLOCK_STOP_COUNT = "1/0082012051.23980"
START_TIME = 2005-12-07T05:01:23.765Z
STOP_TIME = 2005-12-07T05:06:11.916Z
/* ORBITAL DATA ELEMENTS */
ASCENDING_NODE_LONGITUDE = 177.02
MAXIMUM_RESOLUTION = 23.9
FOOTPRINT_POINT_LATITUDE = (-61.2556,-61.2949,-61.2736,-60.7717, -60.2678,-59.9319,-59.4278,-59.0906, -58.7559,-58.4197,-57.9068,-57.5567, -57.207,-56.8575,-56.5087,-56.1563, -55.8069,-55.4468,-55.0842,-54.7218, -54.1794,-53.8175,-53.2567,-52.6955, -52.3212,-51.9415,-51.5548,-50.9744, -50.5897,-50.1936,-49.7868,-49.194, -48.7951,-48.3993,-48.0019,-47.6038, -47.0086,-46.6107,-46.156,-45.9196, -45.2142,-44.7444,-44.5069,-44.2649, -43.7934,-43.3254,-42.8668,-42.3974, -41.9217,-41.881,-41.869,-41.8517, -41.8198,-42.2941,-42.9939,-43.4639, -43.9324,-44.4019,-45.1059,-45.5744, -46.0463,-46.2833,-46.7045,-47.1015, -47.4951,-47.8956,-48.4897,-48.8874, -49.2856,-49.6806,-50.0767,-50.4711, -50.8569,-51.2457,-51.828,-52.1999, -52.577,-53.1367,-53.5102,-53.8767, -54.2381,-54.598,-54.9597,-55.3196, -55.6793,-56.2021,-56.5536,-56.9021, -57.2508,-57.5997,-57.9485,-58.2853, -58.6187,-58.9534,-59.2884,-59.7908, -60.2935,-60.6291,-60.9629,-61.2556)
FOOTPRINT_POINT_LONGITUDE = (31.7987,32.4065,33.3498,33.4454, 33.5375,33.5969,33.6834,33.7398,33.7937 ,33.847,33.9262,33.9786,34.0297,34.0794 ,34.1277,34.1754,34.2217,34.2682, 34.3141,34.3588,34.4235,34.4655,34.5285 ,34.5894,34.6289,34.6682,34.7071, 34.7638,34.7998,34.8365,34.8749,34.9256 ,34.9597,34.992,35.0241,35.0557,35.1014 ,35.1313,35.1646,35.1815,35.2298, 35.2609,35.277,35.2942,35.3244,35.353, 35.3782,35.406,35.4334,34.9131,34.5768, 34.164,33.4974,33.479,33.449,33.4288, 33.4064,33.3829,33.3444,33.3163,33.2884 ,33.2743,33.2487,33.2228,33.1938, 33.1674,33.1215,33.0901,33.0577,33.0221 ,32.9856,32.9485,32.9118,32.8755, 32.8178,32.7735,32.7342,32.6689,32.6238 ,32.5777,32.5317,32.4831,32.4342, 32.3825,32.3303,32.2517,32.1967,32.1406 ,32.083,32.0237,31.9627,31.9016,31.8376 ,31.7727,31.7062,31.6029,31.4953, 31.4213,31.344,31.7987)
ORBIT_NUMBER = 2441
ORBITAL_ECCENTRICITY = 0.572
ORBITAL_INCLINATION = 86.62
ORBITAL_SEMIMAJOR_AXIS = 8537.08
PERIAPSIS_ALTITUDE = 274.66
PERIAPSIS_ARGUMENT_ANGLE = 289.18
PERIAPSIS_TIME = 2005-12-07T04:59:28.000Z
SPACECRAFT_ORIENTATION = (0.0,-1.0,0.0)
^MEX_ORIENTATION_DESC = "MEX_ORIENTATION_DESC.TXT"
SPACECRAFT_POINTING_MODE = ACROSSTRACK
^MEX_POINTING_DESC = "MEX_POINTING_DESC.TXT"
RIGHT_ASCENSION = -1e+32
DECLINATION = -1e+32
OFFSET_ANGLE = 0.28
SPACECRAFT_SOLAR_DISTANCE = 2.24236e+08
TARGET_NAME = MARS
/* CAMERA DATA ELEMENTS */
DETECTOR_TEMPERATURE = 17.5549
FOCAL_PLANE_TEMPERATURE = 8.3794
INST_CMPRS_NAME = "DISCRETE COSINE TRANSFORMATION (DCT)"
INST_CMPRS_RATIO = 8.82899
INST_CMPRS_QUALITY = 0
INST_CMPRS_QUANTZ_TBL_ID = 0
INSTRUMENT_TEMPERATURE = 11.234
LENS_TEMPERATURE = 8.9911
MACROPIXEL_SIZE = 2
MISSING_FRAMES = 1
PIXEL_SUBSAMPLING_FLAG = N
SIGNAL_CHAIN_ID = 1
/* RADIOMETRIC DATA ELEMENTS */
BANDWIDTH = 180.0
CENTER_FILTER_WAVELENGTH = 677.0
RADIANCE_OFFSET = 3.60338
RADIANCE_SCALING_FACTOR = 0.0177591
REFLECTANCE_SCALING_FACTOR = 0.000465879
MEX:REFLECTANCE_OFFSET = 0.0945283
/* IMAGE OBJECT DEFINITIONS */
OBJECT = IMAGE
  INTERCHANGE_FORMAT = BINARY
  LINES = 46015
  LINE_SAMPLES = 5793
  SAMPLE_TYPE = UNSIGNED_INTEGER
  SAMPLE_BITS = 8
  BANDS = 1
  BAND_STORAGE_TYPE = BAND_SEQUENTIAL
  MAXIMUM = 255
  MEAN = 142.167
  MINIMUM = 1
  STANDARD_DEVIATION = 36.9694
END_OBJECT = IMAGE
/* MAP OBJECT DEFINITIONS */
OBJECT = IMAGE_MAP_PROJECTION
  ^DATA_SET_MAP_PROJECTION_CATALOG= "DSMAP.CAT"
  A_AXIS_RADIUS = 3396.0
  B_AXIS_RADIUS = 3396.0
  C_AXIS_RADIUS = 3396.0
  CENTER_LATITUDE = 0.0
  CENTER_LONGITUDE = 34.0
  COORDINATE_SYSTEM_NAME = PLANETOGRAPHIC
  COORDINATE_SYSTEM_TYPE = "BODY-FIXED ROTATING"
  EASTERNMOST_LONGITUDE = 35.4334
  FIRST_STANDARD_PARALLEL = "N/A"
  LINE_FIRST_PIXEL = 1
  LINE_LAST_PIXEL = 46015
  LINE_PROJECTION_OFFSET = -99203.25
  MAP_PROJECTION_ROTATION = 0.0
  MAP_PROJECTION_TYPE = SINUSOIDAL
  MAP_RESOLUTION = 2370.85521546667
  MAP_SCALE = 0.025
  MAXIMUM_LATITUDE = -41.8198
  MINIMUM_LATITUDE = -61.2949
  POSITIVE_LONGITUDE_DIRECTION = EAST
  REFERENCE_LATITUDE = "N/A"
  REFERENCE_LONGITUDE = "N/A"
  SAMPLE_FIRST_PIXEL = 1
  SAMPLE_LAST_PIXEL = 5793
  SAMPLE_PROJECTION_OFFSET = 3133.25
  SECOND_STANDARD_PARALLEL = "N/A"
  WESTERNMOST_LONGITUDE = 31.344
END_OBJECT = IMAGE_MAP_PROJECTION
/* The JPEG2000 image data file associated with this label. */
OBJECT = COMPRESSED_FILE
  FILE_NAME = "H2441_0000_S13.JP2"
  RECORD_TYPE = UNDEFINED
  FILE_RECORDS = UNK
  ENCODING_TYPE = "JP2"
  INTERCHANGE_FORMAT = BINARY
  UNCOMPRESSED_FILE_NAME = "H2441_0000_S13.IMG"
  REQUIRED_STORAGE_BYTES = "266593860"
  ^DESCRIPTION = "JP2INFO.TXT"
END_OBJECT = COMPRESSED_FILE
END
