PDS_VERSION_ID = PDS3
/* FILE DATA ELEMENTS */
RECORD_TYPE = STREAM
/* POINTERS TO DATA OBJECTS */
^COMPRESSED_FILE = "H2445_0000_IR3.JP2"
/* IDENTIFICATION DATA ELEMENTS */
DATA_SET_ID = "MEX-M-HRSC-5-REFDR-MAPPROJECTED-V3.0"
DATA_SET_NAME = "MARS EXPRESS HRSC MAP PROJECTED REFDR V3.0"
DETECTOR_ID = MEX_HRSC_IR
EVENT_TYPE = "MARS-LOCAL-STEREO-Gl-Pf-Ts"
INSTRUMENT_HOST_ID = MEX
INSTRUMENT_HOST_NAME = "MARS EXPRESS"
INSTRUMENT_ID = HRSC
INSTRUMENT_NAME = "HIGH RESOLUTION STEREO CAMERA"
MISSION_NAME = "MARS EXPRESS"
MISSION_PHASE_NAME = ME_Phase_1
PROCESSING_LEVEL_ID = 3
PRODUCT_CREATION_TIME = 2016-04-06T10:39:59.000Z
PRODUCT_ID = "H2445_0000_IR3.JP2"
RELEASE_ID = 0030
REVISION_ID = 0000
/* QUALITY DATA ELEMENTS */
DATA_QUALITY_ID = 1
DATA_QUALITY_DESC = "Data calculated based on original SPICE kernels"
/* TIME DATA ELEMENTS */
SPACECRAFT_CLOCK_START_COUNT = "1/0082108132.57942"
SPACECRAFT_CLOCK_STOP_COUNT = "1/0082108365.16071"
START_TIME = 2005-12-08T07:49:04.505Z
STOP_TIME = 2005-12-08T07:52:05.850Z
/* ORBITAL DATA ELEMENTS */
ASCENDING_NODE_LONGITUDE = 176.94
MAXIMUM_RESOLUTION = 90.7
FOOTPRINT_POINT_LATITUDE = (-78.8708,-78.9596,-79.0045,-79.0476, -79.1114,-79.157,-78.9684,-78.732, -78.3768,-78.1393,-78.0168,-77.6625, -77.4238,-77.185,-76.9447,-76.5849, -76.3439,-76.1117,-75.8792,-75.5306, -75.2979,-75.0637,-74.8301,-74.596, -74.2444,-74.0094,-73.7748,-73.4213, -73.0656,-72.8281,-72.5918,-72.358, -72.003,-71.7659,-71.5282,-71.2913, -71.0536,-70.6968,-70.4582,-70.1012, -69.8629,-69.6244,-69.2658,-69.0266, -68.6681,-68.3092,-68.0693,-67.7101, -67.4698,-67.2296,-67.184,-67.1531, -67.1322,-67.1063,-67.074,-67.3132, -67.5537,-67.7911,-68.0291,-68.2681, -68.5045,-68.7424,-68.9798,-69.3357, -69.5733,-69.8091,-70.1621,-70.3983, -70.634,-70.9861,-71.2215,-71.4562, -71.6912,-71.9273,-72.2737,-72.5073, -72.8565,-73.0898,-73.4416,-73.6734, -73.905,-74.1341,-74.3659,-74.5963, -74.8273,-75.171,-75.3998,-75.6265, -75.8568,-76.0842,-76.319,-76.671, -76.9057,-77.2552,-77.4884,-77.8357, -78.0668,-78.2963,-78.5259,-78.8708)
FOOTPRINT_POINT_LONGITUDE = (347.258,348.576,349.288,350.006, 351.138,352.008,352.45,352.755,353.188, 353.463,353.607,353.981,354.225,354.458 ,354.686,355.009,355.218,355.411, 355.597,355.864,356.035,356.203,356.363 ,356.519,356.745,356.89,357.03,357.234, 357.433,357.561,357.682,357.796,357.968 ,358.079,358.187,358.292,358.394, 358.543,358.64,358.779,358.869,358.957, 359.085,359.168,359.289,359.405,359.481 ,359.591,359.663,359.733,359.426, 358.788,358.379,357.902,357.321,357.23, 357.137,357.041,356.942,356.842,356.738 ,356.632,356.524,356.356,356.24,356.121 ,355.937,355.81,355.68,355.477,355.339, 355.195,355.049,354.899,354.662,354.5, 354.248,354.074,353.805,353.618,353.425 ,353.225,353.021,352.809,352.591, 352.251,352.015,351.77,351.519,351.258, 350.98,350.54,350.233,349.751,349.415, 348.885,348.515,348.13,347.729,347.258)
ORBIT_NUMBER = 2445
ORBITAL_ECCENTRICITY = 0.572
ORBITAL_INCLINATION = 86.63
ORBITAL_SEMIMAJOR_AXIS = 8535.09
PERIAPSIS_ALTITUDE = 274.86
PERIAPSIS_ARGUMENT_ANGLE = 288.47
PERIAPSIS_TIME = 2005-12-08T07:51:24.000Z
SPACECRAFT_ORIENTATION = (0.0,-1.0,0.0)
^MEX_ORIENTATION_DESC = "MEX_ORIENTATION_DESC.TXT"
SPACECRAFT_POINTING_MODE = NADIR
^MEX_POINTING_DESC = "MEX_POINTING_DESC.TXT"
RIGHT_ASCENSION = -1e+32
DECLINATION = -1e+32
OFFSET_ANGLE = -1e+32
SPACECRAFT_SOLAR_DISTANCE = 2.24454e+08
TARGET_NAME = MARS
/* CAMERA DATA ELEMENTS */
DETECTOR_TEMPERATURE = 16.9432
FOCAL_PLANE_TEMPERATURE = 8.9911
INST_CMPRS_NAME = "DISCRETE COSINE TRANSFORMATION (DCT)"
INST_CMPRS_RATIO = 26.024
INST_CMPRS_QUALITY = 0
INST_CMPRS_QUANTZ_TBL_ID = 0
INSTRUMENT_TEMPERATURE = 11.0301
LENS_TEMPERATURE = 8.3794
MACROPIXEL_SIZE = 8
MISSING_FRAMES = 0
PIXEL_SUBSAMPLING_FLAG = N
SIGNAL_CHAIN_ID = 2
/* RADIOMETRIC DATA ELEMENTS */
BANDWIDTH = 81.0
CENTER_FILTER_WAVELENGTH = 955.5
RADIANCE_OFFSET = 0.632226
RADIANCE_SCALING_FACTOR = 0.00289254
REFLECTANCE_SCALING_FACTOR = 0.000314384
MEX:REFLECTANCE_OFFSET = 0.0687154
/* IMAGE OBJECT DEFINITIONS */
OBJECT = IMAGE
  INTERCHANGE_FORMAT = BINARY
  LINES = 7119
  LINE_SAMPLES = 1838
  SAMPLE_TYPE = UNSIGNED_INTEGER
  SAMPLE_BITS = 8
  BANDS = 1
  BAND_STORAGE_TYPE = BAND_SEQUENTIAL
  MAXIMUM = 255
  MEAN = 136.071
  MINIMUM = 1
  STANDARD_DEVIATION = 29.0089
END_OBJECT = IMAGE
/* MAP OBJECT DEFINITIONS */
OBJECT = IMAGE_MAP_PROJECTION
  ^DATA_SET_MAP_PROJECTION_CATALOG= "DSMAP.CAT"
  A_AXIS_RADIUS = 3396.0
  B_AXIS_RADIUS = 3396.0
  C_AXIS_RADIUS = 3396.0
  CENTER_LATITUDE = 0.0
  CENTER_LONGITUDE = 356.0
  COORDINATE_SYSTEM_NAME = PLANETOGRAPHIC
  COORDINATE_SYSTEM_TYPE = "BODY-FIXED ROTATING"
  EASTERNMOST_LONGITUDE = 359.733
  FIRST_STANDARD_PARALLEL = "N/A"
  LINE_FIRST_PIXEL = 1
  LINE_LAST_PIXEL = 7119
  LINE_PROJECTION_OFFSET = -39749.9375
  MAP_PROJECTION_ROTATION = 0.0
  MAP_PROJECTION_TYPE = SINUSOIDAL
  MAP_RESOLUTION = 592.713803866667
  MAP_SCALE = 0.1
  MAXIMUM_LATITUDE = -67.074
  MINIMUM_LATITUDE = -79.157
  POSITIVE_LONGITUDE_DIRECTION = EAST
  REFERENCE_LATITUDE = "N/A"
  REFERENCE_LONGITUDE = "N/A"
  SAMPLE_FIRST_PIXEL = 1
  SAMPLE_LAST_PIXEL = 1838
  SAMPLE_PROJECTION_OFFSET = 985.1875
  SECOND_STANDARD_PARALLEL = "N/A"
  WESTERNMOST_LONGITUDE = 347.258
END_OBJECT = IMAGE_MAP_PROJECTION
/* The JPEG2000 image data file associated with this label. */
OBJECT = COMPRESSED_FILE
  FILE_NAME = "H2445_0000_IR3.JP2"
  RECORD_TYPE = UNDEFINED
  FILE_RECORDS = UNK
  ENCODING_TYPE = "JP2"
  INTERCHANGE_FORMAT = BINARY
  UNCOMPRESSED_FILE_NAME = "H2445_0000_IR3.IMG"
  REQUIRED_STORAGE_BYTES = "13104940"
  ^DESCRIPTION = "JP2INFO.TXT"
END_OBJECT = COMPRESSED_FILE
END
