PDS_VERSION_ID = PDS3
/* FILE DATA ELEMENTS */
RECORD_TYPE = STREAM
/* POINTERS TO DATA OBJECTS */
^COMPRESSED_FILE = "H2447_0000_IR3.JP2"
/* IDENTIFICATION DATA ELEMENTS */
DATA_SET_ID = "MEX-M-HRSC-5-REFDR-MAPPROJECTED-V3.0"
DATA_SET_NAME = "MARS EXPRESS HRSC MAP PROJECTED REFDR V3.0"
DETECTOR_ID = MEX_HRSC_IR
EVENT_TYPE = "MARS-REGIONAL-MAPPING-Im-Fl-Pf"
INSTRUMENT_HOST_ID = MEX
INSTRUMENT_HOST_NAME = "MARS EXPRESS"
INSTRUMENT_ID = HRSC
INSTRUMENT_NAME = "HIGH RESOLUTION STEREO CAMERA"
MISSION_NAME = "MARS EXPRESS"
MISSION_PHASE_NAME = ME_Phase_1
PROCESSING_LEVEL_ID = 3
PRODUCT_CREATION_TIME = 2016-04-06T10:39:59.000Z
PRODUCT_ID = "H2447_0000_IR3.JP2"
RELEASE_ID = 0030
REVISION_ID = 0000
/* QUALITY DATA ELEMENTS */
DATA_QUALITY_ID = 1
DATA_QUALITY_DESC = "Data calculated based on original SPICE kernels"
/* TIME DATA ELEMENTS */
SPACECRAFT_CLOCK_START_COUNT = "1/0082156722.57168"
SPACECRAFT_CLOCK_STOP_COUNT = "1/0082157112.28992"
START_TIME = 2005-12-08T21:18:53.736Z
STOP_TIME = 2005-12-08T21:24:01.243Z
/* ORBITAL DATA ELEMENTS */
ASCENDING_NODE_LONGITUDE = 176.89
MAXIMUM_RESOLUTION = 46.5
FOOTPRINT_POINT_LATITUDE = (-64.2215,-64.2612,-64.2942,-64.2539, -63.9026,-63.5522,-63.201,-62.8505, -62.4999,-62.1364,-61.7719,-61.2251, -60.8617,-60.4976,-59.9515,-59.5875, -59.2119,-58.6491,-58.2711,-57.8906, -57.5109,-57.1314,-56.7418,-56.3488, -55.9572,-55.5658,-55.1675,-54.7641, -54.3585,-53.7505,-53.3545,-52.9342, -52.5149,-52.097,-51.675,-51.026, -50.5934,-50.1613,-49.7304,-49.3001, -48.8708,-48.4431,-48.0157,-47.541, -47.0265,-46.261,-45.7567,-45.2485, -44.7414,-44.2358,-43.7301,-43.6733, -43.6511,-43.6324,-44.1344,-44.6365, -45.1411,-45.6479,-46.4075,-47.1714, -47.6795,-48.121,-48.7621,-49.1905, -49.6208,-50.2677,-50.6984,-51.1293, -51.7751,-52.1913,-52.609,-53.0273, -53.6443,-54.0475,-54.4524,-54.8548, -55.2521,-55.6428,-56.0338,-56.4258, -56.818,-57.2013,-57.5801,-57.9547, -58.336,-58.714,-59.0913,-59.4613, -59.8233,-60.1863,-60.7302,-61.0927, -61.4546,-61.8178,-62.362,-62.712, -63.0612,-63.583,-63.9318,-64.2215)
FOOTPRINT_POINT_LONGITUDE = (161.861,162.553,163.184,163.781, 163.862,163.939,164.014,164.087,164.158 ,164.23,164.299,164.399,164.463,164.526 ,164.616,164.675,164.736,164.819, 164.874,164.929,164.982,165.034,165.086 ,165.137,165.185,165.233,165.283,165.33 ,165.375,165.441,165.478,165.522, 165.564,165.605,165.645,165.705,165.744 ,165.782,165.818,165.854,165.888,165.92 ,165.952,165.986,166.024,166.078,166.11 ,166.142,166.174,166.205,166.235, 165.469,164.772,164.271,164.248,164.225 ,164.2,164.174,164.132,164.088,164.055, 164.025,163.98,163.948,163.916,163.865, 163.829,163.791,163.732,163.69,163.648, 163.604,163.537,163.49,163.441,163.389, 163.339,163.286,163.232,163.176,163.119 ,163.061,163.001,162.938,162.876,162.81 ,162.741,162.671,162.599,162.526, 162.411,162.332,162.249,162.165,162.033 ,161.946,161.855,161.712,161.614, 161.861)
ORBIT_NUMBER = 2447
ORBITAL_ECCENTRICITY = 0.572
ORBITAL_INCLINATION = 86.62
ORBITAL_SEMIMAJOR_AXIS = 8535.63
PERIAPSIS_ALTITUDE = 275.32
PERIAPSIS_ARGUMENT_ANGLE = 288.15
PERIAPSIS_TIME = 2005-12-08T21:17:23.000Z
SPACECRAFT_ORIENTATION = (0.0,-1.0,0.0)
^MEX_ORIENTATION_DESC = "MEX_ORIENTATION_DESC.TXT"
SPACECRAFT_POINTING_MODE = ACROSSTRACK
^MEX_POINTING_DESC = "MEX_POINTING_DESC.TXT"
RIGHT_ASCENSION = -1e+32
DECLINATION = -1e+32
OFFSET_ANGLE = 0.1
SPACECRAFT_SOLAR_DISTANCE = 2.24563e+08
TARGET_NAME = MARS
/* CAMERA DATA ELEMENTS */
DETECTOR_TEMPERATURE = 17.351
FOCAL_PLANE_TEMPERATURE = 7.9716
INST_CMPRS_NAME = "DISCRETE COSINE TRANSFORMATION (DCT)"
INST_CMPRS_RATIO = 12.8341
INST_CMPRS_QUALITY = 0
INST_CMPRS_QUANTZ_TBL_ID = 0
INSTRUMENT_TEMPERATURE = 11.0301
LENS_TEMPERATURE = 9.195
MACROPIXEL_SIZE = 4
MISSING_FRAMES = 0
PIXEL_SUBSAMPLING_FLAG = N
SIGNAL_CHAIN_ID = 2
/* RADIOMETRIC DATA ELEMENTS */
BANDWIDTH = 81.0
CENTER_FILTER_WAVELENGTH = 955.5
RADIANCE_OFFSET = 0.605666
RADIANCE_SCALING_FACTOR = 0.0060137
REFLECTANCE_SCALING_FACTOR = 0.000654257
MEX:REFLECTANCE_OFFSET = 0.0658931
/* IMAGE OBJECT DEFINITIONS */
OBJECT = IMAGE
  INTERCHANGE_FORMAT = BINARY
  LINES = 24424
  LINE_SAMPLES = 3238
  SAMPLE_TYPE = UNSIGNED_INTEGER
  SAMPLE_BITS = 8
  BANDS = 1
  BAND_STORAGE_TYPE = BAND_SEQUENTIAL
  MAXIMUM = 255
  MEAN = 119.702
  MINIMUM = 1
  STANDARD_DEVIATION = 48.9013
END_OBJECT = IMAGE
/* MAP OBJECT DEFINITIONS */
OBJECT = IMAGE_MAP_PROJECTION
  ^DATA_SET_MAP_PROJECTION_CATALOG= "DSMAP.CAT"
  A_AXIS_RADIUS = 3396.0
  B_AXIS_RADIUS = 3396.0
  C_AXIS_RADIUS = 3396.0
  CENTER_LATITUDE = 0.0
  CENTER_LONGITUDE = 164.0
  COORDINATE_SYSTEM_NAME = PLANETOGRAPHIC
  COORDINATE_SYSTEM_TYPE = "BODY-FIXED ROTATING"
  EASTERNMOST_LONGITUDE = 166.235
  FIRST_STANDARD_PARALLEL = "N/A"
  LINE_FIRST_PIXEL = 1
  LINE_LAST_PIXEL = 24424
  LINE_PROJECTION_OFFSET = -51734.375
  MAP_PROJECTION_ROTATION = 0.0
  MAP_PROJECTION_TYPE = SINUSOIDAL
  MAP_RESOLUTION = 1185.42760773333
  MAP_SCALE = 0.05
  MAXIMUM_LATITUDE = -43.6324
  MINIMUM_LATITUDE = -64.2942
  POSITIVE_LONGITUDE_DIRECTION = EAST
  REFERENCE_LATITUDE = "N/A"
  REFERENCE_LONGITUDE = "N/A"
  SAMPLE_FIRST_PIXEL = 1
  SAMPLE_LAST_PIXEL = 3238
  SAMPLE_PROJECTION_OFFSET = 1275.125
  SECOND_STANDARD_PARALLEL = "N/A"
  WESTERNMOST_LONGITUDE = 161.614
END_OBJECT = IMAGE_MAP_PROJECTION
/* The JPEG2000 image data file associated with this label. */
OBJECT = COMPRESSED_FILE
  FILE_NAME = "H2447_0000_IR3.JP2"
  RECORD_TYPE = UNDEFINED
  FILE_RECORDS = UNK
  ENCODING_TYPE = "JP2"
  INTERCHANGE_FORMAT = BINARY
  UNCOMPRESSED_FILE_NAME = "H2447_0000_IR3.IMG"
  REQUIRED_STORAGE_BYTES = "79107578"
  ^DESCRIPTION = "JP2INFO.TXT"
END_OBJECT = COMPRESSED_FILE
END
