PDS_VERSION_ID = PDS3
/* FILE DATA ELEMENTS */
RECORD_TYPE = STREAM
/* POINTERS TO DATA OBJECTS */
^COMPRESSED_FILE = "H2447_0000_ND3.JP2"
/* IDENTIFICATION DATA ELEMENTS */
DATA_SET_ID = "MEX-M-HRSC-5-REFDR-MAPPROJECTED-V3.0"
DATA_SET_NAME = "MARS EXPRESS HRSC MAP PROJECTED REFDR V3.0"
DETECTOR_ID = MEX_HRSC_NADIR
EVENT_TYPE = "MARS-REGIONAL-MAPPING-Im-Fl-Pf"
INSTRUMENT_HOST_ID = MEX
INSTRUMENT_HOST_NAME = "MARS EXPRESS"
INSTRUMENT_ID = HRSC
INSTRUMENT_NAME = "HIGH RESOLUTION STEREO CAMERA"
MISSION_NAME = "MARS EXPRESS"
MISSION_PHASE_NAME = ME_Phase_1
PROCESSING_LEVEL_ID = 3
PRODUCT_CREATION_TIME = 2016-04-06T10:39:59.000Z
PRODUCT_ID = "H2447_0000_ND3.JP2"
RELEASE_ID = 0030
REVISION_ID = 0000
/* QUALITY DATA ELEMENTS */
DATA_QUALITY_ID = 1
DATA_QUALITY_DESC = "Data calculated based on original SPICE kernels"
/* TIME DATA ELEMENTS */
SPACECRAFT_CLOCK_START_COUNT = "1/0082156722.57168"
SPACECRAFT_CLOCK_STOP_COUNT = "1/0082157112.28992"
START_TIME = 2005-12-08T21:19:13.988Z
STOP_TIME = 2005-12-08T21:24:32.968Z
/* ORBITAL DATA ELEMENTS */
ASCENDING_NODE_LONGITUDE = 176.89
MAXIMUM_RESOLUTION = 11.3
FOOTPRINT_POINT_LATITUDE = (-64.2112,-64.0733,-63.3621,-63.002, -62.6421,-62.2824,-61.9229,-61.5636, -61.2046,-60.8458,-60.4751,-60.1031, -59.7314,-59.3602,-58.9892,-58.6184, -58.2385,-57.8549,-57.4717,-57.089, -56.7067,-56.1173,-55.7225,-55.3284, -54.7316,-54.3252,-53.9195,-53.5142, -53.099,-52.6817,-52.2651,-51.8492, -51.4341,-51.0197,-50.6062,-50.1933, -49.7813,-49.077,-48.588,-48.1001, -47.6135,-47.1281,-46.6441,-46.1612, -45.6796,-45.1907,-44.6989,-44.1978, -43.6946,-43.6845,-43.666,-43.641, -44.143,-44.643,-45.1336,-45.6214, -46.1019,-46.5837,-47.0667,-47.551, -48.0365,-48.5232,-49.0112,-49.714, -50.1251,-50.5371,-50.9498,-51.3632, -51.7774,-52.1923,-52.6079,-53.0242, -53.4384,-53.8426,-54.2474,-54.6527, -55.248,-55.6412,-56.0348,-56.6227, -57.0039,-57.3856,-57.7677,-58.15, -58.5289,-58.8984,-59.2681,-59.6382, -60.0085,-60.3791,-60.7484,-61.1058, -61.4633,-61.8212,-62.1792,-62.5374, -62.8958,-63.2544,-63.9622,-64.2112)
FOOTPRINT_POINT_LONGITUDE = (163.005,163.839,163.998,164.074, 164.148,164.22,164.29,164.358,164.424, 164.488,164.552,164.614,164.675,164.736 ,164.795,164.848,164.904,164.96,165.015 ,165.067,165.119,165.194,165.244, 165.293,165.365,165.411,165.456,165.499 ,165.539,165.583,165.624,165.665, 165.704,165.743,165.781,165.818,165.854 ,165.913,165.952,165.989,166.025, 166.062,166.098,166.132,166.163,166.196 ,166.228,166.259,166.29,165.779,165.023 ,164.215,164.194,164.172,164.149, 164.126,164.1,164.076,164.048,164.018, 163.987,163.953,163.919,163.868,163.837 ,163.804,163.769,163.733,163.695, 163.654,163.613,163.57,163.526,163.481, 163.434,163.385,163.309,163.257,163.203 ,163.12,163.064,163.006,162.945,162.88, 162.818,162.753,162.685,162.614,162.54, 162.465,162.387,162.309,162.228,162.145 ,162.06,161.972,161.881,161.788,161.59, 163.005)
ORBIT_NUMBER = 2447
ORBITAL_ECCENTRICITY = 0.572
ORBITAL_INCLINATION = 86.62
ORBITAL_SEMIMAJOR_AXIS = 8535.63
PERIAPSIS_ALTITUDE = 275.32
PERIAPSIS_ARGUMENT_ANGLE = 288.15
PERIAPSIS_TIME = 2005-12-08T21:17:23.000Z
SPACECRAFT_ORIENTATION = (0.0,-1.0,0.0)
^MEX_ORIENTATION_DESC = "MEX_ORIENTATION_DESC.TXT"
SPACECRAFT_POINTING_MODE = ACROSSTRACK
^MEX_POINTING_DESC = "MEX_POINTING_DESC.TXT"
RIGHT_ASCENSION = -1e+32
DECLINATION = -1e+32
OFFSET_ANGLE = 0.1
SPACECRAFT_SOLAR_DISTANCE = 2.24563e+08
TARGET_NAME = MARS
/* CAMERA DATA ELEMENTS */
DETECTOR_TEMPERATURE = 18.3705
FOCAL_PLANE_TEMPERATURE = 7.9716
INST_CMPRS_NAME = "DISCRETE COSINE TRANSFORMATION (DCT)"
INST_CMPRS_RATIO = 7.25198
INST_CMPRS_QUALITY = 0
INST_CMPRS_QUANTZ_TBL_ID = 0
INSTRUMENT_TEMPERATURE = 11.0301
LENS_TEMPERATURE = 9.195
MACROPIXEL_SIZE = 1
MISSING_FRAMES = 0
PIXEL_SUBSAMPLING_FLAG = N
SIGNAL_CHAIN_ID = 0
/* RADIOMETRIC DATA ELEMENTS */
BANDWIDTH = 177.0
CENTER_FILTER_WAVELENGTH = 677.5
RADIANCE_OFFSET = 2.34825
RADIANCE_SCALING_FACTOR = 0.0229241
REFLECTANCE_SCALING_FACTOR = 0.000614122
MEX:REFLECTANCE_OFFSET = 0.0629081
/* IMAGE OBJECT DEFINITIONS */
OBJECT = IMAGE
  INTERCHANGE_FORMAT = BINARY
  LINES = 97695
  LINE_SAMPLES = 12950
  SAMPLE_TYPE = UNSIGNED_INTEGER
  SAMPLE_BITS = 8
  BANDS = 1
  BAND_STORAGE_TYPE = BAND_SEQUENTIAL
  MAXIMUM = 255
  MEAN = 124.449
  MINIMUM = 1
  STANDARD_DEVIATION = 48.1848
END_OBJECT = IMAGE
/* MAP OBJECT DEFINITIONS */
OBJECT = IMAGE_MAP_PROJECTION
  ^DATA_SET_MAP_PROJECTION_CATALOG= "DSMAP.CAT"
  A_AXIS_RADIUS = 3396.0
  B_AXIS_RADIUS = 3396.0
  C_AXIS_RADIUS = 3396.0
  CENTER_LATITUDE = 0.0
  CENTER_LONGITUDE = 164.0
  COORDINATE_SYSTEM_NAME = PLANETOGRAPHIC
  COORDINATE_SYSTEM_TYPE = "BODY-FIXED ROTATING"
  EASTERNMOST_LONGITUDE = 166.29
  FIRST_STANDARD_PARALLEL = "N/A"
  LINE_FIRST_PIXEL = 1
  LINE_LAST_PIXEL = 97695
  LINE_PROJECTION_OFFSET = -206936.0
  MAP_PROJECTION_ROTATION = 0.0
  MAP_PROJECTION_TYPE = SINUSOIDAL
  MAP_RESOLUTION = 4741.71043093333
  MAP_SCALE = 0.0125
  MAXIMUM_LATITUDE = -43.641
  MINIMUM_LATITUDE = -64.21120000000001
  POSITIVE_LONGITUDE_DIRECTION = EAST
  REFERENCE_LATITUDE = "N/A"
  REFERENCE_LONGITUDE = "N/A"
  SAMPLE_FIRST_PIXEL = 1
  SAMPLE_LAST_PIXEL = 12950
  SAMPLE_PROJECTION_OFFSET = 5102.0
  SECOND_STANDARD_PARALLEL = "N/A"
  WESTERNMOST_LONGITUDE = 161.59
END_OBJECT = IMAGE_MAP_PROJECTION
/* The JPEG2000 image data file associated with this label. */
OBJECT = COMPRESSED_FILE
  FILE_NAME = "H2447_0000_ND3.JP2"
  RECORD_TYPE = UNDEFINED
  FILE_RECORDS = UNK
  ENCODING_TYPE = "JP2"
  INTERCHANGE_FORMAT = BINARY
  UNCOMPRESSED_FILE_NAME = "H2447_0000_ND3.IMG"
  REQUIRED_STORAGE_BYTES = "1265189100"
  ^DESCRIPTION = "JP2INFO.TXT"
END_OBJECT = COMPRESSED_FILE
END
