PDS_VERSION_ID = PDS3
/* FILE DATA ELEMENTS */
RECORD_TYPE = STREAM
/* POINTERS TO DATA OBJECTS */
^COMPRESSED_FILE = "H2448_0000_S23.JP2"
/* IDENTIFICATION DATA ELEMENTS */
DATA_SET_ID = "MEX-M-HRSC-5-REFDR-MAPPROJECTED-V3.0"
DATA_SET_NAME = "MARS EXPRESS HRSC MAP PROJECTED REFDR V3.0"
DETECTOR_ID = MEX_HRSC_S2
EVENT_TYPE = "MARS-REGIONAL-MAPPING-Vo-Fl-Gl"
INSTRUMENT_HOST_ID = MEX
INSTRUMENT_HOST_NAME = "MARS EXPRESS"
INSTRUMENT_ID = HRSC
INSTRUMENT_NAME = "HIGH RESOLUTION STEREO CAMERA"
MISSION_NAME = "MARS EXPRESS"
MISSION_PHASE_NAME = ME_Phase_1
PROCESSING_LEVEL_ID = 3
PRODUCT_CREATION_TIME = 2016-04-06T10:39:59.000Z
PRODUCT_ID = "H2448_0000_S23.JP2"
RELEASE_ID = 0030
REVISION_ID = 0000
/* QUALITY DATA ELEMENTS */
DATA_QUALITY_ID = 1
DATA_QUALITY_DESC = "Data calculated based on original SPICE kernels"
/* TIME DATA ELEMENTS */
SPACECRAFT_CLOCK_START_COUNT = "1/0082180829.57271"
SPACECRAFT_CLOCK_STOP_COUNT = "1/0082181122.38747"
START_TIME = 2005-12-09T04:01:24.622Z
STOP_TIME = 2005-12-09T04:05:27.475Z
/* ORBITAL DATA ELEMENTS */
ASCENDING_NODE_LONGITUDE = 176.87
MAXIMUM_RESOLUTION = 23.4
FOOTPRINT_POINT_LATITUDE = (-68.9359,-68.9659,-69.0049,-69.0407, -69.1521,-68.8596,-68.568,-68.2755, -67.983,-67.6914,-67.3989,-67.1081, -66.6711,-66.2355,-65.9473,-65.6576, -65.367,-64.9162,-64.6149,-64.1663, -63.8659,-63.5672,-63.1193,-62.6724, -62.2162,-61.9072,-61.5992,-61.2916, -60.9855,-60.6783,-60.3727,-59.9012, -59.4284,-59.1132,-58.7998,-58.326, -58.0036,-57.6818,-57.3597,-57.0405, -56.7147,-56.385,-56.0571,-55.5659, -55.2306,-54.894,-54.5587,-54.2226, -53.8883,-53.7043,-53.6941,-53.6818, -53.667,-53.6558,-53.6459,-53.979, -54.479,-54.8148,-55.1513,-55.4852, -55.81,-56.1364,-56.4645,-56.9536, -57.273,-57.5928,-57.9137,-58.397, -58.865,-59.178,-59.4923,-59.8069, -60.2786,-60.5797,-60.885,-61.1905, -61.4963,-61.8055,-62.1153,-62.4216, -62.8665,-63.1633,-63.4605,-63.7588, -64.2059,-64.6535,-64.9526,-65.2505, -65.5388,-65.8264,-66.1148,-66.403, -66.6934,-66.9825,-67.2722,-67.5628, -67.8523,-68.1426,-68.5772,-68.9359)
FOOTPRINT_POINT_LONGITUDE = (61.4689,62.0332,62.8172,63.5991,64.015 ,64.1231,64.2282,64.3301,64.4289, 64.5251,64.6183,64.7092,64.8406,64.9669 ,65.0487,65.128,65.2049,65.3209,65.3957 ,65.5049,65.5749,65.6434,65.7429, 65.8387,65.9329,65.9945,66.0548,66.1136 ,66.1712,66.227,66.2818,66.3639,66.4437 ,66.4951,66.5456,66.62,66.6695,66.7178, 66.7647,66.8112,66.8572,66.9029,66.9477 ,67.013,67.0563,67.0989,67.1407,67.1812 ,67.221,66.9748,66.6246,66.2334,65.7371 ,65.4057,65.1074,65.0712,65.0155, 64.9754,64.9342,64.893,64.8524,64.8096, 64.7645,64.6949,64.6473,64.5983,64.5473 ,64.467,64.3858,64.3292,64.2702,64.2096 ,64.1144,64.0551,63.99,63.9233,63.8547, 63.7807,63.7043,63.6289,63.5156,63.4377 ,63.3573,63.2736,63.1447,63.01,62.9166, 62.8215,62.7258,62.6287,62.5277,62.4244 ,62.3151,62.2047,62.0902,61.9712, 61.8503,61.7247,61.5305,61.4689)
ORBIT_NUMBER = 2448
ORBITAL_ECCENTRICITY = 0.572
ORBITAL_INCLINATION = 86.64
ORBITAL_SEMIMAJOR_AXIS = 8535.62
PERIAPSIS_ALTITUDE = 274.09
PERIAPSIS_ARGUMENT_ANGLE = 287.97
PERIAPSIS_TIME = 2005-12-09T04:00:21.000Z
SPACECRAFT_ORIENTATION = (0.0,-1.0,0.0)
^MEX_ORIENTATION_DESC = "MEX_ORIENTATION_DESC.TXT"
SPACECRAFT_POINTING_MODE = ACROSSTRACK
^MEX_POINTING_DESC = "MEX_POINTING_DESC.TXT"
RIGHT_ASCENSION = -1e+32
DECLINATION = -1e+32
OFFSET_ANGLE = 0.16
SPACECRAFT_SOLAR_DISTANCE = 2.24618e+08
TARGET_NAME = MARS
/* CAMERA DATA ELEMENTS */
DETECTOR_TEMPERATURE = 18.3705
FOCAL_PLANE_TEMPERATURE = 6.7482
INST_CMPRS_NAME = "DISCRETE COSINE TRANSFORMATION (DCT)"
INST_CMPRS_RATIO = 10.4742
INST_CMPRS_QUALITY = 0
INST_CMPRS_QUANTZ_TBL_ID = 0
INSTRUMENT_TEMPERATURE = 11.234
LENS_TEMPERATURE = 8.1755
MACROPIXEL_SIZE = 2
MISSING_FRAMES = 0
PIXEL_SUBSAMPLING_FLAG = N
SIGNAL_CHAIN_ID = 1
/* RADIOMETRIC DATA ELEMENTS */
BANDWIDTH = 178.0
CENTER_FILTER_WAVELENGTH = 679.0
RADIANCE_OFFSET = 3.97086
RADIANCE_SCALING_FACTOR = 0.0182415
REFLECTANCE_SCALING_FACTOR = 0.000487393
MEX:REFLECTANCE_OFFSET = 0.106097
/* IMAGE OBJECT DEFINITIONS */
OBJECT = IMAGE
  INTERCHANGE_FORMAT = BINARY
  LINES = 36901
  LINE_SAMPLES = 6140
  SAMPLE_TYPE = UNSIGNED_INTEGER
  SAMPLE_BITS = 8
  BANDS = 1
  BAND_STORAGE_TYPE = BAND_SEQUENTIAL
  MAXIMUM = 255
  MEAN = 109.48
  MINIMUM = 1
  STANDARD_DEVIATION = 50.3704
END_OBJECT = IMAGE
/* MAP OBJECT DEFINITIONS */
OBJECT = IMAGE_MAP_PROJECTION
  ^DATA_SET_MAP_PROJECTION_CATALOG= "DSMAP.CAT"
  A_AXIS_RADIUS = 3396.0
  B_AXIS_RADIUS = 3396.0
  C_AXIS_RADIUS = 3396.0
  CENTER_LATITUDE = 0.0
  CENTER_LONGITUDE = 65.0
  COORDINATE_SYSTEM_NAME = PLANETOGRAPHIC
  COORDINATE_SYSTEM_TYPE = "BODY-FIXED ROTATING"
  EASTERNMOST_LONGITUDE = 67.221
  FIRST_STANDARD_PARALLEL = "N/A"
  LINE_FIRST_PIXEL = 1
  LINE_LAST_PIXEL = 36901
  LINE_PROJECTION_OFFSET = -127082.25
  MAP_PROJECTION_ROTATION = 0.0
  MAP_PROJECTION_TYPE = SINUSOIDAL
  MAP_RESOLUTION = 2370.85521546667
  MAP_SCALE = 0.025
  MAXIMUM_LATITUDE = -53.6459
  MINIMUM_LATITUDE = -69.1521
  POSITIVE_LONGITUDE_DIRECTION = EAST
  REFERENCE_LATITUDE = "N/A"
  REFERENCE_LONGITUDE = "N/A"
  SAMPLE_FIRST_PIXEL = 1
  SAMPLE_LAST_PIXEL = 6140
  SAMPLE_PROJECTION_OFFSET = 3129.75
  SECOND_STANDARD_PARALLEL = "N/A"
  WESTERNMOST_LONGITUDE = 61.4689
END_OBJECT = IMAGE_MAP_PROJECTION
/* The JPEG2000 image data file associated with this label. */
OBJECT = COMPRESSED_FILE
  FILE_NAME = "H2448_0000_S23.JP2"
  RECORD_TYPE = UNDEFINED
  FILE_RECORDS = UNK
  ENCODING_TYPE = "JP2"
  INTERCHANGE_FORMAT = BINARY
  UNCOMPRESSED_FILE_NAME = "H2448_0000_S23.IMG"
  REQUIRED_STORAGE_BYTES = "226602840"
  ^DESCRIPTION = "JP2INFO.TXT"
END_OBJECT = COMPRESSED_FILE
END
