PDS_VERSION_ID = PDS3
/* FILE DATA ELEMENTS */
RECORD_TYPE = STREAM
/* POINTERS TO DATA OBJECTS */
^COMPRESSED_FILE = "H2449_0000_P23.JP2"
/* IDENTIFICATION DATA ELEMENTS */
DATA_SET_ID = "MEX-M-HRSC-5-REFDR-MAPPROJECTED-V3.0"
DATA_SET_NAME = "MARS EXPRESS HRSC MAP PROJECTED REFDR V3.0"
DETECTOR_ID = MEX_HRSC_P2
EVENT_TYPE = "MARS-REGIONAL-MAPPING-Im-Fl-Gl"
INSTRUMENT_HOST_ID = MEX
INSTRUMENT_HOST_NAME = "MARS EXPRESS"
INSTRUMENT_ID = HRSC
INSTRUMENT_NAME = "HIGH RESOLUTION STEREO CAMERA"
MISSION_NAME = "MARS EXPRESS"
MISSION_PHASE_NAME = ME_Phase_1
PROCESSING_LEVEL_ID = 3
PRODUCT_CREATION_TIME = 2016-04-06T10:39:59.000Z
PRODUCT_ID = "H2449_0000_P23.JP2"
RELEASE_ID = 0030
REVISION_ID = 0000
/* QUALITY DATA ELEMENTS */
DATA_QUALITY_ID = 1
DATA_QUALITY_DESC = "Data calculated based on original SPICE kernels"
/* TIME DATA ELEMENTS */
SPACECRAFT_CLOCK_START_COUNT = "1/0082205010.57156"
SPACECRAFT_CLOCK_STOP_COUNT = "1/0082205314.14751"
START_TIME = 2005-12-09T10:44:17.275Z
STOP_TIME = 2005-12-09T10:48:27.617Z
/* ORBITAL DATA ELEMENTS */
ASCENDING_NODE_LONGITUDE = 176.85
MAXIMUM_RESOLUTION = 45.2
FOOTPRINT_POINT_LATITUDE = (-69.013,-69.0493,-69.1456,-68.842, -68.5385,-68.2357,-67.7818,-67.4792, -67.026,-66.7237,-66.4215,-66.1202, -65.8184,-65.5173,-65.0659,-64.5989, -64.2864,-63.9749,-63.6631,-63.3507, -63.0447,-62.5832,-62.2739,-61.9595, -61.6387,-61.3161,-60.9843,-60.667, -60.3571,-60.0362,-59.711,-59.3772, -59.0507,-58.7225,-58.3947,-58.067, -57.7283,-57.3882,-56.8773,-56.5416, -56.1972,-55.8496,-55.5141,-55.1692, -54.8146,-54.4618,-54.1032,-53.7496, -53.3954,-53.0422,-52.9941,-52.964, -53.3094,-53.6617,-54.1882,-54.7224, -55.0645,-55.4043,-55.7523,-56.0969, -56.4386,-56.7774,-57.1177,-57.4565, -57.7951,-58.1263,-58.451,-58.774, -59.2686,-59.5998,-59.9269,-60.4021, -60.7188,-61.0363,-61.3553,-61.6754, -61.9937,-62.3029,-62.6182,-63.0757, -63.3853,-63.6946,-64.0059,-64.3166, -64.6274,-64.9371,-65.2364,-65.5364, -65.8365,-66.1364,-66.4359,-66.736, -67.0365,-67.4869,-67.7875,-68.0882, -68.3878,-68.6931,-68.9913,-69.013)
FOOTPRINT_POINT_LONGITUDE = (324.755,325.481,326.271,326.376, 326.478,326.577,326.719,326.811,326.944 ,327.029,327.111,327.192,327.27,327.346 ,327.457,327.566,327.637,327.706, 327.773,327.838,327.906,328.001,328.062 ,328.121,328.18,328.236,328.283,328.34, 328.4,328.451,328.501,328.55,328.602, 328.651,328.699,328.745,328.791,328.835 ,328.898,328.942,328.984,329.026, 329.074,329.115,329.152,329.194,329.23, 329.268,329.305,329.341,328.497,327.553 ,327.238,327.202,327.148,327.086, 327.052,327.015,326.969,326.926,326.88, 326.831,326.779,326.728,326.675,326.624 ,326.574,326.524,326.437,326.375, 326.311,326.222,326.161,326.098,326.031 ,325.961,325.891,325.819,325.738, 325.632,325.553,325.473,325.388,325.301 ,325.212,325.12,325.029,324.934,324.836 ,324.736,324.634,324.528,324.418, 324.247,324.129,324.006,323.882,323.743 ,323.613,324.755)
ORBIT_NUMBER = 2449
ORBITAL_ECCENTRICITY = 0.572
ORBITAL_INCLINATION = 86.64
ORBITAL_SEMIMAJOR_AXIS = 8533.17
PERIAPSIS_ALTITUDE = 274.91
PERIAPSIS_ARGUMENT_ANGLE = 287.8
PERIAPSIS_TIME = 2005-12-09T10:43:19.000Z
SPACECRAFT_ORIENTATION = (0.0,-1.0,0.0)
^MEX_ORIENTATION_DESC = "MEX_ORIENTATION_DESC.TXT"
SPACECRAFT_POINTING_MODE = NADIR
^MEX_POINTING_DESC = "MEX_POINTING_DESC.TXT"
RIGHT_ASCENSION = -1e+32
DECLINATION = -1e+32
OFFSET_ANGLE = -1e+32
SPACECRAFT_SOLAR_DISTANCE = 2.24673e+08
TARGET_NAME = MARS
/* CAMERA DATA ELEMENTS */
DETECTOR_TEMPERATURE = 18.1666
FOCAL_PLANE_TEMPERATURE = 8.5833
INST_CMPRS_NAME = "DISCRETE COSINE TRANSFORMATION (DCT)"
INST_CMPRS_RATIO = 11.0247
INST_CMPRS_QUALITY = 0
INST_CMPRS_QUANTZ_TBL_ID = 0
INSTRUMENT_TEMPERATURE = 10.6223
LENS_TEMPERATURE = 8.5833
MACROPIXEL_SIZE = 4
MISSING_FRAMES = 0
PIXEL_SUBSAMPLING_FLAG = N
SIGNAL_CHAIN_ID = 3
/* RADIOMETRIC DATA ELEMENTS */
BANDWIDTH = 177.0
CENTER_FILTER_WAVELENGTH = 676.5
RADIANCE_OFFSET = 3.37431
RADIANCE_SCALING_FACTOR = 0.0153038
REFLECTANCE_SCALING_FACTOR = 0.000409596
MEX:REFLECTANCE_OFFSET = 0.0903113
/* IMAGE OBJECT DEFINITIONS */
OBJECT = IMAGE
  INTERCHANGE_FORMAT = BINARY
  LINES = 19205
  LINE_SAMPLES = 3113
  SAMPLE_TYPE = UNSIGNED_INTEGER
  SAMPLE_BITS = 8
  BANDS = 1
  BAND_STORAGE_TYPE = BAND_SEQUENTIAL
  MAXIMUM = 255
  MEAN = 122.076
  MINIMUM = 1
  STANDARD_DEVIATION = 39.4026
END_OBJECT = IMAGE
/* MAP OBJECT DEFINITIONS */
OBJECT = IMAGE_MAP_PROJECTION
  ^DATA_SET_MAP_PROJECTION_CATALOG= "DSMAP.CAT"
  A_AXIS_RADIUS = 3396.0
  B_AXIS_RADIUS = 3396.0
  C_AXIS_RADIUS = 3396.0
  CENTER_LATITUDE = 0.0
  CENTER_LONGITUDE = 327.0
  COORDINATE_SYSTEM_NAME = PLANETOGRAPHIC
  COORDINATE_SYSTEM_TYPE = "BODY-FIXED ROTATING"
  EASTERNMOST_LONGITUDE = 329.341
  FIRST_STANDARD_PARALLEL = "N/A"
  LINE_FIRST_PIXEL = 1
  LINE_LAST_PIXEL = 19205
  LINE_PROJECTION_OFFSET = -62761.875
  MAP_PROJECTION_ROTATION = 0.0
  MAP_PROJECTION_TYPE = SINUSOIDAL
  MAP_RESOLUTION = 1185.42760773333
  MAP_SCALE = 0.05
  MAXIMUM_LATITUDE = -52.964
  MINIMUM_LATITUDE = -69.1456
  POSITIVE_LONGITUDE_DIRECTION = EAST
  REFERENCE_LATITUDE = "N/A"
  REFERENCE_LONGITUDE = "N/A"
  SAMPLE_FIRST_PIXEL = 1
  SAMPLE_LAST_PIXEL = 3113
  SAMPLE_PROJECTION_OFFSET = 1452.375
  SECOND_STANDARD_PARALLEL = "N/A"
  WESTERNMOST_LONGITUDE = 323.613
END_OBJECT = IMAGE_MAP_PROJECTION
/* The JPEG2000 image data file associated with this label. */
OBJECT = COMPRESSED_FILE
  FILE_NAME = "H2449_0000_P23.JP2"
  RECORD_TYPE = UNDEFINED
  FILE_RECORDS = UNK
  ENCODING_TYPE = "JP2"
  INTERCHANGE_FORMAT = BINARY
  UNCOMPRESSED_FILE_NAME = "H2449_0000_P23.IMG"
  REQUIRED_STORAGE_BYTES = "59810069"
  ^DESCRIPTION = "JP2INFO.TXT"
END_OBJECT = COMPRESSED_FILE
END
