PDS_VERSION_ID = PDS3
/* FILE DATA ELEMENTS */
RECORD_TYPE = STREAM
/* POINTERS TO DATA OBJECTS */
^COMPRESSED_FILE = "H2451_0000_IR3.JP2"
/* IDENTIFICATION DATA ELEMENTS */
DATA_SET_ID = "MEX-M-HRSC-5-REFDR-MAPPROJECTED-V3.0"
DATA_SET_NAME = "MARS EXPRESS HRSC MAP PROJECTED REFDR V3.0"
DETECTOR_ID = MEX_HRSC_IR
EVENT_TYPE = "MARS-REGIONAL-MAPPING-Te-Fl-Gl"
INSTRUMENT_HOST_ID = MEX
INSTRUMENT_HOST_NAME = "MARS EXPRESS"
INSTRUMENT_ID = HRSC
INSTRUMENT_NAME = "HIGH RESOLUTION STEREO CAMERA"
MISSION_NAME = "MARS EXPRESS"
MISSION_PHASE_NAME = ME_Phase_1
PROCESSING_LEVEL_ID = 3
PRODUCT_CREATION_TIME = 2016-04-06T10:39:59.000Z
PRODUCT_ID = "H2451_0000_IR3.JP2"
RELEASE_ID = 0030
REVISION_ID = 0000
/* QUALITY DATA ELEMENTS */
DATA_QUALITY_ID = 1
DATA_QUALITY_DESC = "Data calculated based on original SPICE kernels"
/* TIME DATA ELEMENTS */
SPACECRAFT_CLOCK_START_COUNT = "1/0082253414.57144"
SPACECRAFT_CLOCK_STOP_COUNT = "1/0082253732.40057"
START_TIME = 2005-12-10T00:10:25.993Z
STOP_TIME = 2005-12-10T00:14:34.048Z
/* ORBITAL DATA ELEMENTS */
ASCENDING_NODE_LONGITUDE = 176.81
MAXIMUM_RESOLUTION = 45.9
FOOTPRINT_POINT_LATITUDE = (-66.4011,-66.4336,-66.464,-66.4935, -66.2789,-65.9804,-65.6796,-65.226, -64.9234,-64.6198,-64.3179,-64.0155, -63.7119,-63.4096,-63.1057,-62.7931, -62.4781,-62.1638,-61.8492,-61.3778, -61.0626,-60.5915,-60.2773,-59.9625, -59.6365,-59.1473,-58.6579,-58.3316, -58.0054,-57.6796,-57.3434,-57.0068, -56.6691,-56.3307,-55.823,-55.3041, -54.9556,-54.7158,-54.3679,-54.0207, -53.6632,-53.2986,-52.9378,-52.571, -52.2136,-51.8454,-51.467,-51.1009, -50.7282,-50.3577,-49.9883,-49.7458, -49.7353,-49.7254,-49.7056,-50.0637, -50.6173,-51.1738,-51.5423,-51.9131, -52.4648,-53.0033,-53.5433,-53.9039, -54.248,-54.6001,-54.8402,-55.1862, -55.7083,-56.0421,-56.3835,-56.7211, -57.0578,-57.3907,-57.8846,-58.2093, -58.5347,-58.8602,-59.3503,-59.6769, -59.9994,-60.3113,-60.6255,-60.9389, -61.2512,-61.5645,-61.8773,-62.1896, -62.5034,-62.817,-63.1246,-63.4235, -63.7238,-64.0251,-64.3273,-64.775, -65.225,-65.5252,-65.9747,-66.4011)
FOOTPRINT_POINT_LONGITUDE = (128.764,129.416,130.095,130.842, 130.982,131.052,131.124,131.231,131.3, 131.369,131.434,131.497,131.561,131.621 ,131.682,131.741,131.8,131.856,131.911, 131.991,132.043,132.117,132.166,132.214 ,132.261,132.331,132.398,132.442, 132.485,132.526,132.567,132.607,132.647 ,132.687,132.745,132.802,132.838, 132.862,132.897,132.93,132.964,133.002, 133.036,133.074,133.1,133.129,133.166, 133.193,133.224,133.253,133.281,133.137 ,132.666,132.304,131.692,131.336, 131.294,131.25,131.219,131.187,131.138, 131.087,131.033,130.996,130.958,130.92, 130.893,130.851,130.789,130.746,130.703 ,130.658,130.611,130.562,130.489, 130.438,130.387,130.334,130.252,130.195 ,130.138,130.079,130.019,129.957, 129.894,129.828,129.761,129.691,129.62, 129.547,129.473,129.398,129.321,129.242 ,129.161,129.033,128.901,128.809, 128.667,128.764)
ORBIT_NUMBER = 2451
ORBITAL_ECCENTRICITY = 0.572
ORBITAL_INCLINATION = 86.62
ORBITAL_SEMIMAJOR_AXIS = 8536.05
PERIAPSIS_ALTITUDE = 275.11
PERIAPSIS_ARGUMENT_ANGLE = 287.44
PERIAPSIS_TIME = 2005-12-10T00:09:17.000Z
SPACECRAFT_ORIENTATION = (0.0,-1.0,0.0)
^MEX_ORIENTATION_DESC = "MEX_ORIENTATION_DESC.TXT"
SPACECRAFT_POINTING_MODE = ACROSSTRACK
^MEX_POINTING_DESC = "MEX_POINTING_DESC.TXT"
RIGHT_ASCENSION = -1e+32
DECLINATION = -1e+32
OFFSET_ANGLE = -0.13
SPACECRAFT_SOLAR_DISTANCE = 2.24782e+08
TARGET_NAME = MARS
/* CAMERA DATA ELEMENTS */
DETECTOR_TEMPERATURE = 17.7588
FOCAL_PLANE_TEMPERATURE = 8.7872
INST_CMPRS_NAME = "DISCRETE COSINE TRANSFORMATION (DCT)"
INST_CMPRS_RATIO = 14.5354
INST_CMPRS_QUALITY = 0
INST_CMPRS_QUANTZ_TBL_ID = 0
INSTRUMENT_TEMPERATURE = 11.4379
LENS_TEMPERATURE = 9.195
MACROPIXEL_SIZE = 4
MISSING_FRAMES = 10
PIXEL_SUBSAMPLING_FLAG = N
SIGNAL_CHAIN_ID = 2
/* RADIOMETRIC DATA ELEMENTS */
BANDWIDTH = 81.0
CENTER_FILTER_WAVELENGTH = 955.5
RADIANCE_OFFSET = 0.670098
RADIANCE_SCALING_FACTOR = 0.00454818
REFLECTANCE_SCALING_FACTOR = 0.00049578
MEX:REFLECTANCE_OFFSET = 0.0730449
/* IMAGE OBJECT DEFINITIONS */
OBJECT = IMAGE
  INTERCHANGE_FORMAT = BINARY
  LINES = 19814
  LINE_SAMPLES = 2948
  SAMPLE_TYPE = UNSIGNED_INTEGER
  SAMPLE_BITS = 8
  BANDS = 1
  BAND_STORAGE_TYPE = BAND_SEQUENTIAL
  MAXIMUM = 255
  MEAN = 112.607
  MINIMUM = 1
  STANDARD_DEVIATION = 35.2447
END_OBJECT = IMAGE
/* MAP OBJECT DEFINITIONS */
OBJECT = IMAGE_MAP_PROJECTION
  ^DATA_SET_MAP_PROJECTION_CATALOG= "DSMAP.CAT"
  A_AXIS_RADIUS = 3396.0
  B_AXIS_RADIUS = 3396.0
  C_AXIS_RADIUS = 3396.0
  CENTER_LATITUDE = 0.0
  CENTER_LONGITUDE = 131.0
  COORDINATE_SYSTEM_NAME = PLANETOGRAPHIC
  COORDINATE_SYSTEM_TYPE = "BODY-FIXED ROTATING"
  EASTERNMOST_LONGITUDE = 133.281
  FIRST_STANDARD_PARALLEL = "N/A"
  LINE_FIRST_PIXEL = 1
  LINE_LAST_PIXEL = 19814
  LINE_PROJECTION_OFFSET = -58935.875
  MAP_PROJECTION_ROTATION = 0.0
  MAP_PROJECTION_TYPE = SINUSOIDAL
  MAP_RESOLUTION = 1185.42760773333
  MAP_SCALE = 0.05
  MAXIMUM_LATITUDE = -49.7056
  MINIMUM_LATITUDE = -66.4935
  POSITIVE_LONGITUDE_DIRECTION = EAST
  REFERENCE_LATITUDE = "N/A"
  REFERENCE_LONGITUDE = "N/A"
  SAMPLE_FIRST_PIXEL = 1
  SAMPLE_LAST_PIXEL = 2948
  SAMPLE_PROJECTION_OFFSET = 1149.625
  SECOND_STANDARD_PARALLEL = "N/A"
  WESTERNMOST_LONGITUDE = 128.667
END_OBJECT = IMAGE_MAP_PROJECTION
/* The JPEG2000 image data file associated with this label. */
OBJECT = COMPRESSED_FILE
  FILE_NAME = "H2451_0000_IR3.JP2"
  RECORD_TYPE = UNDEFINED
  FILE_RECORDS = UNK
  ENCODING_TYPE = "JP2"
  INTERCHANGE_FORMAT = BINARY
  UNCOMPRESSED_FILE_NAME = "H2451_0000_IR3.IMG"
  REQUIRED_STORAGE_BYTES = "58435256"
  ^DESCRIPTION = "JP2INFO.TXT"
END_OBJECT = COMPRESSED_FILE
END
