PDS_VERSION_ID = PDS3
/* FILE DATA ELEMENTS */
RECORD_TYPE = STREAM
/* POINTERS TO DATA OBJECTS */
^COMPRESSED_FILE = "H2451_0000_P13.JP2"
/* IDENTIFICATION DATA ELEMENTS */
DATA_SET_ID = "MEX-M-HRSC-5-REFDR-MAPPROJECTED-V3.0"
DATA_SET_NAME = "MARS EXPRESS HRSC MAP PROJECTED REFDR V3.0"
DETECTOR_ID = MEX_HRSC_P1
EVENT_TYPE = "MARS-REGIONAL-MAPPING-Te-Fl-Gl"
INSTRUMENT_HOST_ID = MEX
INSTRUMENT_HOST_NAME = "MARS EXPRESS"
INSTRUMENT_ID = HRSC
INSTRUMENT_NAME = "HIGH RESOLUTION STEREO CAMERA"
MISSION_NAME = "MARS EXPRESS"
MISSION_PHASE_NAME = ME_Phase_1
PROCESSING_LEVEL_ID = 3
PRODUCT_CREATION_TIME = 2016-04-06T10:39:59.000Z
PRODUCT_ID = "H2451_0000_P13.JP2"
RELEASE_ID = 0030
REVISION_ID = 0000
/* QUALITY DATA ELEMENTS */
DATA_QUALITY_ID = 1
DATA_QUALITY_DESC = "Data calculated based on original SPICE kernels"
/* TIME DATA ELEMENTS */
SPACECRAFT_CLOCK_START_COUNT = "1/0082253414.57144"
SPACECRAFT_CLOCK_STOP_COUNT = "1/0082253732.40057"
START_TIME = 2005-12-10T00:10:30.004Z
STOP_TIME = 2005-12-10T00:14:39.339Z
/* ORBITAL DATA ELEMENTS */
ASCENDING_NODE_LONGITUDE = 176.81
MAXIMUM_RESOLUTION = 45.2
FOOTPRINT_POINT_LATITUDE = (-66.4322,-66.4336,-66.1358,-65.8362, -65.535,-65.2332,-64.9315,-64.6289, -64.3278,-64.0264,-63.7237,-63.4226, -62.9545,-62.484,-62.1705,-61.8573, -61.3874,-61.0739,-60.7601,-60.448, -60.1302,-59.805,-59.4803,-59.1558, -58.8311,-58.5065,-58.0198,-57.6865, -57.3504,-57.0155,-56.6797,-56.3436, -56.0071,-55.6604,-55.3131,-54.8482, -54.5041,-54.1522,-53.6163,-53.2562, -52.8985,-52.5302,-52.1675,-51.8011, -51.4272,-50.8789,-50.5113,-50.1447, -49.7784,-49.7441,-49.7212,-49.7038, -50.0696,-50.435,-50.8022,-51.3515, -51.7191,-52.0868,-52.4544,-52.8174, -53.1743,-53.5316,-53.8898,-54.2428, -54.5917,-54.9368,-55.2287,-55.5764, -55.9196,-56.2578,-56.5931,-56.9283, -57.2603,-57.596,-57.9281,-58.2514, -58.7372,-59.0609,-59.3867,-59.7111, -60.1959,-60.509,-60.8212,-61.1326, -61.4444,-61.7564,-62.0678,-62.38, -62.6926,-63.0057,-63.313,-63.6127, -64.0639,-64.3645,-64.8114,-65.2606, -65.5601,-66.0094,-66.3094,-66.4322)
FOOTPRINT_POINT_LONGITUDE = (129.585,130.941,131.012,131.083, 131.156,131.227,131.296,131.365,131.43, 131.493,131.557,131.617,131.709,131.797 ,131.854,131.908,131.988,132.04,132.091 ,132.139,132.188,132.237,132.284,132.33 ,132.375,132.419,132.483,132.525, 132.567,132.607,132.647,132.687,132.726 ,132.765,132.802,132.851,132.883,132.92 ,132.972,133.008,133.042,133.08,133.106 ,133.136,133.173,133.215,133.244, 133.273,133.3,132.628,131.865,131.352, 131.326,131.299,131.271,131.226,131.195 ,131.163,131.13,131.096,131.062,131.026 ,130.99,130.95,130.914,130.874,130.84, 130.799,130.754,130.713,130.668,130.623 ,130.574,130.526,130.475,130.425, 130.348,130.294,130.24,130.183,130.094, 130.036,129.975,129.912,129.848,129.782 ,129.713,129.643,129.571,129.497,129.42 ,129.344,129.227,129.146,129.018, 128.886,128.795,128.652,128.554, 129.585)
ORBIT_NUMBER = 2451
ORBITAL_ECCENTRICITY = 0.572
ORBITAL_INCLINATION = 86.62
ORBITAL_SEMIMAJOR_AXIS = 8536.05
PERIAPSIS_ALTITUDE = 275.11
PERIAPSIS_ARGUMENT_ANGLE = 287.44
PERIAPSIS_TIME = 2005-12-10T00:09:17.000Z
SPACECRAFT_ORIENTATION = (0.0,-1.0,0.0)
^MEX_ORIENTATION_DESC = "MEX_ORIENTATION_DESC.TXT"
SPACECRAFT_POINTING_MODE = ACROSSTRACK
^MEX_POINTING_DESC = "MEX_POINTING_DESC.TXT"
RIGHT_ASCENSION = -1e+32
DECLINATION = -1e+32
OFFSET_ANGLE = -0.13
SPACECRAFT_SOLAR_DISTANCE = 2.24782e+08
TARGET_NAME = MARS
/* CAMERA DATA ELEMENTS */
DETECTOR_TEMPERATURE = 17.7588
FOCAL_PLANE_TEMPERATURE = 8.7872
INST_CMPRS_NAME = "DISCRETE COSINE TRANSFORMATION (DCT)"
INST_CMPRS_RATIO = 22.7617
INST_CMPRS_QUALITY = 0
INST_CMPRS_QUANTZ_TBL_ID = 0
INSTRUMENT_TEMPERATURE = 11.4379
LENS_TEMPERATURE = 9.195
MACROPIXEL_SIZE = 4
MISSING_FRAMES = 18
PIXEL_SUBSAMPLING_FLAG = N
SIGNAL_CHAIN_ID = 3
/* RADIOMETRIC DATA ELEMENTS */
BANDWIDTH = 174.0
CENTER_FILTER_WAVELENGTH = 675.0
RADIANCE_OFFSET = 3.10604
RADIANCE_SCALING_FACTOR = 0.0155177
REFLECTANCE_SCALING_FACTOR = 0.000421731
MEX:REFLECTANCE_OFFSET = 0.0844143
/* IMAGE OBJECT DEFINITIONS */
OBJECT = IMAGE
  INTERCHANGE_FORMAT = BINARY
  LINES = 19814
  LINE_SAMPLES = 2948
  SAMPLE_TYPE = UNSIGNED_INTEGER
  SAMPLE_BITS = 8
  BANDS = 1
  BAND_STORAGE_TYPE = BAND_SEQUENTIAL
  MAXIMUM = 255
  MEAN = 118.262
  MINIMUM = 1
  STANDARD_DEVIATION = 34.8062
END_OBJECT = IMAGE
/* MAP OBJECT DEFINITIONS */
OBJECT = IMAGE_MAP_PROJECTION
  ^DATA_SET_MAP_PROJECTION_CATALOG= "DSMAP.CAT"
  A_AXIS_RADIUS = 3396.0
  B_AXIS_RADIUS = 3396.0
  C_AXIS_RADIUS = 3396.0
  CENTER_LATITUDE = 0.0
  CENTER_LONGITUDE = 131.0
  COORDINATE_SYSTEM_NAME = PLANETOGRAPHIC
  COORDINATE_SYSTEM_TYPE = "BODY-FIXED ROTATING"
  EASTERNMOST_LONGITUDE = 133.3
  FIRST_STANDARD_PARALLEL = "N/A"
  LINE_FIRST_PIXEL = 1
  LINE_LAST_PIXEL = 19814
  LINE_PROJECTION_OFFSET = -58935.875
  MAP_PROJECTION_ROTATION = 0.0
  MAP_PROJECTION_TYPE = SINUSOIDAL
  MAP_RESOLUTION = 1185.42760773333
  MAP_SCALE = 0.05
  MAXIMUM_LATITUDE = -49.7038
  MINIMUM_LATITUDE = -66.4336
  POSITIVE_LONGITUDE_DIRECTION = EAST
  REFERENCE_LATITUDE = "N/A"
  REFERENCE_LONGITUDE = "N/A"
  SAMPLE_FIRST_PIXEL = 1
  SAMPLE_LAST_PIXEL = 2948
  SAMPLE_PROJECTION_OFFSET = 1149.625
  SECOND_STANDARD_PARALLEL = "N/A"
  WESTERNMOST_LONGITUDE = 128.554
END_OBJECT = IMAGE_MAP_PROJECTION
/* The JPEG2000 image data file associated with this label. */
OBJECT = COMPRESSED_FILE
  FILE_NAME = "H2451_0000_P13.JP2"
  RECORD_TYPE = UNDEFINED
  FILE_RECORDS = UNK
  ENCODING_TYPE = "JP2"
  INTERCHANGE_FORMAT = BINARY
  UNCOMPRESSED_FILE_NAME = "H2451_0000_P13.IMG"
  REQUIRED_STORAGE_BYTES = "58435256"
  ^DESCRIPTION = "JP2INFO.TXT"
END_OBJECT = COMPRESSED_FILE
END
