PDS_VERSION_ID = PDS3
/* FILE DATA ELEMENTS */
RECORD_TYPE = STREAM
/* POINTERS TO DATA OBJECTS */
^COMPRESSED_FILE = "H2451_0001_RE3.JP2"
/* IDENTIFICATION DATA ELEMENTS */
DATA_SET_ID = "MEX-M-HRSC-5-REFDR-MAPPROJECTED-V3.0"
DATA_SET_NAME = "MARS EXPRESS HRSC MAP PROJECTED REFDR V3.0"
DETECTOR_ID = MEX_HRSC_RED
EVENT_TYPE = "MARS-REGIONAL-MAPPING-Im-Fl"
INSTRUMENT_HOST_ID = MEX
INSTRUMENT_HOST_NAME = "MARS EXPRESS"
INSTRUMENT_ID = HRSC
INSTRUMENT_NAME = "HIGH RESOLUTION STEREO CAMERA"
MISSION_NAME = "MARS EXPRESS"
MISSION_PHASE_NAME = ME_Phase_1
PROCESSING_LEVEL_ID = 3
PRODUCT_CREATION_TIME = 2016-04-06T10:39:59.000Z
PRODUCT_ID = "H2451_0001_RE3.JP2"
RELEASE_ID = 0030
REVISION_ID = 0000
/* QUALITY DATA ELEMENTS */
DATA_QUALITY_ID = 1
DATA_QUALITY_DESC = "Data calculated based on original SPICE kernels"
/* TIME DATA ELEMENTS */
SPACECRAFT_CLOCK_START_COUNT = "1/0082253859.56191"
SPACECRAFT_CLOCK_STOP_COUNT = "1/0082254114.14102"
START_TIME = 2005-12-10T00:19:23.535Z
STOP_TIME = 2005-12-10T00:21:43.087Z
/* ORBITAL DATA ELEMENTS */
ASCENDING_NODE_LONGITUDE = 176.81
MAXIMUM_RESOLUTION = 97.4
FOOTPRINT_POINT_LATITUDE = (-36.6904,-36.6964,-36.6993,-36.702, -36.7046,-36.7074,-36.7097,-36.7133, -36.7152,-36.7169,-36.7184,-36.7197, -36.4938,-36.2353,-35.9114,-35.6501, -35.3866,-34.9885,-34.7218,-34.5867, -34.4516,-34.1816,-34.0447,-33.8394, -33.6394,-33.435,-33.2976,-33.1583, -33.0193,-32.8802,-32.7328,-32.5902, -32.3795,-32.2375,-32.0957,-31.953, -31.81,-31.6669,-31.5225,-31.3779, -31.2337,-31.0877,-30.8689,-30.6475, -30.5003,-30.352,-30.2032,-30.0544, -29.9043,-29.7863,-29.7879,-29.7886, -29.7884,-29.7891,-29.7891,-29.7922, -29.7888,-29.79,-29.7909,-29.7906, -29.7895,-29.7933,-30.0132,-30.1623, -30.3098,-30.4583,-30.6046,-30.7514, -30.8973,-31.1142,-31.2586,-31.4003, -31.5453,-31.6888,-31.8342,-32.0423, -32.1834,-32.3251,-32.5362,-32.677, -32.8178,-32.9563,-33.0935,-33.2346, -33.3738,-33.5114,-33.6478,-33.8496, -33.9866,-34.1928,-34.4602,-34.5957, -34.862,-35.2596,-35.5231,-35.8479, -36.043,-36.2355,-36.5562,-36.6904)
FOOTPRINT_POINT_LONGITUDE = (131.73,132.081,132.268,132.456,132.643 ,132.854,133.042,133.37,133.558,133.746 ,133.935,134.124,134.18,134.191,134.205 ,134.216,134.227,134.243,134.255, 134.259,134.265,134.276,134.281,134.289 ,134.3,134.31,134.315,134.321,134.326, 134.332,134.334,134.339,134.347,134.353 ,134.358,134.364,134.369,134.375,134.38 ,134.386,134.391,134.397,134.405, 134.413,134.419,134.424,134.43,134.435, 134.441,134.254,134.006,133.677,133.458 ,133.293,133.102,132.938,132.718, 132.445,132.28,132.034,131.815,131.503, 131.511,131.515,131.52,131.524,131.528, 131.532,131.536,131.542,131.545,131.55, 131.553,131.556,131.558,131.565,131.568 ,131.571,131.576,131.578,131.58,131.583 ,131.586,131.588,131.589,131.591, 131.594,131.598,131.6,131.601,131.605, 131.607,131.61,131.613,131.616,131.618, 131.62,131.621,131.623,131.73)
ORBIT_NUMBER = 2451
ORBITAL_ECCENTRICITY = 0.572
ORBITAL_INCLINATION = 86.62
ORBITAL_SEMIMAJOR_AXIS = 8536.05
PERIAPSIS_ALTITUDE = 275.11
PERIAPSIS_ARGUMENT_ANGLE = 287.44
PERIAPSIS_TIME = 2005-12-10T00:09:17.000Z
SPACECRAFT_ORIENTATION = (0.0,-1.0,0.0)
^MEX_ORIENTATION_DESC = "MEX_ORIENTATION_DESC.TXT"
SPACECRAFT_POINTING_MODE = ACROSSTRACK
^MEX_POINTING_DESC = "MEX_POINTING_DESC.TXT"
RIGHT_ASCENSION = -1e+32
DECLINATION = -1e+32
OFFSET_ANGLE = -0.13
SPACECRAFT_SOLAR_DISTANCE = 2.24782e+08
TARGET_NAME = MARS
/* CAMERA DATA ELEMENTS */
DETECTOR_TEMPERATURE = 20.4095
FOCAL_PLANE_TEMPERATURE = 8.9911
INST_CMPRS_NAME = "DISCRETE COSINE TRANSFORMATION (DCT)"
INST_CMPRS_RATIO = 15.5237
INST_CMPRS_QUALITY = 0
INST_CMPRS_QUANTZ_TBL_ID = 0
INSTRUMENT_TEMPERATURE = 13.0691
LENS_TEMPERATURE = 9.195
MACROPIXEL_SIZE = 4
MISSING_FRAMES = 0
PIXEL_SUBSAMPLING_FLAG = N
SIGNAL_CHAIN_ID = 2
/* RADIOMETRIC DATA ELEMENTS */
BANDWIDTH = 48.0
CENTER_FILTER_WAVELENGTH = 748.0
RADIANCE_OFFSET = 1.27171
RADIANCE_SCALING_FACTOR = 0.00443975
REFLECTANCE_SCALING_FACTOR = 0.000511933
MEX:REFLECTANCE_OFFSET = 0.146637
/* IMAGE OBJECT DEFINITIONS */
OBJECT = IMAGE
  INTERCHANGE_FORMAT = BINARY
  LINES = 4128
  LINE_SAMPLES = 1389
  SAMPLE_TYPE = UNSIGNED_INTEGER
  SAMPLE_BITS = 8
  BANDS = 1
  BAND_STORAGE_TYPE = BAND_SEQUENTIAL
  MAXIMUM = 255
  MEAN = 122.688
  MINIMUM = 1
  STANDARD_DEVIATION = 30.3465
END_OBJECT = IMAGE
/* MAP OBJECT DEFINITIONS */
OBJECT = IMAGE_MAP_PROJECTION
  ^DATA_SET_MAP_PROJECTION_CATALOG= "DSMAP.CAT"
  A_AXIS_RADIUS = 3396.0
  B_AXIS_RADIUS = 3396.0
  C_AXIS_RADIUS = 3396.0
  CENTER_LATITUDE = 0.0
  CENTER_LONGITUDE = 133.0
  COORDINATE_SYSTEM_NAME = PLANETOGRAPHIC
  COORDINATE_SYSTEM_TYPE = "BODY-FIXED ROTATING"
  EASTERNMOST_LONGITUDE = 134.441
  FIRST_STANDARD_PARALLEL = "N/A"
  LINE_FIRST_PIXEL = 1
  LINE_LAST_PIXEL = 4128
  LINE_PROJECTION_OFFSET = -17637.125
  MAP_PROJECTION_ROTATION = 0.0
  MAP_PROJECTION_TYPE = SINUSOIDAL
  MAP_RESOLUTION = 592.713803866667
  MAP_SCALE = 0.1
  MAXIMUM_LATITUDE = -29.7863
  MINIMUM_LATITUDE = -36.7197
  POSITIVE_LONGITUDE_DIRECTION = EAST
  REFERENCE_LATITUDE = "N/A"
  REFERENCE_LONGITUDE = "N/A"
  SAMPLE_FIRST_PIXEL = 1
  SAMPLE_LAST_PIXEL = 1389
  SAMPLE_PROJECTION_OFFSET = 711.375
  SECOND_STANDARD_PARALLEL = "N/A"
  WESTERNMOST_LONGITUDE = 131.503
END_OBJECT = IMAGE_MAP_PROJECTION
/* The JPEG2000 image data file associated with this label. */
OBJECT = COMPRESSED_FILE
  FILE_NAME = "H2451_0001_RE3.JP2"
  RECORD_TYPE = UNDEFINED
  FILE_RECORDS = UNK
  ENCODING_TYPE = "JP2"
  INTERCHANGE_FORMAT = BINARY
  UNCOMPRESSED_FILE_NAME = "H2451_0001_RE3.IMG"
  REQUIRED_STORAGE_BYTES = "5753238"
  ^DESCRIPTION = "JP2INFO.TXT"
END_OBJECT = COMPRESSED_FILE
END
