PDS_VERSION_ID = PDS3
/* FILE DATA ELEMENTS */
RECORD_TYPE = STREAM
/* POINTERS TO DATA OBJECTS */
^COMPRESSED_FILE = "H2451_0001_S13.JP2"
/* IDENTIFICATION DATA ELEMENTS */
DATA_SET_ID = "MEX-M-HRSC-5-REFDR-MAPPROJECTED-V3.0"
DATA_SET_NAME = "MARS EXPRESS HRSC MAP PROJECTED REFDR V3.0"
DETECTOR_ID = MEX_HRSC_S1
EVENT_TYPE = "MARS-REGIONAL-MAPPING-Im-Fl"
INSTRUMENT_HOST_ID = MEX
INSTRUMENT_HOST_NAME = "MARS EXPRESS"
INSTRUMENT_ID = HRSC
INSTRUMENT_NAME = "HIGH RESOLUTION STEREO CAMERA"
MISSION_NAME = "MARS EXPRESS"
MISSION_PHASE_NAME = ME_Phase_1
PROCESSING_LEVEL_ID = 3
PRODUCT_CREATION_TIME = 2016-04-06T10:39:59.000Z
PRODUCT_ID = "H2451_0001_S13.JP2"
RELEASE_ID = 0030
REVISION_ID = 0000
/* QUALITY DATA ELEMENTS */
DATA_QUALITY_ID = 1
DATA_QUALITY_DESC = "Data calculated based on original SPICE kernels"
/* TIME DATA ELEMENTS */
SPACECRAFT_CLOCK_START_COUNT = "1/0082253859.56191"
SPACECRAFT_CLOCK_STOP_COUNT = "1/0082254114.14102"
START_TIME = 2005-12-10T00:17:46.717Z
STOP_TIME = 2005-12-10T00:19:36.639Z
/* ORBITAL DATA ELEMENTS */
ASCENDING_NODE_LONGITUDE = 176.81
MAXIMUM_RESOLUTION = 41.9
FOOTPRINT_POINT_LATITUDE = (-36.7047,-36.7118,-36.7177,-36.7201, -36.7221,-36.7239,-36.7252,-36.7263, -36.727,-36.7274,-36.7274,-36.5016, -36.2454,-36.0509,-35.7267,-35.467, -35.3344,-35.0706,-34.8061,-34.6718, -34.5374,-34.3363,-34.2022,-34.0673, -33.93,-33.7936,-33.6516,-33.5112, -33.3038,-33.1641,-33.0249,-32.6847, -32.4722,-32.3302,-32.1176,-31.9733, -31.829,-31.6849,-31.5413,-31.3957, -31.1768,-31.0296,-30.8834,-30.7368, -30.5878,-30.4394,-30.2153,-30.0646, -29.9149,-29.7297,-29.7311,-29.7322, -29.7333,-29.7327,-29.7291,-29.7288, -29.7309,-29.7272,-29.7245,-29.7216, -29.7942,-29.9443,-30.1636,-30.3143, -30.5407,-30.7616,-30.9093,-31.0566, -31.2032,-31.3503,-31.4971,-31.6408, -31.7842,-31.9992,-32.1422,-32.3538, -32.495,-32.637,-32.7789,-32.9162, -33.0563,-33.196,-33.3336,-33.4712, -33.6065,-33.743,-33.8772,-34.0757, -34.2107,-34.3486,-34.4832,-34.6167, -34.8168,-35.0797,-35.3434,-35.7344, -36.0583,-36.2518,-36.5061,-36.7047)
FOOTPRINT_POINT_LONGITUDE = (131.973,132.302,132.631,132.796, 132.961,133.126,133.291,133.457,133.622 ,133.788,133.954,133.983,133.992, 133.998,134.009,134.017,134.021,134.029 ,134.037,134.041,134.045,134.051, 134.055,134.059,134.063,134.067,134.073 ,134.078,134.084,134.088,134.092, 134.098,134.103,134.107,134.113,134.117 ,134.121,134.125,134.128,134.132, 134.138,134.142,134.145,134.148,134.152 ,134.156,134.161,134.165,134.168,134.01 ,133.777,133.615,133.406,133.22,132.942 ,132.78,132.618,132.41,132.201,132.039, 131.778,131.781,131.783,131.785,131.79, 131.793,131.795,131.797,131.799,131.802 ,131.804,131.805,131.807,131.809, 131.811,131.813,131.814,131.815,131.817 ,131.817,131.818,131.82,131.82,131.821, 131.821,131.822,131.822,131.821,131.821 ,131.823,131.823,131.823,131.823, 131.823,131.823,131.822,131.821,131.821 ,131.82,131.973)
ORBIT_NUMBER = 2451
ORBITAL_ECCENTRICITY = 0.572
ORBITAL_INCLINATION = 86.62
ORBITAL_SEMIMAJOR_AXIS = 8536.05
PERIAPSIS_ALTITUDE = 275.11
PERIAPSIS_ARGUMENT_ANGLE = 287.44
PERIAPSIS_TIME = 2005-12-10T00:09:17.000Z
SPACECRAFT_ORIENTATION = (0.0,-1.0,0.0)
^MEX_ORIENTATION_DESC = "MEX_ORIENTATION_DESC.TXT"
SPACECRAFT_POINTING_MODE = ACROSSTRACK
^MEX_POINTING_DESC = "MEX_POINTING_DESC.TXT"
RIGHT_ASCENSION = -1e+32
DECLINATION = -1e+32
OFFSET_ANGLE = -0.13
SPACECRAFT_SOLAR_DISTANCE = 2.24782e+08
TARGET_NAME = MARS
/* CAMERA DATA ELEMENTS */
DETECTOR_TEMPERATURE = 18.7783
FOCAL_PLANE_TEMPERATURE = 8.9911
INST_CMPRS_NAME = "DISCRETE COSINE TRANSFORMATION (DCT)"
INST_CMPRS_RATIO = 10.0202
INST_CMPRS_QUALITY = 0
INST_CMPRS_QUANTZ_TBL_ID = 0
INSTRUMENT_TEMPERATURE = 13.0691
LENS_TEMPERATURE = 9.195
MACROPIXEL_SIZE = 2
MISSING_FRAMES = 0
PIXEL_SUBSAMPLING_FLAG = N
SIGNAL_CHAIN_ID = 1
/* RADIOMETRIC DATA ELEMENTS */
BANDWIDTH = 180.0
CENTER_FILTER_WAVELENGTH = 677.0
RADIANCE_OFFSET = 4.74258
RADIANCE_SCALING_FACTOR = 0.0152548
REFLECTANCE_SCALING_FACTOR = 0.000402141
MEX:REFLECTANCE_OFFSET = 0.125022
/* IMAGE OBJECT DEFINITIONS */
OBJECT = IMAGE
  INTERCHANGE_FORMAT = BINARY
  LINES = 8255
  LINE_SAMPLES = 2778
  SAMPLE_TYPE = UNSIGNED_INTEGER
  SAMPLE_BITS = 8
  BANDS = 1
  BAND_STORAGE_TYPE = BAND_SEQUENTIAL
  MAXIMUM = 255
  MEAN = 127.188
  MINIMUM = 1
  STANDARD_DEVIATION = 27.8479
END_OBJECT = IMAGE
/* MAP OBJECT DEFINITIONS */
OBJECT = IMAGE_MAP_PROJECTION
  ^DATA_SET_MAP_PROJECTION_CATALOG= "DSMAP.CAT"
  A_AXIS_RADIUS = 3396.0
  B_AXIS_RADIUS = 3396.0
  C_AXIS_RADIUS = 3396.0
  CENTER_LATITUDE = 0.0
  CENTER_LONGITUDE = 133.0
  COORDINATE_SYSTEM_NAME = PLANETOGRAPHIC
  COORDINATE_SYSTEM_TYPE = "BODY-FIXED ROTATING"
  EASTERNMOST_LONGITUDE = 134.168
  FIRST_STANDARD_PARALLEL = "N/A"
  LINE_FIRST_PIXEL = 1
  LINE_LAST_PIXEL = 8255
  LINE_PROJECTION_OFFSET = -35273.75
  MAP_PROJECTION_ROTATION = 0.0
  MAP_PROJECTION_TYPE = SINUSOIDAL
  MAP_RESOLUTION = 1185.42760773333
  MAP_SCALE = 0.05
  MAXIMUM_LATITUDE = -29.7216
  MINIMUM_LATITUDE = -36.7274
  POSITIVE_LONGITUDE_DIRECTION = EAST
  REFERENCE_LATITUDE = "N/A"
  REFERENCE_LONGITUDE = "N/A"
  SAMPLE_FIRST_PIXEL = 1
  SAMPLE_LAST_PIXEL = 2778
  SAMPLE_PROJECTION_OFFSET = 1423.25
  SECOND_STANDARD_PARALLEL = "N/A"
  WESTERNMOST_LONGITUDE = 131.778
END_OBJECT = IMAGE_MAP_PROJECTION
/* The JPEG2000 image data file associated with this label. */
OBJECT = COMPRESSED_FILE
  FILE_NAME = "H2451_0001_S13.JP2"
  RECORD_TYPE = UNDEFINED
  FILE_RECORDS = UNK
  ENCODING_TYPE = "JP2"
  INTERCHANGE_FORMAT = BINARY
  UNCOMPRESSED_FILE_NAME = "H2451_0001_S13.IMG"
  REQUIRED_STORAGE_BYTES = "22954614"
  ^DESCRIPTION = "JP2INFO.TXT"
END_OBJECT = COMPRESSED_FILE
END
