PDS_VERSION_ID = PDS3
/* FILE DATA ELEMENTS */
RECORD_TYPE = STREAM
/* POINTERS TO DATA OBJECTS */
^COMPRESSED_FILE = "H2453_0000_ND3.JP2"
/* IDENTIFICATION DATA ELEMENTS */
DATA_SET_ID = "MEX-M-HRSC-5-REFDR-MAPPROJECTED-V3.0"
DATA_SET_NAME = "MARS EXPRESS HRSC MAP PROJECTED REFDR V3.0"
DETECTOR_ID = MEX_HRSC_NADIR
EVENT_TYPE = "MARS-REGIONAL-MAPPING-Im-Fl-Pf"
INSTRUMENT_HOST_ID = MEX
INSTRUMENT_HOST_NAME = "MARS EXPRESS"
INSTRUMENT_ID = HRSC
INSTRUMENT_NAME = "HIGH RESOLUTION STEREO CAMERA"
MISSION_NAME = "MARS EXPRESS"
MISSION_PHASE_NAME = ME_Phase_1
PROCESSING_LEVEL_ID = 3
PRODUCT_CREATION_TIME = 2016-04-06T10:39:59.000Z
PRODUCT_ID = "H2453_0000_ND3.JP2"
RELEASE_ID = 0030
REVISION_ID = 0000
/* QUALITY DATA ELEMENTS */
DATA_QUALITY_ID = 1
DATA_QUALITY_DESC = "Data calculated based on original SPICE kernels"
/* TIME DATA ELEMENTS */
SPACECRAFT_CLOCK_START_COUNT = "1/0082301807.56173"
SPACECRAFT_CLOCK_STOP_COUNT = "1/0082302282.46219"
START_TIME = 2005-12-10T13:37:19.219Z
STOP_TIME = 2005-12-10T13:43:53.204Z
/* ORBITAL DATA ELEMENTS */
ASCENDING_NODE_LONGITUDE = 176.77
MAXIMUM_RESOLUTION = 11.4
FOOTPRINT_POINT_LATITUDE = (-64.6228,-64.2435,-63.8272,-63.4113, -62.9958,-62.5804,-62.1654,-61.5237, -61.0937,-60.6642,-60.2351,-59.8065, -59.1423,-58.6992,-58.2567,-57.5858, -57.129,-56.6732,-56.2179,-55.7498, -55.2803,-54.8116,-54.3342,-53.8515, -53.3699,-52.8894,-52.41,-51.9316, -51.454,-50.9775,-50.4378,-49.8721, -49.3078,-48.4606,-47.9006,-47.3424, -46.7859,-46.2181,-45.6463,-45.0656, -44.4755,-43.8793,-43.2747,-42.6586, -42.045,-41.4342,-40.8256,-40.2197, -39.6165,-39.5987,-39.5845,-39.5698, -40.1714,-40.7756,-41.3825,-41.9919, -42.604,-43.2186,-43.8218,-44.4171, -45.006,-45.5854,-46.1561,-46.723, -47.2783,-47.8353,-48.3941,-49.2393, -49.8022,-50.3667,-50.907,-51.3824, -51.8588,-52.3363,-52.8147,-53.2941, -53.7745,-54.2559,-54.7326,-55.2001, -55.6684,-56.1356,-56.5898,-57.0446, -57.5001,-57.9489,-58.3899,-58.8315, -59.2736,-59.7149,-60.1421,-60.5698, -60.9979,-61.4263,-62.0661,-62.8933, -63.7215,-64.136,-64.5506,-64.6228)
FOOTPRINT_POINT_LONGITUDE = (294.359,295.385,295.464,295.543,295.62 ,295.691,295.761,295.866,295.933, 295.997,296.059,296.119,296.208,296.266 ,296.322,296.4,296.452,296.51,296.56, 296.609,296.655,296.7,296.751,296.792, 296.833,296.876,296.921,296.963,297.0, 297.033,297.077,297.118,297.154,297.21, 297.246,297.283,297.318,297.353,297.384 ,297.418,297.447,297.484,297.51,297.54, 297.568,297.602,297.624,297.649,297.674 ,297.025,296.094,295.422,295.415, 295.408,295.399,295.388,295.376,295.358 ,295.342,295.325,295.306,295.285, 295.263,295.238,295.214,295.187,295.157 ,295.108,295.072,295.035,294.997, 294.963,294.928,294.889,294.85,294.809, 294.764,294.717,294.669,294.618,294.566 ,294.511,294.455,294.397,294.336, 294.274,294.21,294.143,294.074,294.001, 293.928,293.853,293.774,293.692,293.562 ,293.384,293.191,293.089,292.98, 294.359)
ORBIT_NUMBER = 2453
ORBITAL_ECCENTRICITY = 0.572
ORBITAL_INCLINATION = 86.62
ORBITAL_SEMIMAJOR_AXIS = 8533.4
PERIAPSIS_ALTITUDE = 275.02
PERIAPSIS_ARGUMENT_ANGLE = 287.11
PERIAPSIS_TIME = 2005-12-10T13:35:18.000Z
SPACECRAFT_ORIENTATION = (0.0,-1.0,0.0)
^MEX_ORIENTATION_DESC = "MEX_ORIENTATION_DESC.TXT"
SPACECRAFT_POINTING_MODE = ACROSSTRACK
^MEX_POINTING_DESC = "MEX_POINTING_DESC.TXT"
RIGHT_ASCENSION = -1e+32
DECLINATION = -1e+32
OFFSET_ANGLE = -0.28
SPACECRAFT_SOLAR_DISTANCE = 2.24891e+08
TARGET_NAME = MARS
/* CAMERA DATA ELEMENTS */
DETECTOR_TEMPERATURE = 17.9627
FOCAL_PLANE_TEMPERATURE = 8.1755
INST_CMPRS_NAME = "DISCRETE COSINE TRANSFORMATION (DCT)"
INST_CMPRS_RATIO = 7.38111
INST_CMPRS_QUALITY = 0
INST_CMPRS_QUANTZ_TBL_ID = 0
INSTRUMENT_TEMPERATURE = 11.234
LENS_TEMPERATURE = 8.5833
MACROPIXEL_SIZE = 1
MISSING_FRAMES = 2
PIXEL_SUBSAMPLING_FLAG = N
SIGNAL_CHAIN_ID = 0
/* RADIOMETRIC DATA ELEMENTS */
BANDWIDTH = 177.0
CENTER_FILTER_WAVELENGTH = 677.5
RADIANCE_OFFSET = 3.14766
RADIANCE_SCALING_FACTOR = 0.0129315
REFLECTANCE_SCALING_FACTOR = 0.000347442
MEX:REFLECTANCE_OFFSET = 0.0845706
/* IMAGE OBJECT DEFINITIONS */
OBJECT = IMAGE
  INTERCHANGE_FORMAT = BINARY
  LINES = 118952
  LINE_SAMPLES = 12380
  SAMPLE_TYPE = UNSIGNED_INTEGER
  SAMPLE_BITS = 8
  BANDS = 1
  BAND_STORAGE_TYPE = BAND_SEQUENTIAL
  MAXIMUM = 255
  MEAN = 125.694
  MINIMUM = 1
  STANDARD_DEVIATION = 23.6553
END_OBJECT = IMAGE
/* MAP OBJECT DEFINITIONS */
OBJECT = IMAGE_MAP_PROJECTION
  ^DATA_SET_MAP_PROJECTION_CATALOG= "DSMAP.CAT"
  A_AXIS_RADIUS = 3396.0
  B_AXIS_RADIUS = 3396.0
  C_AXIS_RADIUS = 3396.0
  CENTER_LATITUDE = 0.0
  CENTER_LONGITUDE = 296.0
  COORDINATE_SYSTEM_NAME = PLANETOGRAPHIC
  COORDINATE_SYSTEM_TYPE = "BODY-FIXED ROTATING"
  EASTERNMOST_LONGITUDE = 297.674
  FIRST_STANDARD_PARALLEL = "N/A"
  LINE_FIRST_PIXEL = 1
  LINE_LAST_PIXEL = 118952
  LINE_PROJECTION_OFFSET = -187629.0
  MAP_PROJECTION_ROTATION = 0.0
  MAP_PROJECTION_TYPE = SINUSOIDAL
  MAP_RESOLUTION = 4741.71043093333
  MAP_SCALE = 0.0125
  MAXIMUM_LATITUDE = -39.5698
  MINIMUM_LATITUDE = -64.6228
  POSITIVE_LONGITUDE_DIRECTION = EAST
  REFERENCE_LATITUDE = "N/A"
  REFERENCE_LONGITUDE = "N/A"
  SAMPLE_FIRST_PIXEL = 1
  SAMPLE_LAST_PIXEL = 12380
  SAMPLE_PROJECTION_OFFSET = 6162.0
  SECOND_STANDARD_PARALLEL = "N/A"
  WESTERNMOST_LONGITUDE = 292.98
END_OBJECT = IMAGE_MAP_PROJECTION
/* The JPEG2000 image data file associated with this label. */
OBJECT = COMPRESSED_FILE
  FILE_NAME = "H2453_0000_ND3.JP2"
  RECORD_TYPE = UNDEFINED
  FILE_RECORDS = UNK
  ENCODING_TYPE = "JP2"
  INTERCHANGE_FORMAT = BINARY
  UNCOMPRESSED_FILE_NAME = "H2453_0000_ND3.IMG"
  REQUIRED_STORAGE_BYTES = "1472662900"
  ^DESCRIPTION = "JP2INFO.TXT"
END_OBJECT = COMPRESSED_FILE
END
