PDS_VERSION_ID = PDS3
/* FILE DATA ELEMENTS */
RECORD_TYPE = STREAM
/* POINTERS TO DATA OBJECTS */
^COMPRESSED_FILE = "H2454_0001_BL3.JP2"
/* IDENTIFICATION DATA ELEMENTS */
DATA_SET_ID = "MEX-M-HRSC-5-REFDR-MAPPROJECTED-V3.0"
DATA_SET_NAME = "MARS EXPRESS HRSC MAP PROJECTED REFDR V3.0"
DETECTOR_ID = MEX_HRSC_BLUE
EVENT_TYPE = "MARS-REGIONAL-MAPPING-Te-Im"
INSTRUMENT_HOST_ID = MEX
INSTRUMENT_HOST_NAME = "MARS EXPRESS"
INSTRUMENT_ID = HRSC
INSTRUMENT_NAME = "HIGH RESOLUTION STEREO CAMERA"
MISSION_NAME = "MARS EXPRESS"
MISSION_PHASE_NAME = ME_Phase_1
PROCESSING_LEVEL_ID = 3
PRODUCT_CREATION_TIME = 2016-04-06T10:39:59.000Z
PRODUCT_ID = "H2454_0001_BL3.JP2"
RELEASE_ID = 0030
REVISION_ID = 0000
/* QUALITY DATA ELEMENTS */
DATA_QUALITY_ID = 1
DATA_QUALITY_DESC = "Data calculated based on original SPICE kernels"
/* TIME DATA ELEMENTS */
SPACECRAFT_CLOCK_START_COUNT = "1/0082326192.57995"
SPACECRAFT_CLOCK_STOP_COUNT = "1/0082326416.40735"
START_TIME = 2005-12-10T20:23:57.626Z
STOP_TIME = 2005-12-10T20:26:19.696Z
/* ORBITAL DATA ELEMENTS */
ASCENDING_NODE_LONGITUDE = 176.74
MAXIMUM_RESOLUTION = 59.6
FOOTPRINT_POINT_LATITUDE = (-50.6557,-50.6788,-50.6917,-50.7062, -50.7146,-50.6429,-50.4644,-50.286, -50.1079,-49.93,-49.7519,-49.5743, -49.3972,-49.2211,-48.9562,-48.7796, -48.6027,-48.4263,-48.2503,-47.9868, -47.8112,-47.6355,-47.4602,-47.1975, -47.0231,-46.8489,-46.5874,-46.4132, -46.2392,-46.0652,-45.8915,-45.718, -45.545,-45.2862,-45.1135,-44.9411, -44.7686,-44.5968,-44.3393,-44.1681, -43.9114,-43.6548,-43.4845,-43.314, -43.144,-42.9741,-42.8039,-42.6342, -42.3801,-42.0435,-42.0397,-42.0336, -42.0276,-42.0183,-42.0075,-42.0828, -42.4188,-42.6721,-43.0117,-43.3511, -43.5218,-43.7775,-43.9481,-44.119, -44.2901,-44.4613,-44.6328,-44.8045, -44.9763,-45.1485,-45.3208,-45.4932, -45.7522,-45.9251,-46.0984,-46.2718, -46.4459,-46.6194,-46.7928,-46.967, -47.1414,-47.3161,-47.4908,-47.6657, -47.8409,-48.0164,-48.1919,-48.3675, -48.5434,-48.7195,-48.8957,-49.0722, -49.2488,-49.4255,-49.6025,-49.7795, -49.9567,-50.1341,-50.3115,-50.6557)
FOOTPRINT_POINT_LONGITUDE = (196.358,196.95,197.32,197.783,198.08, 198.38,198.395,198.41,198.424,198.439, 198.452,198.466,198.481,198.497,198.519 ,198.533,198.546,198.559,198.572, 198.592,198.605,198.617,198.63,198.648, 198.661,198.674,198.692,198.703,198.715 ,198.726,198.737,198.748,198.759, 198.777,198.787,198.798,198.808,198.819 ,198.835,198.846,198.862,198.876, 198.887,198.896,198.907,198.916,198.925 ,198.934,198.948,198.965,198.659, 198.248,197.919,197.507,197.095,196.757 ,196.751,196.745,196.733,196.723, 196.716,196.707,196.701,196.695,196.689 ,196.682,196.676,196.669,196.662, 196.655,196.647,196.64,196.629,196.621, 196.613,196.604,196.595,196.586,196.579 ,196.57,196.56,196.551,196.541,196.531, 196.521,196.51,196.499,196.489,196.478, 196.466,196.455,196.443,196.431,196.419 ,196.406,196.394,196.381,196.369, 196.356,196.358)
ORBIT_NUMBER = 2454
ORBITAL_ECCENTRICITY = 0.572
ORBITAL_INCLINATION = 86.63
ORBITAL_SEMIMAJOR_AXIS = 8533.36
PERIAPSIS_ALTITUDE = 274.75
PERIAPSIS_ARGUMENT_ANGLE = 286.92
PERIAPSIS_TIME = 2005-12-10T20:18:15.000Z
SPACECRAFT_ORIENTATION = (0.0,-1.0,0.0)
^MEX_ORIENTATION_DESC = "MEX_ORIENTATION_DESC.TXT"
SPACECRAFT_POINTING_MODE = NADIR
^MEX_POINTING_DESC = "MEX_POINTING_DESC.TXT"
RIGHT_ASCENSION = -1e+32
DECLINATION = -1e+32
OFFSET_ANGLE = -1e+32
SPACECRAFT_SOLAR_DISTANCE = 2.24946e+08
TARGET_NAME = MARS
/* CAMERA DATA ELEMENTS */
DETECTOR_TEMPERATURE = 19.5939
FOCAL_PLANE_TEMPERATURE = 8.7872
INST_CMPRS_NAME = "DISCRETE COSINE TRANSFORMATION (DCT)"
INST_CMPRS_RATIO = 9.78927
INST_CMPRS_QUALITY = 0
INST_CMPRS_QUANTZ_TBL_ID = 0
INSTRUMENT_TEMPERATURE = 12.6613
LENS_TEMPERATURE = 7.3599
MACROPIXEL_SIZE = 4
MISSING_FRAMES = 0
PIXEL_SUBSAMPLING_FLAG = N
SIGNAL_CHAIN_ID = 2
/* RADIOMETRIC DATA ELEMENTS */
BANDWIDTH = 76.0
CENTER_FILTER_WAVELENGTH = 444.0
RADIANCE_OFFSET = 0.725802
RADIANCE_SCALING_FACTOR = 0.00167064
REFLECTANCE_SCALING_FACTOR = 8.68559e-05
MEX:REFLECTANCE_OFFSET = 0.0377341
/* IMAGE OBJECT DEFINITIONS */
OBJECT = IMAGE
  INTERCHANGE_FORMAT = BINARY
  LINES = 10343
  LINE_SAMPLES = 2124
  SAMPLE_TYPE = UNSIGNED_INTEGER
  SAMPLE_BITS = 8
  BANDS = 1
  BAND_STORAGE_TYPE = BAND_SEQUENTIAL
  MAXIMUM = 255
  MEAN = 140.946
  MINIMUM = 1
  STANDARD_DEVIATION = 18.746
END_OBJECT = IMAGE
/* MAP OBJECT DEFINITIONS */
OBJECT = IMAGE_MAP_PROJECTION
  ^DATA_SET_MAP_PROJECTION_CATALOG= "DSMAP.CAT"
  A_AXIS_RADIUS = 3396.0
  B_AXIS_RADIUS = 3396.0
  C_AXIS_RADIUS = 3396.0
  CENTER_LATITUDE = 0.0
  CENTER_LONGITUDE = 198.0
  COORDINATE_SYSTEM_NAME = PLANETOGRAPHIC
  COORDINATE_SYSTEM_TYPE = "BODY-FIXED ROTATING"
  EASTERNMOST_LONGITUDE = 198.965
  FIRST_STANDARD_PARALLEL = "N/A"
  LINE_FIRST_PIXEL = 1
  LINE_LAST_PIXEL = 10343
  LINE_PROJECTION_OFFSET = -49793.125
  MAP_PROJECTION_ROTATION = 0.0
  MAP_PROJECTION_TYPE = SINUSOIDAL
  MAP_RESOLUTION = 1185.42760773333
  MAP_SCALE = 0.05
  MAXIMUM_LATITUDE = -42.0075
  MINIMUM_LATITUDE = -50.7146
  POSITIVE_LONGITUDE_DIRECTION = EAST
  REFERENCE_LATITUDE = "N/A"
  REFERENCE_LONGITUDE = "N/A"
  SAMPLE_FIRST_PIXEL = 1
  SAMPLE_LAST_PIXEL = 2124
  SAMPLE_PROJECTION_OFFSET = 1267.375
  SECOND_STANDARD_PARALLEL = "N/A"
  WESTERNMOST_LONGITUDE = 196.356
END_OBJECT = IMAGE_MAP_PROJECTION
/* The JPEG2000 image data file associated with this label. */
OBJECT = COMPRESSED_FILE
  FILE_NAME = "H2454_0001_BL3.JP2"
  RECORD_TYPE = UNDEFINED
  FILE_RECORDS = UNK
  ENCODING_TYPE = "JP2"
  INTERCHANGE_FORMAT = BINARY
  UNCOMPRESSED_FILE_NAME = "H2454_0001_BL3.IMG"
  REQUIRED_STORAGE_BYTES = "21989772"
  ^DESCRIPTION = "JP2INFO.TXT"
END_OBJECT = COMPRESSED_FILE
END
