PDS_VERSION_ID = PDS3
/* FILE DATA ELEMENTS */
RECORD_TYPE = STREAM
/* POINTERS TO DATA OBJECTS */
^COMPRESSED_FILE = "H2459_0000_P23.JP2"
/* IDENTIFICATION DATA ELEMENTS */
DATA_SET_ID = "MEX-M-HRSC-5-REFDR-MAPPROJECTED-V3.0"
DATA_SET_NAME = "MARS EXPRESS HRSC MAP PROJECTED REFDR V3.0"
DETECTOR_ID = MEX_HRSC_P2
EVENT_TYPE = "MARS-REGIONAL-MAPPING-Im-Gl-Pf"
INSTRUMENT_HOST_ID = MEX
INSTRUMENT_HOST_NAME = "MARS EXPRESS"
INSTRUMENT_ID = HRSC
INSTRUMENT_NAME = "HIGH RESOLUTION STEREO CAMERA"
MISSION_NAME = "MARS EXPRESS"
MISSION_PHASE_NAME = ME_Phase_1
PROCESSING_LEVEL_ID = 3
PRODUCT_CREATION_TIME = 2016-04-06T10:39:59.000Z
PRODUCT_ID = "H2459_0000_P23.JP2"
RELEASE_ID = 0030
REVISION_ID = 0000
/* QUALITY DATA ELEMENTS */
DATA_QUALITY_ID = 1
DATA_QUALITY_DESC = "Data calculated based on original SPICE kernels"
/* TIME DATA ELEMENTS */
SPACECRAFT_CLOCK_START_COUNT = "1/0082446643.56188"
SPACECRAFT_CLOCK_STOP_COUNT = "1/0082446896.31492"
START_TIME = 2005-12-12T05:51:33.099Z
STOP_TIME = 2005-12-12T05:54:52.851Z
/* ORBITAL DATA ELEMENTS */
ASCENDING_NODE_LONGITUDE = 176.64
MAXIMUM_RESOLUTION = 44.5
FOOTPRINT_POINT_LATITUDE = (-80.7721,-80.8508,-80.9058,-80.9589, -81.0101,-81.0593,-81.1887,-81.0569, -80.7982,-80.4155,-80.1593,-79.7737, -79.5158,-79.1267,-78.8677,-78.4796, -78.2198,-77.9586,-77.6934,-77.4322, -77.1705,-76.9089,-76.5159,-76.2537, -75.9911,-75.597,-75.3336,-75.0697, -74.6773,-74.4144,-74.1516,-73.8884, -73.6224,-73.3615,-73.0985,-72.836, -72.442,-72.1794,-71.9142,-71.5207, -71.2583,-70.9955,-70.6003,-70.2063, -69.8129,-69.5503,-69.2884,-69.0268, -68.7645,-68.5026,-68.1099,-68.0709, -68.0539,-68.0198,-67.9986,-67.9751, -68.2351,-68.6252,-68.8856,-69.1458, -69.4061,-69.7956,-70.0553,-70.3146, -70.5764,-70.9673,-71.2271,-71.4885, -71.7489,-72.0092,-72.3996,-72.7892, -73.0477,-73.309,-73.5687,-73.8276, -74.0875,-74.3461,-74.6034,-74.8628, -75.2509,-75.5091,-75.7667,-76.0245, -76.2827,-76.5396,-76.7961,-77.1795, -77.4343,-77.8159,-78.1954,-78.5733, -78.8242,-79.074,-79.3236,-79.5727, -79.8201,-80.1898,-80.4338,-80.7721)
FOOTPRINT_POINT_LONGITUDE = (46.2463,47.3463,48.1535,48.9677, 49.7873,50.613,51.6642,51.9728,52.5509, 53.3453,53.8402,54.5353,54.97,55.5831, 55.9674,56.5105,56.8524,57.1795,57.4929 ,57.7922,58.0792,58.3543,58.7465, 58.9952,59.2343,59.5761,59.7934,60.0028 ,60.3032,60.4946,60.6794,60.858,61.0302 ,61.1974,61.3588,61.5152,61.7406,61.885 ,62.0246,62.2268,62.3566,62.4825, 62.6644,62.8387,63.0059,63.1135,63.2182 ,63.3202,63.4193,63.5159,63.656,62.9337 ,62.5698,61.8883,61.4989,61.0488, 60.9334,60.754,60.6297,60.5023,60.371, 60.1699,60.0309,59.8889,59.7351,59.501, 59.3413,59.1712,58.9988,58.821,58.5434, 58.2538,58.0564,57.8414,57.6247,57.4031 ,57.1685,56.9304,56.6882,56.4265, 56.0183,55.7336,55.4396,55.1314,54.8065 ,54.4732,54.126,53.5801,53.1977,52.5889 ,51.9439,51.2541,50.7672,50.2593, 49.7212,49.1521,48.5593,47.6044,46.9335 ,46.2463)
ORBIT_NUMBER = 2459
ORBITAL_ECCENTRICITY = 0.572
ORBITAL_INCLINATION = 86.63
ORBITAL_SEMIMAJOR_AXIS = 8533.91
PERIAPSIS_ALTITUDE = 274.45
PERIAPSIS_ARGUMENT_ANGLE = 286.05
PERIAPSIS_TIME = 2005-12-12T05:53:13.000Z
SPACECRAFT_ORIENTATION = (0.0,-1.0,0.0)
^MEX_ORIENTATION_DESC = "MEX_ORIENTATION_DESC.TXT"
SPACECRAFT_POINTING_MODE = ACROSSTRACK
^MEX_POINTING_DESC = "MEX_POINTING_DESC.TXT"
RIGHT_ASCENSION = -1e+32
DECLINATION = -1e+32
OFFSET_ANGLE = 0.23
SPACECRAFT_SOLAR_DISTANCE = 2.2522e+08
TARGET_NAME = MARS
/* CAMERA DATA ELEMENTS */
DETECTOR_TEMPERATURE = 18.5744
FOCAL_PLANE_TEMPERATURE = 8.7872
INST_CMPRS_NAME = "DISCRETE COSINE TRANSFORMATION (DCT)"
INST_CMPRS_RATIO = 14.9302
INST_CMPRS_QUALITY = 0
INST_CMPRS_QUANTZ_TBL_ID = 0
INSTRUMENT_TEMPERATURE = 11.234
LENS_TEMPERATURE = 8.9911
MACROPIXEL_SIZE = 4
MISSING_FRAMES = 0
PIXEL_SUBSAMPLING_FLAG = N
SIGNAL_CHAIN_ID = 3
/* RADIOMETRIC DATA ELEMENTS */
BANDWIDTH = 177.0
CENTER_FILTER_WAVELENGTH = 676.5
RADIANCE_OFFSET = 2.20059
RADIANCE_SCALING_FACTOR = 0.010754
REFLECTANCE_SCALING_FACTOR = 0.000289227
MEX:REFLECTANCE_OFFSET = 0.0591845
/* IMAGE OBJECT DEFINITIONS */
OBJECT = IMAGE
  INTERCHANGE_FORMAT = BINARY
  LINES = 15684
  LINE_SAMPLES = 4489
  SAMPLE_TYPE = UNSIGNED_INTEGER
  SAMPLE_BITS = 8
  BANDS = 1
  BAND_STORAGE_TYPE = BAND_SEQUENTIAL
  MAXIMUM = 255
  MEAN = 122.231
  MINIMUM = 1
  STANDARD_DEVIATION = 53.1874
END_OBJECT = IMAGE
/* MAP OBJECT DEFINITIONS */
OBJECT = IMAGE_MAP_PROJECTION
  ^DATA_SET_MAP_PROJECTION_CATALOG= "DSMAP.CAT"
  A_AXIS_RADIUS = 3396.0
  B_AXIS_RADIUS = 3396.0
  C_AXIS_RADIUS = 3396.0
  CENTER_LATITUDE = 0.0
  CENTER_LONGITUDE = 59.0
  COORDINATE_SYSTEM_NAME = PLANETOGRAPHIC
  COORDINATE_SYSTEM_TYPE = "BODY-FIXED ROTATING"
  EASTERNMOST_LONGITUDE = 63.656
  FIRST_STANDARD_PARALLEL = "N/A"
  LINE_FIRST_PIXEL = 1
  LINE_LAST_PIXEL = 15684
  LINE_PROJECTION_OFFSET = -80583.625
  MAP_PROJECTION_ROTATION = 0.0
  MAP_PROJECTION_TYPE = SINUSOIDAL
  MAP_RESOLUTION = 1185.42760773333
  MAP_SCALE = 0.05
  MAXIMUM_LATITUDE = -67.9751
  MINIMUM_LATITUDE = -81.1887
  POSITIVE_LONGITUDE_DIRECTION = EAST
  REFERENCE_LATITUDE = "N/A"
  REFERENCE_LONGITUDE = "N/A"
  SAMPLE_FIRST_PIXEL = 1
  SAMPLE_LAST_PIXEL = 4489
  SAMPLE_PROJECTION_OFFSET = 2452.125
  SECOND_STANDARD_PARALLEL = "N/A"
  WESTERNMOST_LONGITUDE = 46.2463
END_OBJECT = IMAGE_MAP_PROJECTION
/* The JPEG2000 image data file associated with this label. */
OBJECT = COMPRESSED_FILE
  FILE_NAME = "H2459_0000_P23.JP2"
  RECORD_TYPE = UNDEFINED
  FILE_RECORDS = UNK
  ENCODING_TYPE = "JP2"
  INTERCHANGE_FORMAT = BINARY
  UNCOMPRESSED_FILE_NAME = "H2459_0000_P23.IMG"
  REQUIRED_STORAGE_BYTES = "70432410"
  ^DESCRIPTION = "JP2INFO.TXT"
END_OBJECT = COMPRESSED_FILE
END
