PDS_VERSION_ID = PDS3
/* FILE DATA ELEMENTS */
RECORD_TYPE = STREAM
/* POINTERS TO DATA OBJECTS */
^COMPRESSED_FILE = "H2459_0000_S13.JP2"
/* IDENTIFICATION DATA ELEMENTS */
DATA_SET_ID = "MEX-M-HRSC-5-REFDR-MAPPROJECTED-V3.0"
DATA_SET_NAME = "MARS EXPRESS HRSC MAP PROJECTED REFDR V3.0"
DETECTOR_ID = MEX_HRSC_S1
EVENT_TYPE = "MARS-REGIONAL-MAPPING-Im-Gl-Pf"
INSTRUMENT_HOST_ID = MEX
INSTRUMENT_HOST_NAME = "MARS EXPRESS"
INSTRUMENT_ID = HRSC
INSTRUMENT_NAME = "HIGH RESOLUTION STEREO CAMERA"
MISSION_NAME = "MARS EXPRESS"
MISSION_PHASE_NAME = ME_Phase_1
PROCESSING_LEVEL_ID = 3
PRODUCT_CREATION_TIME = 2016-04-06T10:39:59.000Z
PRODUCT_ID = "H2459_0000_S13.JP2"
RELEASE_ID = 0030
REVISION_ID = 0000
/* QUALITY DATA ELEMENTS */
DATA_QUALITY_ID = 1
DATA_QUALITY_DESC = "Data calculated based on original SPICE kernels"
/* TIME DATA ELEMENTS */
SPACECRAFT_CLOCK_START_COUNT = "1/0082446643.56188"
SPACECRAFT_CLOCK_STOP_COUNT = "1/0082446896.31492"
START_TIME = 2005-12-12T05:50:50.729Z
STOP_TIME = 2005-12-12T05:54:12.621Z
/* ORBITAL DATA ELEMENTS */
ASCENDING_NODE_LONGITUDE = 176.64
MAXIMUM_RESOLUTION = 23
FOOTPRINT_POINT_LATITUDE = (-80.9302,-81.029,-81.0949,-81.1584, -81.2194,-81.3343,-81.1177,-80.8624, -80.6057,-80.3482,-79.96,-79.7001, -79.4387,-79.1761,-78.9158,-78.6534, -78.2571,-78.0024,-77.7532,-77.4967, -77.2402,-76.9829,-76.7249,-76.3368, -75.9479,-75.6882,-75.4286,-75.1692, -74.7747,-74.3814,-74.1188,-73.8559, -73.597,-73.3299,-72.9328,-72.6676, -72.2701,-72.0046,-71.7435,-71.4718, -71.205,-70.9387,-70.5401,-70.1398, -69.8722,-69.4708,-69.2025,-68.8006, -68.5324,-68.2643,-68.103,-68.0675, -68.0375,-68.0016,-67.9669,-68.2331, -68.5001,-68.7648,-69.0301,-69.2955, -69.6949,-69.9603,-70.2265,-70.6208, -70.8841,-71.2797,-71.5437,-71.8059, -72.1987,-72.4604,-72.7222,-72.9844, -73.3727,-73.6329,-73.8933,-74.1505, -74.41,-74.6699,-75.0539,-75.3089, -75.5639,-75.819,-76.0722,-76.4496, -76.7008,-77.0771,-77.3274,-77.5768, -77.8247,-78.0738,-78.3308,-78.5863, -78.8408,-79.2203,-79.4704,-79.7183, -80.0863,-80.332,-80.697,-80.9302)
FOOTPRINT_POINT_LONGITUDE = (45.6417,46.875,47.7451,48.6252,49.5137 ,51.3207,51.9727,52.543,53.0834,53.5946 ,54.3125,54.7609,55.1892,55.5975, 55.9796,56.3471,56.8742,57.1913,57.4831 ,57.7765,58.057,58.327,58.5869,58.9585, 59.3093,59.5324,59.7468,59.9528,60.2549 ,60.5389,60.7204,60.8958,61.0604, 61.2289,61.4673,61.62,61.8397,61.9807, 62.1129,62.2502,62.3798,62.5049,62.6849 ,62.8587,62.9709,63.1333,63.2383, 63.3901,63.488,63.5832,63.1633,62.5716, 62.1021,61.5579,61.0773,60.9579,60.836, 60.7092,60.5794,60.4462,60.2404,60.0978 ,59.9518,59.7214,59.5626,59.3163, 59.1425,58.9661,58.6912,58.5008,58.3047 ,58.1027,57.7843,57.5645,57.3376, 57.1011,56.8584,56.6076,56.2115,55.9353 ,55.6494,55.3533,55.0453,54.5606, 54.2221,53.6896,53.317,52.929,52.5247, 52.1018,51.6448,51.1668,50.6668,49.8723 ,49.3106,48.7213,47.7822,47.1163, 46.0519,45.6417)
ORBIT_NUMBER = 2459
ORBITAL_ECCENTRICITY = 0.572
ORBITAL_INCLINATION = 86.63
ORBITAL_SEMIMAJOR_AXIS = 8533.91
PERIAPSIS_ALTITUDE = 274.45
PERIAPSIS_ARGUMENT_ANGLE = 286.05
PERIAPSIS_TIME = 2005-12-12T05:53:13.000Z
SPACECRAFT_ORIENTATION = (0.0,-1.0,0.0)
^MEX_ORIENTATION_DESC = "MEX_ORIENTATION_DESC.TXT"
SPACECRAFT_POINTING_MODE = ACROSSTRACK
^MEX_POINTING_DESC = "MEX_POINTING_DESC.TXT"
RIGHT_ASCENSION = -1e+32
DECLINATION = -1e+32
OFFSET_ANGLE = 0.23
SPACECRAFT_SOLAR_DISTANCE = 2.2522e+08
TARGET_NAME = MARS
/* CAMERA DATA ELEMENTS */
DETECTOR_TEMPERATURE = 17.1471
FOCAL_PLANE_TEMPERATURE = 8.7872
INST_CMPRS_NAME = "DISCRETE COSINE TRANSFORMATION (DCT)"
INST_CMPRS_RATIO = 9.4452
INST_CMPRS_QUALITY = 0
INST_CMPRS_QUANTZ_TBL_ID = 0
INSTRUMENT_TEMPERATURE = 11.234
LENS_TEMPERATURE = 8.9911
MACROPIXEL_SIZE = 2
MISSING_FRAMES = 1
PIXEL_SUBSAMPLING_FLAG = N
SIGNAL_CHAIN_ID = 1
/* RADIOMETRIC DATA ELEMENTS */
BANDWIDTH = 180.0
CENTER_FILTER_WAVELENGTH = 677.0
RADIANCE_OFFSET = 2.47408
RADIANCE_SCALING_FACTOR = 0.0113442
REFLECTANCE_SCALING_FACTOR = 0.000300212
MEX:REFLECTANCE_OFFSET = 0.0654738
/* IMAGE OBJECT DEFINITIONS */
OBJECT = IMAGE
  INTERCHANGE_FORMAT = BINARY
  LINES = 31368
  LINE_SAMPLES = 8977
  SAMPLE_TYPE = UNSIGNED_INTEGER
  SAMPLE_BITS = 8
  BANDS = 1
  BAND_STORAGE_TYPE = BAND_SEQUENTIAL
  MAXIMUM = 255
  MEAN = 125.545
  MINIMUM = 1
  STANDARD_DEVIATION = 48.3407
END_OBJECT = IMAGE
/* MAP OBJECT DEFINITIONS */
OBJECT = IMAGE_MAP_PROJECTION
  ^DATA_SET_MAP_PROJECTION_CATALOG= "DSMAP.CAT"
  A_AXIS_RADIUS = 3396.0
  B_AXIS_RADIUS = 3396.0
  C_AXIS_RADIUS = 3396.0
  CENTER_LATITUDE = 0.0
  CENTER_LONGITUDE = 59.0
  COORDINATE_SYSTEM_NAME = PLANETOGRAPHIC
  COORDINATE_SYSTEM_TYPE = "BODY-FIXED ROTATING"
  EASTERNMOST_LONGITUDE = 63.5832
  FIRST_STANDARD_PARALLEL = "N/A"
  LINE_FIRST_PIXEL = 1
  LINE_LAST_PIXEL = 31368
  LINE_PROJECTION_OFFSET = -161166.75
  MAP_PROJECTION_ROTATION = 0.0
  MAP_PROJECTION_TYPE = SINUSOIDAL
  MAP_RESOLUTION = 2370.85521546667
  MAP_SCALE = 0.025
  MAXIMUM_LATITUDE = -67.9669
  MINIMUM_LATITUDE = -81.3343
  POSITIVE_LONGITUDE_DIRECTION = EAST
  REFERENCE_LATITUDE = "N/A"
  REFERENCE_LONGITUDE = "N/A"
  SAMPLE_FIRST_PIXEL = 1
  SAMPLE_LAST_PIXEL = 8977
  SAMPLE_PROJECTION_OFFSET = 4904.75
  SECOND_STANDARD_PARALLEL = "N/A"
  WESTERNMOST_LONGITUDE = 45.6417
END_OBJECT = IMAGE_MAP_PROJECTION
/* The JPEG2000 image data file associated with this label. */
OBJECT = COMPRESSED_FILE
  FILE_NAME = "H2459_0000_S13.JP2"
  RECORD_TYPE = UNDEFINED
  FILE_RECORDS = UNK
  ENCODING_TYPE = "JP2"
  INTERCHANGE_FORMAT = BINARY
  UNCOMPRESSED_FILE_NAME = "H2459_0000_S13.IMG"
  REQUIRED_STORAGE_BYTES = "281626444"
  ^DESCRIPTION = "JP2INFO.TXT"
END_OBJECT = COMPRESSED_FILE
END
