PDS_VERSION_ID = PDS3
/* FILE DATA ELEMENTS */
RECORD_TYPE = STREAM
/* POINTERS TO DATA OBJECTS */
^COMPRESSED_FILE = "H2459_0009_P13.JP2"
/* IDENTIFICATION DATA ELEMENTS */
DATA_SET_ID = "MEX-M-HRSC-5-REFDR-MAPPROJECTED-V3.0"
DATA_SET_NAME = "MARS EXPRESS HRSC MAP PROJECTED REFDR V3.0"
DETECTOR_ID = MEX_HRSC_P1
EVENT_TYPE = "MARS-REGIONAL-MAPPING-Im-Fl-La"
INSTRUMENT_HOST_ID = MEX
INSTRUMENT_HOST_NAME = "MARS EXPRESS"
INSTRUMENT_ID = HRSC
INSTRUMENT_NAME = "HIGH RESOLUTION STEREO CAMERA"
MISSION_NAME = "MARS EXPRESS"
MISSION_PHASE_NAME = ME_Phase_1
PROCESSING_LEVEL_ID = 3
PRODUCT_CREATION_TIME = 2016-04-06T10:39:59.000Z
PRODUCT_ID = "H2459_0009_P13.JP2"
RELEASE_ID = 0030
REVISION_ID = 0000
/* QUALITY DATA ELEMENTS */
DATA_QUALITY_ID = 1
DATA_QUALITY_DESC = "Data calculated based on original SPICE kernels"
/* TIME DATA ELEMENTS */
SPACECRAFT_CLOCK_START_COUNT = "1/0082447430.57170"
SPACECRAFT_CLOCK_STOP_COUNT = "1/0082447986.40440"
START_TIME = 2005-12-12T06:04:18.332Z
STOP_TIME = 2005-12-12T06:08:50.183Z
/* ORBITAL DATA ELEMENTS */
ASCENDING_NODE_LONGITUDE = 176.64
MAXIMUM_RESOLUTION = 53.1
FOOTPRINT_POINT_LATITUDE = (-29.5381,-29.5477,-29.5556,-29.5643, -29.568,-29.5703,-29.238,-28.6712, -28.0901,-27.795,-27.35,-26.8963, -26.4382,-25.9757,-25.6653,-25.3522, -24.8783,-24.4032,-24.0855,-23.7702, -23.4554,-23.1419,-22.83,-22.5175, -22.036,-21.577,-21.267,-20.9591, -20.4963,-20.19,-19.8866,-19.5818, -19.2793,-18.9692,-18.6663,-18.3722, -18.0698,-17.7697,-17.4728,-17.1743, -16.728,-16.4303,-16.1341,-15.8386, -15.5444,-15.251,-14.8134,-14.5216, -14.3697,-14.3818,-14.3944,-14.3986, -14.3982,-14.4051,-14.4058,-14.5509, -14.8401,-15.1307,-15.4231,-15.716, -16.0062,-16.2964,-16.5901,-17.0353, -17.3349,-17.6309,-17.9288,-18.2255, -18.5253,-18.824,-19.1258,-19.4252, -19.7269,-20.032,-20.486,-20.7915, -21.0988,-21.5602,-21.8688,-22.1782, -22.6505,-22.9685,-23.2815,-23.5941, -24.0607,-24.5364,-24.8515,-25.1668, -25.478,-25.7915,-26.1013,-26.5558, -26.8585,-27.1604,-27.4578,-27.7505, -28.1916,-28.4829,-29.0508,-29.5381)
FOOTPRINT_POINT_LONGITUDE = (65.4832,65.8811,66.2781,66.8722, 67.2671,67.8348,67.9928,68.0042,68.0179 ,68.025,68.035,68.0466,68.0577,68.0683, 68.0752,68.0817,68.0916,68.1015,68.1087 ,68.1152,68.1216,68.1277,68.1333, 68.1393,68.1487,68.1546,68.1605,68.1656 ,68.1742,68.1792,68.1833,68.1882, 68.1923,68.1997,68.2044,68.2059,68.2109 ,68.2152,68.2184,68.2225,68.2285, 68.2328,68.2368,68.2407,68.2443,68.2479 ,68.2527,68.2562,67.7581,67.3884, 66.7857,66.4506,66.1142,65.543,65.206, 64.7973,64.8151,64.833,64.8512,64.8691, 64.8848,64.8998,64.9162,64.942,64.9601, 64.9754,64.9911,65.0056,65.021,65.0352, 65.0504,65.0636,65.0774,65.0925,65.1118 ,65.1254,65.1392,65.159,65.1719,65.1846 ,65.1997,65.2155,65.2277,65.239,65.2532 ,65.271,65.2808,65.29,65.2983,65.3088, 65.3176,65.3272,65.335,65.343,65.349, 65.3536,65.3631,65.3683,65.3741, 65.4832)
ORBIT_NUMBER = 2459
ORBITAL_ECCENTRICITY = 0.572
ORBITAL_INCLINATION = 86.63
ORBITAL_SEMIMAJOR_AXIS = 8533.91
PERIAPSIS_ALTITUDE = 274.45
PERIAPSIS_ARGUMENT_ANGLE = 286.05
PERIAPSIS_TIME = 2005-12-12T05:53:13.000Z
SPACECRAFT_ORIENTATION = (0.0,-1.0,0.0)
^MEX_ORIENTATION_DESC = "MEX_ORIENTATION_DESC.TXT"
SPACECRAFT_POINTING_MODE = ACROSSTRACK
^MEX_POINTING_DESC = "MEX_POINTING_DESC.TXT"
RIGHT_ASCENSION = -1e+32
DECLINATION = -1e+32
OFFSET_ANGLE = 0.23
SPACECRAFT_SOLAR_DISTANCE = 2.2522e+08
TARGET_NAME = MARS
/* CAMERA DATA ELEMENTS */
DETECTOR_TEMPERATURE = 20.0017
FOCAL_PLANE_TEMPERATURE = 9.195
INST_CMPRS_NAME = "DISCRETE COSINE TRANSFORMATION (DCT)"
INST_CMPRS_RATIO = 10.6382
INST_CMPRS_QUALITY = 0
INST_CMPRS_QUANTZ_TBL_ID = 0
INSTRUMENT_TEMPERATURE = 13.8847
LENS_TEMPERATURE = 9.6028
MACROPIXEL_SIZE = 2
MISSING_FRAMES = 2
PIXEL_SUBSAMPLING_FLAG = N
SIGNAL_CHAIN_ID = 3
/* RADIOMETRIC DATA ELEMENTS */
BANDWIDTH = 174.0
CENTER_FILTER_WAVELENGTH = 675.0
RADIANCE_OFFSET = 4.89221
RADIANCE_SCALING_FACTOR = 0.014189
REFLECTANCE_SCALING_FACTOR = 0.000387128
MEX:REFLECTANCE_OFFSET = 0.133477
/* IMAGE OBJECT DEFINITIONS */
OBJECT = IMAGE
  INTERCHANGE_FORMAT = BINARY
  LINES = 18003
  LINE_SAMPLES = 4502
  SAMPLE_TYPE = UNSIGNED_INTEGER
  SAMPLE_BITS = 8
  BANDS = 1
  BAND_STORAGE_TYPE = BAND_SEQUENTIAL
  MAXIMUM = 255
  MEAN = 101.581
  MINIMUM = 1
  STANDARD_DEVIATION = 33.2653
END_OBJECT = IMAGE
/* MAP OBJECT DEFINITIONS */
OBJECT = IMAGE_MAP_PROJECTION
  ^DATA_SET_MAP_PROJECTION_CATALOG= "DSMAP.CAT"
  A_AXIS_RADIUS = 3396.0
  B_AXIS_RADIUS = 3396.0
  C_AXIS_RADIUS = 3396.0
  CENTER_LATITUDE = 0.0
  CENTER_LONGITUDE = 67.0
  COORDINATE_SYSTEM_NAME = PLANETOGRAPHIC
  COORDINATE_SYSTEM_TYPE = "BODY-FIXED ROTATING"
  EASTERNMOST_LONGITUDE = 68.25620000000001
  FIRST_STANDARD_PARALLEL = "N/A"
  LINE_FIRST_PIXEL = 1
  LINE_LAST_PIXEL = 18003
  LINE_PROJECTION_OFFSET = -17048.25
  MAP_PROJECTION_ROTATION = 0.0
  MAP_PROJECTION_TYPE = SINUSOIDAL
  MAP_RESOLUTION = 1185.42760773333
  MAP_SCALE = 0.05
  MAXIMUM_LATITUDE = -14.3697
  MINIMUM_LATITUDE = -29.5703
  POSITIVE_LONGITUDE_DIRECTION = EAST
  REFERENCE_LATITUDE = "N/A"
  REFERENCE_LONGITUDE = "N/A"
  SAMPLE_FIRST_PIXEL = 1
  SAMPLE_LAST_PIXEL = 4502
  SAMPLE_PROJECTION_OFFSET = 2814.75
  SECOND_STANDARD_PARALLEL = "N/A"
  WESTERNMOST_LONGITUDE = 64.79730000000001
END_OBJECT = IMAGE_MAP_PROJECTION
/* The JPEG2000 image data file associated with this label. */
OBJECT = COMPRESSED_FILE
  FILE_NAME = "H2459_0009_P13.JP2"
  RECORD_TYPE = UNDEFINED
  FILE_RECORDS = UNK
  ENCODING_TYPE = "JP2"
  INTERCHANGE_FORMAT = BINARY
  UNCOMPRESSED_FILE_NAME = "H2459_0009_P13.IMG"
  REQUIRED_STORAGE_BYTES = "81076518"
  ^DESCRIPTION = "JP2INFO.TXT"
END_OBJECT = COMPRESSED_FILE
END
