PDS_VERSION_ID = PDS3
/* FILE DATA ELEMENTS */
RECORD_TYPE = STREAM
/* POINTERS TO DATA OBJECTS */
^COMPRESSED_FILE = "H2463_0009_P13.JP2"
/* IDENTIFICATION DATA ELEMENTS */
DATA_SET_ID = "MEX-M-HRSC-5-REFDR-MAPPROJECTED-V3.0"
DATA_SET_NAME = "MARS EXPRESS HRSC MAP PROJECTED REFDR V3.0"
DETECTOR_ID = MEX_HRSC_P1
EVENT_TYPE = "MARS-REGIONAL-MAPPING-Vo-Gl"
INSTRUMENT_HOST_ID = MEX
INSTRUMENT_HOST_NAME = "MARS EXPRESS"
INSTRUMENT_ID = HRSC
INSTRUMENT_NAME = "HIGH RESOLUTION STEREO CAMERA"
MISSION_NAME = "MARS EXPRESS"
MISSION_PHASE_NAME = ME_Phase_1
PROCESSING_LEVEL_ID = 3
PRODUCT_CREATION_TIME = 2016-04-06T10:39:59.000Z
PRODUCT_ID = "H2463_0009_P13.JP2"
RELEASE_ID = 0030
REVISION_ID = 0000
/* QUALITY DATA ELEMENTS */
DATA_QUALITY_ID = 1
DATA_QUALITY_DESC = "Data calculated based on original SPICE kernels"
/* TIME DATA ELEMENTS */
SPACECRAFT_CLOCK_START_COUNT = "1/0082543490.57156"
SPACECRAFT_CLOCK_STOP_COUNT = "1/0082543838.63342"
START_TIME = 2005-12-13T08:45:06.031Z
STOP_TIME = 2005-12-13T08:49:49.571Z
/* ORBITAL DATA ELEMENTS */
ASCENDING_NODE_LONGITUDE = 176.56
MAXIMUM_RESOLUTION = 44.7
FOOTPRINT_POINT_LATITUDE = (-73.3499,-73.4236,-73.4774,-73.1283, -72.7784,-72.2531,-71.9024,-71.3759, -71.0242,-70.6715,-70.3192,-69.9663, -69.4366,-69.0832,-68.7324,-68.3788, -68.0258,-67.6715,-67.1395,-66.7843, -66.4288,-66.0602,-65.6917,-65.3218, -64.767,-64.3986,-64.0289,-63.6596, -63.2903,-62.914,-62.5316,-62.1475, -61.7638,-61.3797,-60.9964,-60.6128, -60.2168,-59.8195,-59.4223,-59.0253, -58.6297,-58.2224,-57.8093,-57.196, -56.7852,-56.3623,-56.1502,-55.7266, -55.3036,-55.0881,-54.87,-54.6521, -54.5719,-54.5448,-54.4988,-54.6929, -54.9102,-55.3366,-55.7572,-56.179, -56.8068,-57.2159,-57.8288,-58.4402, -58.8352,-59.4287,-59.8243,-60.4134, -60.7982,-61.1864,-61.5659,-62.1375, -62.518,-62.8991,-63.2666,-63.818, -64.3702,-64.7383,-65.1062,-65.6563, -66.0235,-66.3842,-66.737,-67.0891, -67.613,-67.9641,-68.3149,-68.6659, -69.0168,-69.3668,-69.891,-70.2406, -70.7623,-71.1118,-71.4585,-71.805, -72.1519,-72.4971,-73.0139,-73.3499)
FOOTPRINT_POINT_LONGITUDE = (24.2785,25.208,26.8333,27.0771,27.3109 ,27.6441,27.8552,28.1566,28.348,28.5324 ,28.71,28.8811,29.1264,29.2828,29.4336, 29.5795,29.7204,29.8567,30.0529,30.1785 ,30.3,30.4222,30.5406,30.6553,30.8206, 30.9265,31.0292,31.1288,31.2254,31.3203 ,31.4147,31.5063,31.5951,31.6814, 31.7651,31.8464,31.9279,32.0073,32.0844 ,32.1593,32.232,32.3045,32.3757,32.4783 ,32.5444,32.6107,32.6432,32.7067, 32.7683,32.7991,32.8298,32.86,32.3392, 31.8818,31.1509,30.7811,30.7485,30.6825 ,30.6145,30.5451,30.4373,30.3648, 30.2496,30.1279,30.0461,29.9191,29.8303 ,29.6847,29.5962,29.5099,29.4063, 29.2483,29.1375,29.0263,28.914,28.7387, 28.5561,28.4292,28.2976,28.0886,27.9444 ,27.7972,27.6485,27.494,27.2442,27.0745 ,26.8986,26.7171,26.5294,26.3334, 26.0254,25.8114,25.4706,25.2369,24.989, 24.7317,24.4655,24.1859,23.7447, 24.2785)
ORBIT_NUMBER = 2463
ORBITAL_ECCENTRICITY = 0.572
ORBITAL_INCLINATION = 86.62
ORBITAL_SEMIMAJOR_AXIS = 8533.6
PERIAPSIS_ALTITUDE = 275.27
PERIAPSIS_ARGUMENT_ANGLE = 285.34
PERIAPSIS_TIME = 2005-12-13T08:45:09.000Z
SPACECRAFT_ORIENTATION = (0.0,-1.0,0.0)
^MEX_ORIENTATION_DESC = "MEX_ORIENTATION_DESC.TXT"
SPACECRAFT_POINTING_MODE = ACROSSTRACK
^MEX_POINTING_DESC = "MEX_POINTING_DESC.TXT"
RIGHT_ASCENSION = -1e+32
DECLINATION = -1e+32
OFFSET_ANGLE = 0.58
SPACECRAFT_SOLAR_DISTANCE = 2.25439e+08
TARGET_NAME = MARS
/* CAMERA DATA ELEMENTS */
DETECTOR_TEMPERATURE = 18.1666
FOCAL_PLANE_TEMPERATURE = 9.195
INST_CMPRS_NAME = "DISCRETE COSINE TRANSFORMATION (DCT)"
INST_CMPRS_RATIO = 26.4675
INST_CMPRS_QUALITY = 0
INST_CMPRS_QUANTZ_TBL_ID = 0
INSTRUMENT_TEMPERATURE = 12.4574
LENS_TEMPERATURE = 8.7872
MACROPIXEL_SIZE = 4
MISSING_FRAMES = 0
PIXEL_SUBSAMPLING_FLAG = N
SIGNAL_CHAIN_ID = 3
/* RADIOMETRIC DATA ELEMENTS */
BANDWIDTH = 174.0
CENTER_FILTER_WAVELENGTH = 675.0
RADIANCE_OFFSET = 3.02094
RADIANCE_SCALING_FACTOR = 0.01168
REFLECTANCE_SCALING_FACTOR = 0.000319291
MEX:REFLECTANCE_OFFSET = 0.0825822
/* IMAGE OBJECT DEFINITIONS */
OBJECT = IMAGE
  INTERCHANGE_FORMAT = BINARY
  LINES = 22484
  LINE_SAMPLES = 4180
  SAMPLE_TYPE = UNSIGNED_INTEGER
  SAMPLE_BITS = 8
  BANDS = 1
  BAND_STORAGE_TYPE = BAND_SEQUENTIAL
  MAXIMUM = 255
  MEAN = 136.426
  MINIMUM = 1
  STANDARD_DEVIATION = 30.9293
END_OBJECT = IMAGE
/* MAP OBJECT DEFINITIONS */
OBJECT = IMAGE_MAP_PROJECTION
  ^DATA_SET_MAP_PROJECTION_CATALOG= "DSMAP.CAT"
  A_AXIS_RADIUS = 3396.0
  B_AXIS_RADIUS = 3396.0
  C_AXIS_RADIUS = 3396.0
  CENTER_LATITUDE = 0.0
  CENTER_LONGITUDE = 30.0
  COORDINATE_SYSTEM_NAME = PLANETOGRAPHIC
  COORDINATE_SYSTEM_TYPE = "BODY-FIXED ROTATING"
  EASTERNMOST_LONGITUDE = 32.86
  FIRST_STANDARD_PARALLEL = "N/A"
  LINE_FIRST_PIXEL = 1
  LINE_LAST_PIXEL = 22484
  LINE_PROJECTION_OFFSET = -64595.625
  MAP_PROJECTION_ROTATION = 0.0
  MAP_PROJECTION_TYPE = SINUSOIDAL
  MAP_RESOLUTION = 1185.42760773333
  MAP_SCALE = 0.05
  MAXIMUM_LATITUDE = -54.4988
  MINIMUM_LATITUDE = -73.4774
  POSITIVE_LONGITUDE_DIRECTION = EAST
  REFERENCE_LATITUDE = "N/A"
  REFERENCE_LONGITUDE = "N/A"
  SAMPLE_FIRST_PIXEL = 1
  SAMPLE_LAST_PIXEL = 4180
  SAMPLE_PROJECTION_OFFSET = 2182.375
  SECOND_STANDARD_PARALLEL = "N/A"
  WESTERNMOST_LONGITUDE = 23.7447
END_OBJECT = IMAGE_MAP_PROJECTION
/* The JPEG2000 image data file associated with this label. */
OBJECT = COMPRESSED_FILE
  FILE_NAME = "H2463_0009_P13.JP2"
  RECORD_TYPE = UNDEFINED
  FILE_RECORDS = UNK
  ENCODING_TYPE = "JP2"
  INTERCHANGE_FORMAT = BINARY
  UNCOMPRESSED_FILE_NAME = "H2463_0009_P13.IMG"
  REQUIRED_STORAGE_BYTES = "94008200"
  ^DESCRIPTION = "JP2INFO.TXT"
END_OBJECT = COMPRESSED_FILE
END
