PDS_VERSION_ID = PDS3
/* FILE DATA ELEMENTS */
RECORD_TYPE = STREAM
/* POINTERS TO DATA OBJECTS */
^COMPRESSED_FILE = "H2463_0009_S13.JP2"
/* IDENTIFICATION DATA ELEMENTS */
DATA_SET_ID = "MEX-M-HRSC-5-REFDR-MAPPROJECTED-V3.0"
DATA_SET_NAME = "MARS EXPRESS HRSC MAP PROJECTED REFDR V3.0"
DETECTOR_ID = MEX_HRSC_S1
EVENT_TYPE = "MARS-REGIONAL-MAPPING-Vo-Gl"
INSTRUMENT_HOST_ID = MEX
INSTRUMENT_HOST_NAME = "MARS EXPRESS"
INSTRUMENT_ID = HRSC
INSTRUMENT_NAME = "HIGH RESOLUTION STEREO CAMERA"
MISSION_NAME = "MARS EXPRESS"
MISSION_PHASE_NAME = ME_Phase_1
PROCESSING_LEVEL_ID = 3
PRODUCT_CREATION_TIME = 2016-04-06T10:39:59.000Z
PRODUCT_ID = "H2463_0009_S13.JP2"
RELEASE_ID = 0030
REVISION_ID = 0000
/* QUALITY DATA ELEMENTS */
DATA_QUALITY_ID = 1
DATA_QUALITY_DESC = "Data calculated based on original SPICE kernels"
/* TIME DATA ELEMENTS */
SPACECRAFT_CLOCK_START_COUNT = "1/0082543490.57156"
SPACECRAFT_CLOCK_STOP_COUNT = "1/0082543838.63342"
START_TIME = 2005-12-13T08:44:57.713Z
STOP_TIME = 2005-12-13T08:49:39.603Z
/* ORBITAL DATA ELEMENTS */
ASCENDING_NODE_LONGITUDE = 176.56
MAXIMUM_RESOLUTION = 23.1
FOOTPRINT_POINT_LATITUDE = (-73.3343,-73.478,-73.5529,-73.3211, -72.9713,-72.6207,-72.2701,-71.9189, -71.3917,-71.0392,-70.6853,-70.3319, -69.9778,-69.4461,-69.0912,-68.7406, -68.3852,-67.853,-67.4969,-67.1394, -66.7817,-66.2449,-65.8876,-65.5172, -65.1437,-64.7708,-64.2129,-63.6541, -63.2815,-62.9044,-62.5332,-62.148, -61.5655,-60.9837,-60.5956,-60.0132, -59.4112,-59.009,-58.6084,-58.2065, -57.7965,-57.3834,-56.9657,-56.5494, -56.1299,-55.9145,-55.6995,-55.4844, -55.2695,-55.0545,-54.6253,-54.5717, -54.5317,-54.5011,-54.4588,-54.8872, -55.3135,-55.7409,-56.163,-56.581, -56.9957,-57.4116,-57.8233,-58.223, -58.6233,-59.0239,-59.4249,-60.0192, -60.3977,-60.7911,-61.1839,-61.5665, -61.9503,-62.3349,-62.8904,-63.447, -63.8178,-64.1892,-64.7465,-65.118, -65.4861,-66.0272,-66.3824,-66.7375, -67.2691,-67.6169,-67.9696,-68.4984, -68.8509,-69.3785,-69.9046,-70.255, -70.7779,-71.1288,-71.4756,-71.8228, -72.1703,-72.5156,-73.0326,-73.3343)
FOOTPRINT_POINT_LONGITUDE = (23.6898,25.3568,26.3135,26.9589, 27.1975,27.4265,27.6462,27.8573,28.1587 ,28.3502,28.535,28.7127,28.884,29.1297, 29.2864,29.4368,29.583,29.7929,29.9273, 30.0575,30.1835,30.3651,30.4813,30.598, 30.7116,30.8216,30.98,31.1313,31.2284, 31.3231,31.4144,31.506,31.6393,31.7667, 31.8486,31.9671,32.0843,32.1598,32.233, 32.3042,32.3745,32.4439,32.5117,32.5774 ,32.6418,32.6741,32.7059,32.7373, 32.7682,32.7987,32.8583,32.4158,31.8088 ,31.3739,30.8276,30.7647,30.6973, 30.6282,30.5582,30.487,30.4138,30.339, 30.2601,30.1807,30.099,30.0148,29.928, 29.7949,29.6958,29.6083,29.5171,29.4126 ,29.3059,29.1992,29.0345,28.863,28.7438 ,28.6213,28.4302,28.2975,28.1566,27.946 ,27.8008,27.6508,27.4152,27.244,27.0729 ,26.8053,26.6192,26.3267,26.0169, 25.8007,25.4586,25.223,24.9735,24.7152, 24.4475,24.1667,23.7235,23.6898)
ORBIT_NUMBER = 2463
ORBITAL_ECCENTRICITY = 0.572
ORBITAL_INCLINATION = 86.62
ORBITAL_SEMIMAJOR_AXIS = 8533.6
PERIAPSIS_ALTITUDE = 275.27
PERIAPSIS_ARGUMENT_ANGLE = 285.34
PERIAPSIS_TIME = 2005-12-13T08:45:09.000Z
SPACECRAFT_ORIENTATION = (0.0,-1.0,0.0)
^MEX_ORIENTATION_DESC = "MEX_ORIENTATION_DESC.TXT"
SPACECRAFT_POINTING_MODE = ACROSSTRACK
^MEX_POINTING_DESC = "MEX_POINTING_DESC.TXT"
RIGHT_ASCENSION = -1e+32
DECLINATION = -1e+32
OFFSET_ANGLE = 0.58
SPACECRAFT_SOLAR_DISTANCE = 2.25439e+08
TARGET_NAME = MARS
/* CAMERA DATA ELEMENTS */
DETECTOR_TEMPERATURE = 18.1666
FOCAL_PLANE_TEMPERATURE = 9.195
INST_CMPRS_NAME = "DISCRETE COSINE TRANSFORMATION (DCT)"
INST_CMPRS_RATIO = 10.0119
INST_CMPRS_QUALITY = 0
INST_CMPRS_QUANTZ_TBL_ID = 0
INSTRUMENT_TEMPERATURE = 12.4574
LENS_TEMPERATURE = 8.7872
MACROPIXEL_SIZE = 2
MISSING_FRAMES = 1
PIXEL_SUBSAMPLING_FLAG = N
SIGNAL_CHAIN_ID = 1
/* RADIOMETRIC DATA ELEMENTS */
BANDWIDTH = 180.0
CENTER_FILTER_WAVELENGTH = 677.0
RADIANCE_OFFSET = 3.31121
RADIANCE_SCALING_FACTOR = 0.0122213
REFLECTANCE_SCALING_FACTOR = 0.000324053
MEX:REFLECTANCE_OFFSET = 0.0877982
/* IMAGE OBJECT DEFINITIONS */
OBJECT = IMAGE
  INTERCHANGE_FORMAT = BINARY
  LINES = 44967
  LINE_SAMPLES = 8360
  SAMPLE_TYPE = UNSIGNED_INTEGER
  SAMPLE_BITS = 8
  BANDS = 1
  BAND_STORAGE_TYPE = BAND_SEQUENTIAL
  MAXIMUM = 255
  MEAN = 135.63
  MINIMUM = 1
  STANDARD_DEVIATION = 30.3539
END_OBJECT = IMAGE
/* MAP OBJECT DEFINITIONS */
OBJECT = IMAGE_MAP_PROJECTION
  ^DATA_SET_MAP_PROJECTION_CATALOG= "DSMAP.CAT"
  A_AXIS_RADIUS = 3396.0
  B_AXIS_RADIUS = 3396.0
  C_AXIS_RADIUS = 3396.0
  CENTER_LATITUDE = 0.0
  CENTER_LONGITUDE = 30.0
  COORDINATE_SYSTEM_NAME = PLANETOGRAPHIC
  COORDINATE_SYSTEM_TYPE = "BODY-FIXED ROTATING"
  EASTERNMOST_LONGITUDE = 32.8583
  FIRST_STANDARD_PARALLEL = "N/A"
  LINE_FIRST_PIXEL = 1
  LINE_LAST_PIXEL = 44967
  LINE_PROJECTION_OFFSET = -129190.75
  MAP_PROJECTION_ROTATION = 0.0
  MAP_PROJECTION_TYPE = SINUSOIDAL
  MAP_RESOLUTION = 2370.85521546667
  MAP_SCALE = 0.025
  MAXIMUM_LATITUDE = -54.4588
  MINIMUM_LATITUDE = -73.55289999999999
  POSITIVE_LONGITUDE_DIRECTION = EAST
  REFERENCE_LATITUDE = "N/A"
  REFERENCE_LONGITUDE = "N/A"
  SAMPLE_FIRST_PIXEL = 1
  SAMPLE_LAST_PIXEL = 8360
  SAMPLE_PROJECTION_OFFSET = 4365.25
  SECOND_STANDARD_PARALLEL = "N/A"
  WESTERNMOST_LONGITUDE = 23.6898
END_OBJECT = IMAGE_MAP_PROJECTION
/* The JPEG2000 image data file associated with this label. */
OBJECT = COMPRESSED_FILE
  FILE_NAME = "H2463_0009_S13.JP2"
  RECORD_TYPE = UNDEFINED
  FILE_RECORDS = UNK
  ENCODING_TYPE = "JP2"
  INTERCHANGE_FORMAT = BINARY
  UNCOMPRESSED_FILE_NAME = "H2463_0009_S13.IMG"
  REQUIRED_STORAGE_BYTES = "375957560"
  ^DESCRIPTION = "JP2INFO.TXT"
END_OBJECT = COMPRESSED_FILE
END
