PDS_VERSION_ID = PDS3
/* FILE DATA ELEMENTS */
RECORD_TYPE = STREAM
/* POINTERS TO DATA OBJECTS */
^COMPRESSED_FILE = "H2465_0000_P23.JP2"
/* IDENTIFICATION DATA ELEMENTS */
DATA_SET_ID = "MEX-M-HRSC-5-REFDR-MAPPROJECTED-V3.0"
DATA_SET_NAME = "MARS EXPRESS HRSC MAP PROJECTED REFDR V3.0"
DETECTOR_ID = MEX_HRSC_P2
EVENT_TYPE = "MARS-REGIONAL-MAPPING-Te-Im"
INSTRUMENT_HOST_ID = MEX
INSTRUMENT_HOST_NAME = "MARS EXPRESS"
INSTRUMENT_ID = HRSC
INSTRUMENT_NAME = "HIGH RESOLUTION STEREO CAMERA"
MISSION_NAME = "MARS EXPRESS"
MISSION_PHASE_NAME = ME_Phase_1
PROCESSING_LEVEL_ID = 3
PRODUCT_CREATION_TIME = 2016-04-06T10:39:59.000Z
PRODUCT_ID = "H2465_0000_P23.JP2"
RELEASE_ID = 0030
REVISION_ID = 0000
/* QUALITY DATA ELEMENTS */
DATA_QUALITY_ID = 1
DATA_QUALITY_DESC = "Data calculated based on original SPICE kernels"
/* TIME DATA ELEMENTS */
SPACECRAFT_CLOCK_START_COUNT = "1/0082591949.57287"
SPACECRAFT_CLOCK_STOP_COUNT = "1/0082592298.08224"
START_TIME = 2005-12-13T22:13:17.793Z
STOP_TIME = 2005-12-13T22:18:08.123Z
/* ORBITAL DATA ELEMENTS */
ASCENDING_NODE_LONGITUDE = 176.52
MAXIMUM_RESOLUTION = 47
FOOTPRINT_POINT_LATITUDE = (-67.2219,-67.2684,-67.3734,-67.0512, -66.5697,-66.2502,-65.9301,-65.6136, -65.2932,-64.9655,-64.634,-64.3026, -63.9718,-63.6424,-63.1508,-62.8202, -62.3047,-61.7949,-61.4546,-61.1166, -60.5952,-60.2458,-59.8974,-59.3773, -59.0188,-58.6577,-58.3003,-57.9435, -57.5765,-57.0267,-56.6608,-56.1182, -55.7545,-55.3863,-55.0271,-54.6667, -54.3067,-53.6794,-53.2525,-52.8259, -52.3987,-51.9778,-51.5555,-51.1348, -50.715,-50.2958,-49.867,-49.4436, -49.203,-49.1879,-49.172,-49.3713, -49.7968,-50.2224,-50.6398,-51.0523, -51.6861,-52.1084,-52.5318,-52.9557, -53.3813,-53.8079,-54.2219,-54.5801, -54.9398,-55.3004,-55.6611,-56.0252, -56.3899,-56.7539,-57.119,-57.4864, -57.8494,-58.2046,-58.74,-59.0974, -59.4507,-59.7969,-60.1445,-60.493, -60.8419,-61.1824,-61.5203,-61.8579, -62.1981,-62.5342,-62.8701,-63.1982, -63.5255,-63.8541,-64.1829,-64.512, -65.0052,-65.3254,-65.643,-66.1192, -66.439,-66.7583,-67.2371,-67.2219)
FOOTPRINT_POINT_LONGITUDE = (192.65,193.582,194.607,194.709,194.858 ,194.953,195.046,195.137,195.224, 195.309,195.394,195.476,195.557,195.635 ,195.75,195.823,195.931,196.036,196.103 ,196.169,196.267,196.33,196.392,196.483 ,196.542,196.6,196.656,196.712,196.767, 196.847,196.899,196.977,197.025,197.071 ,197.118,197.164,197.208,197.282, 197.331,197.379,197.424,197.47,197.513, 197.556,197.597,197.636,197.676,197.716 ,197.297,196.624,196.054,195.459, 195.427,195.395,195.36,195.331,195.271, 195.23,195.188,195.145,195.1,195.053, 195.006,194.965,194.921,194.875,194.829 ,194.778,194.725,194.672,194.617, 194.558,194.503,194.444,194.35,194.285, 194.218,194.152,194.082,194.009,193.934 ,193.858,193.781,193.702,193.617, 193.538,193.451,193.363,193.275,193.182 ,193.086,192.987,192.835,192.726, 192.621,192.457,192.339,192.218,192.031 ,192.65)
ORBIT_NUMBER = 2465
ORBITAL_ECCENTRICITY = 0.572
ORBITAL_INCLINATION = 86.63
ORBITAL_SEMIMAJOR_AXIS = 8532.05
PERIAPSIS_ALTITUDE = 275.09
PERIAPSIS_ARGUMENT_ANGLE = 285.0
PERIAPSIS_TIME = 2005-12-13T22:11:11.000Z
SPACECRAFT_ORIENTATION = (0.0,-1.0,0.0)
^MEX_ORIENTATION_DESC = "MEX_ORIENTATION_DESC.TXT"
SPACECRAFT_POINTING_MODE = ACROSSTRACK
^MEX_POINTING_DESC = "MEX_POINTING_DESC.TXT"
RIGHT_ASCENSION = -1e+32
DECLINATION = -1e+32
OFFSET_ANGLE = 0.2
SPACECRAFT_SOLAR_DISTANCE = 2.25548e+08
TARGET_NAME = MARS
/* CAMERA DATA ELEMENTS */
DETECTOR_TEMPERATURE = 18.5744
FOCAL_PLANE_TEMPERATURE = 8.3794
INST_CMPRS_NAME = "DISCRETE COSINE TRANSFORMATION (DCT)"
INST_CMPRS_RATIO = 14.3141
INST_CMPRS_QUALITY = 0
INST_CMPRS_QUANTZ_TBL_ID = 0
INSTRUMENT_TEMPERATURE = 11.234
LENS_TEMPERATURE = 8.7872
MACROPIXEL_SIZE = 4
MISSING_FRAMES = 0
PIXEL_SUBSAMPLING_FLAG = N
SIGNAL_CHAIN_ID = 3
/* RADIOMETRIC DATA ELEMENTS */
BANDWIDTH = 177.0
CENTER_FILTER_WAVELENGTH = 676.5
RADIANCE_OFFSET = 3.0472
RADIANCE_SCALING_FACTOR = 0.0184977
REFLECTANCE_SCALING_FACTOR = 0.000498946
MEX:REFLECTANCE_OFFSET = 0.0821936
/* IMAGE OBJECT DEFINITIONS */
OBJECT = IMAGE
  INTERCHANGE_FORMAT = BINARY
  LINES = 21635
  LINE_SAMPLES = 3411
  SAMPLE_TYPE = UNSIGNED_INTEGER
  SAMPLE_BITS = 8
  BANDS = 1
  BAND_STORAGE_TYPE = BAND_SEQUENTIAL
  MAXIMUM = 255
  MEAN = 101.019
  MINIMUM = 1
  STANDARD_DEVIATION = 33.3631
END_OBJECT = IMAGE
/* MAP OBJECT DEFINITIONS */
OBJECT = IMAGE_MAP_PROJECTION
  ^DATA_SET_MAP_PROJECTION_CATALOG= "DSMAP.CAT"
  A_AXIS_RADIUS = 3396.0
  B_AXIS_RADIUS = 3396.0
  C_AXIS_RADIUS = 3396.0
  CENTER_LATITUDE = 0.0
  CENTER_LONGITUDE = 195.0
  COORDINATE_SYSTEM_NAME = PLANETOGRAPHIC
  COORDINATE_SYSTEM_TYPE = "BODY-FIXED ROTATING"
  EASTERNMOST_LONGITUDE = 197.716
  FIRST_STANDARD_PARALLEL = "N/A"
  LINE_FIRST_PIXEL = 1
  LINE_LAST_PIXEL = 21635
  LINE_PROJECTION_OFFSET = -58251.375
  MAP_PROJECTION_ROTATION = 0.0
  MAP_PROJECTION_TYPE = SINUSOIDAL
  MAP_RESOLUTION = 1185.42760773333
  MAP_SCALE = 0.05
  MAXIMUM_LATITUDE = -49.172
  MINIMUM_LATITUDE = -67.3734
  POSITIVE_LONGITUDE_DIRECTION = EAST
  REFERENCE_LATITUDE = "N/A"
  REFERENCE_LONGITUDE = "N/A"
  SAMPLE_FIRST_PIXEL = 1
  SAMPLE_LAST_PIXEL = 3411
  SAMPLE_PROJECTION_OFFSET = 1342.625
  SECOND_STANDARD_PARALLEL = "N/A"
  WESTERNMOST_LONGITUDE = 192.031
END_OBJECT = IMAGE_MAP_PROJECTION
/* The JPEG2000 image data file associated with this label. */
OBJECT = COMPRESSED_FILE
  FILE_NAME = "H2465_0000_P23.JP2"
  RECORD_TYPE = UNDEFINED
  FILE_RECORDS = UNK
  ENCODING_TYPE = "JP2"
  INTERCHANGE_FORMAT = BINARY
  UNCOMPRESSED_FILE_NAME = "H2465_0000_P23.IMG"
  REQUIRED_STORAGE_BYTES = "73820862"
  ^DESCRIPTION = "JP2INFO.TXT"
END_OBJECT = COMPRESSED_FILE
END
