PDS_VERSION_ID = PDS3
/* FILE DATA ELEMENTS */
RECORD_TYPE = STREAM
/* POINTERS TO DATA OBJECTS */
^COMPRESSED_FILE = "H2467_0000_BL3.JP2"
/* IDENTIFICATION DATA ELEMENTS */
DATA_SET_ID = "MEX-M-HRSC-5-REFDR-MAPPROJECTED-V3.0"
DATA_SET_NAME = "MARS EXPRESS HRSC MAP PROJECTED REFDR V3.0"
DETECTOR_ID = MEX_HRSC_BLUE
EVENT_TYPE = "MARS-REGIONAL-MAPPING-Im-Lc-Pf"
INSTRUMENT_HOST_ID = MEX
INSTRUMENT_HOST_NAME = "MARS EXPRESS"
INSTRUMENT_ID = HRSC
INSTRUMENT_NAME = "HIGH RESOLUTION STEREO CAMERA"
MISSION_NAME = "MARS EXPRESS"
MISSION_PHASE_NAME = ME_Phase_1
PROCESSING_LEVEL_ID = 3
PRODUCT_CREATION_TIME = 2016-04-06T10:39:59.000Z
PRODUCT_ID = "H2467_0000_BL3.JP2"
RELEASE_ID = 0030
REVISION_ID = 0000
/* QUALITY DATA ELEMENTS */
DATA_QUALITY_ID = 1
DATA_QUALITY_DESC = "Data calculated based on original SPICE kernels"
/* TIME DATA ELEMENTS */
SPACECRAFT_CLOCK_START_COUNT = "1/0082640560.57973"
SPACECRAFT_CLOCK_STOP_COUNT = "1/0082640829.23467"
START_TIME = 2005-12-14T11:43:28.183Z
STOP_TIME = 2005-12-14T11:46:24.985Z
/* ORBITAL DATA ELEMENTS */
ASCENDING_NODE_LONGITUDE = 176.48
MAXIMUM_RESOLUTION = 125.7
FOOTPRINT_POINT_LATITUDE = (-50.7924,-50.8041,-50.815,-50.8252, -50.8347,-50.8433,-50.8511,-50.5831, -50.3021,-50.0226,-49.6484,-49.4577, -49.266,-49.0732,-48.8816,-48.6904, -48.495,-48.2999,-48.1048,-47.9101, -47.6129,-47.4137,-47.2147,-47.016, -46.813,-46.6099,-46.407,-46.2044, -45.9975,-45.6874,-45.481,-45.1662, -44.9556,-44.7454,-44.5331,-44.3191, -44.1036,-43.8888,-43.6706,-43.4526, -43.1243,-42.7927,-42.5715,-42.2329, -42.0071,-41.7794,-41.5506,-41.3222, -41.0906,-40.8595,-40.6272,-40.3902, -40.2735,-40.2696,-40.2648,-40.2575, -40.2499,-40.2428,-40.5949,-40.8257, -41.0573,-41.2882,-41.5162,-41.7443, -42.083,-42.3077,-42.5325,-42.753, -42.9738,-43.3036,-43.5206,-43.7379, -43.9548,-44.1682,-44.3818,-44.7014, -44.911,-45.121,-45.3313,-45.5385, -45.7454,-45.9519,-46.2589,-46.46, -46.7634,-46.9657,-47.164,-47.3626, -47.5614,-47.8578,-48.0523,-48.2469, -48.4419,-48.6372,-49.0183,-49.209, -49.5897,-49.9631,-50.3355,-50.7924)
FOOTPRINT_POINT_LONGITUDE = (359.995,360.307,360.621,360.937, 361.254,361.573,361.895,362.173,362.195 ,362.221,362.246,362.257,362.269, 362.276,362.286,362.297,362.31,362.323, 362.335,362.347,362.365,362.377,362.388 ,362.4,362.411,362.422,362.433,362.444, 362.454,362.471,362.482,362.498,362.508 ,362.519,362.532,362.544,362.549,362.56 ,362.57,362.58,362.597,362.615,362.625, 362.638,362.645,362.653,362.663,362.673 ,362.683,362.696,362.705,362.712, 362.239,361.853,361.513,361.128,360.768 ,360.454,360.302,360.301,360.3,360.297, 360.295,360.293,360.289,360.286,360.283 ,360.279,360.276,360.271,360.267, 360.262,360.258,360.253,360.248,360.24, 360.235,360.229,360.224,360.217,360.21, 360.204,360.194,360.188,360.178,360.171 ,360.163,360.156,360.148,360.136, 360.127,360.119,360.11,360.101,360.083, 360.073,360.054,360.034,360.015, 359.995)
ORBIT_NUMBER = 2467
ORBITAL_ECCENTRICITY = 0.572
ORBITAL_INCLINATION = 86.63
ORBITAL_SEMIMAJOR_AXIS = 8531.86
PERIAPSIS_ALTITUDE = 275.45
PERIAPSIS_ARGUMENT_ANGLE = 284.63
PERIAPSIS_TIME = 2005-12-14T11:37:11.000Z
SPACECRAFT_ORIENTATION = (0.0,-1.0,0.0)
^MEX_ORIENTATION_DESC = "MEX_ORIENTATION_DESC.TXT"
SPACECRAFT_POINTING_MODE = ACROSSTRACK
^MEX_POINTING_DESC = "MEX_POINTING_DESC.TXT"
RIGHT_ASCENSION = -1e+32
DECLINATION = -1e+32
OFFSET_ANGLE = -0.45
SPACECRAFT_SOLAR_DISTANCE = 2.25658e+08
TARGET_NAME = MARS
/* CAMERA DATA ELEMENTS */
DETECTOR_TEMPERATURE = 18.1666
FOCAL_PLANE_TEMPERATURE = 8.3794
INST_CMPRS_NAME = "DISCRETE COSINE TRANSFORMATION (DCT)"
INST_CMPRS_RATIO = 17.4489
INST_CMPRS_QUALITY = 0
INST_CMPRS_QUANTZ_TBL_ID = 0
INSTRUMENT_TEMPERATURE = 11.0301
LENS_TEMPERATURE = 8.9911
MACROPIXEL_SIZE = 8
MISSING_FRAMES = 0
PIXEL_SUBSAMPLING_FLAG = N
SIGNAL_CHAIN_ID = 2
/* RADIOMETRIC DATA ELEMENTS */
BANDWIDTH = 76.0
CENTER_FILTER_WAVELENGTH = 444.0
RADIANCE_OFFSET = 0.678356
RADIANCE_SCALING_FACTOR = 0.00139596
REFLECTANCE_SCALING_FACTOR = 7.3035e-05
MEX:REFLECTANCE_OFFSET = 0.0354909
/* IMAGE OBJECT DEFINITIONS */
OBJECT = IMAGE
  INTERCHANGE_FORMAT = BINARY
  LINES = 6295
  LINE_SAMPLES = 1178
  SAMPLE_TYPE = UNSIGNED_INTEGER
  SAMPLE_BITS = 8
  BANDS = 1
  BAND_STORAGE_TYPE = BAND_SEQUENTIAL
  MAXIMUM = 255
  MEAN = 154.172
  MINIMUM = 1
  STANDARD_DEVIATION = 23.0455
END_OBJECT = IMAGE
/* MAP OBJECT DEFINITIONS */
OBJECT = IMAGE_MAP_PROJECTION
  ^DATA_SET_MAP_PROJECTION_CATALOG= "DSMAP.CAT"
  A_AXIS_RADIUS = 3396.0
  B_AXIS_RADIUS = 3396.0
  C_AXIS_RADIUS = 3396.0
  CENTER_LATITUDE = 0.0
  CENTER_LONGITUDE = 1.0
  COORDINATE_SYSTEM_NAME = PLANETOGRAPHIC
  COORDINATE_SYSTEM_TYPE = "BODY-FIXED ROTATING"
  EASTERNMOST_LONGITUDE = 2.712
  FIRST_STANDARD_PARALLEL = "N/A"
  LINE_FIRST_PIXEL = 1
  LINE_LAST_PIXEL = 6295
  LINE_PROJECTION_OFFSET = -23858.0625
  MAP_PROJECTION_ROTATION = 0.0
  MAP_PROJECTION_TYPE = SINUSOIDAL
  MAP_RESOLUTION = 592.713803866667
  MAP_SCALE = 0.1
  MAXIMUM_LATITUDE = -40.2428
  MINIMUM_LATITUDE = -50.8511
  POSITIVE_LONGITUDE_DIRECTION = EAST
  REFERENCE_LATITUDE = "N/A"
  REFERENCE_LONGITUDE = "N/A"
  SAMPLE_FIRST_PIXEL = 1
  SAMPLE_LAST_PIXEL = 1178
  SAMPLE_PROJECTION_OFFSET = 375.9375
  SECOND_STANDARD_PARALLEL = "N/A"
  WESTERNMOST_LONGITUDE = -0.005
END_OBJECT = IMAGE_MAP_PROJECTION
/* The JPEG2000 image data file associated with this label. */
OBJECT = COMPRESSED_FILE
  FILE_NAME = "H2467_0000_BL3.JP2"
  RECORD_TYPE = UNDEFINED
  FILE_RECORDS = UNK
  ENCODING_TYPE = "JP2"
  INTERCHANGE_FORMAT = BINARY
  UNCOMPRESSED_FILE_NAME = "H2467_0000_BL3.IMG"
  REQUIRED_STORAGE_BYTES = "7435536"
  ^DESCRIPTION = "JP2INFO.TXT"
END_OBJECT = COMPRESSED_FILE
END
