PDS_VERSION_ID = PDS3
/* FILE DATA ELEMENTS */
RECORD_TYPE = STREAM
/* POINTERS TO DATA OBJECTS */
^COMPRESSED_FILE = "H2467_0000_ND3.JP2"
/* IDENTIFICATION DATA ELEMENTS */
DATA_SET_ID = "MEX-M-HRSC-5-REFDR-MAPPROJECTED-V3.0"
DATA_SET_NAME = "MARS EXPRESS HRSC MAP PROJECTED REFDR V3.0"
DETECTOR_ID = MEX_HRSC_NADIR
EVENT_TYPE = "MARS-REGIONAL-MAPPING-Im-Lc-Pf"
INSTRUMENT_HOST_ID = MEX
INSTRUMENT_HOST_NAME = "MARS EXPRESS"
INSTRUMENT_ID = HRSC
INSTRUMENT_NAME = "HIGH RESOLUTION STEREO CAMERA"
MISSION_NAME = "MARS EXPRESS"
MISSION_PHASE_NAME = ME_Phase_1
PROCESSING_LEVEL_ID = 3
PRODUCT_CREATION_TIME = 2016-04-06T10:39:59.000Z
PRODUCT_ID = "H2467_0000_ND3.JP2"
RELEASE_ID = 0030
REVISION_ID = 0000
/* QUALITY DATA ELEMENTS */
DATA_QUALITY_ID = 1
DATA_QUALITY_DESC = "Data calculated based on original SPICE kernels"
/* TIME DATA ELEMENTS */
SPACECRAFT_CLOCK_START_COUNT = "1/0082640560.57973"
SPACECRAFT_CLOCK_STOP_COUNT = "1/0082640829.23467"
START_TIME = 2005-12-14T11:43:21.850Z
STOP_TIME = 2005-12-14T11:46:15.838Z
/* ORBITAL DATA ELEMENTS */
ASCENDING_NODE_LONGITUDE = 176.48
MAXIMUM_RESOLUTION = 14.4
FOOTPRINT_POINT_LATITUDE = (-50.8177,-50.8288,-50.8391,-50.8485, -50.8569,-50.8645,-50.7748,-50.5814, -50.3882,-50.1954,-50.0027,-49.6178, -49.2337,-48.9393,-48.7427,-48.5464, -48.3503,-48.0509,-47.8502,-47.6498, -47.4496,-47.2457,-47.0409,-46.8363, -46.6321,-46.4246,-46.2158,-46.0072, -45.7989,-45.4808,-45.2681,-45.0558, -44.7327,-44.5161,-44.2998,-43.9704, -43.75,-43.5298,-43.3064,-43.082, -42.8579,-42.6312,-42.4029,-42.1749, -41.9444,-41.7123,-41.4806,-41.2459, -41.0101,-40.7747,-40.5353,-40.2833, -40.28,-40.2744,-40.2691,-40.2608, -40.2515,-40.4902,-40.7291,-40.9638, -41.199,-41.4333,-41.6643,-41.8958, -42.1258,-42.3531,-42.5808,-42.8071, -43.0306,-43.2545,-43.4775,-43.6971, -43.917,-44.2457,-44.4614,-44.6775, -45.0001,-45.2119,-45.424,-45.7416, -45.9493,-46.1574,-46.3657,-46.5729, -46.7767,-46.9807,-47.185,-47.3887, -47.5884,-47.7884,-47.9886,-48.2876, -48.4832,-48.6791,-48.8752,-49.169, -49.5522,-49.9362,-50.321,-50.8177)
FOOTPRINT_POINT_LONGITUDE = (0.147649,0.477199,0.808871,1.14233, 1.4775,1.81502,2.17806,2.19127,2.20324, 2.22264,2.2394,2.2648,2.28848,2.299, 2.30989,2.32314,2.33624,2.35454,2.36727 ,2.37932,2.39101,2.40259,2.41427, 2.42574,2.43678,2.44791,2.45882,2.46943 ,2.48015,2.49714,2.5077,2.5184,2.53421, 2.54806,2.55966,2.56977,2.58111,2.5908, 2.60093,2.61381,2.62606,2.63601,2.64579 ,2.65266,2.65995,2.66937,2.67981,2.6897 ,2.69971,2.71276,2.72112,2.51283,2.0587 ,1.56003,1.20406,0.756006,0.321841, 0.320294,0.318896,0.317201,0.315382, 0.312687,0.310253,0.307633,0.304652, 0.301332,0.297917,0.29448,0.290843, 0.286939,0.282806,0.278469,0.273419, 0.265996,0.260834,0.25536,0.246924, 0.241208,0.234823,0.223873,0.21736, 0.210688,0.204042,0.19788,0.19087, 0.183224,0.175293,0.167321,0.159223, 0.150914,0.142394,0.129179,0.120097, 0.110909,0.101425,0.0869921,0.0674949, 0.0465566,0.0243114,0.147649)
ORBIT_NUMBER = 2467
ORBITAL_ECCENTRICITY = 0.572
ORBITAL_INCLINATION = 86.63
ORBITAL_SEMIMAJOR_AXIS = 8531.86
PERIAPSIS_ALTITUDE = 275.45
PERIAPSIS_ARGUMENT_ANGLE = 284.63
PERIAPSIS_TIME = 2005-12-14T11:37:11.000Z
SPACECRAFT_ORIENTATION = (0.0,-1.0,0.0)
^MEX_ORIENTATION_DESC = "MEX_ORIENTATION_DESC.TXT"
SPACECRAFT_POINTING_MODE = ACROSSTRACK
^MEX_POINTING_DESC = "MEX_POINTING_DESC.TXT"
RIGHT_ASCENSION = -1e+32
DECLINATION = -1e+32
OFFSET_ANGLE = -0.45
SPACECRAFT_SOLAR_DISTANCE = 2.25658e+08
TARGET_NAME = MARS
/* CAMERA DATA ELEMENTS */
DETECTOR_TEMPERATURE = 18.1666
FOCAL_PLANE_TEMPERATURE = 8.3794
INST_CMPRS_NAME = "DISCRETE COSINE TRANSFORMATION (DCT)"
INST_CMPRS_RATIO = 6.81822
INST_CMPRS_QUALITY = 0
INST_CMPRS_QUANTZ_TBL_ID = 0
INSTRUMENT_TEMPERATURE = 11.0301
LENS_TEMPERATURE = 8.9911
MACROPIXEL_SIZE = 1
MISSING_FRAMES = 0
PIXEL_SUBSAMPLING_FLAG = N
SIGNAL_CHAIN_ID = 0
/* RADIOMETRIC DATA ELEMENTS */
BANDWIDTH = 177.0
CENTER_FILTER_WAVELENGTH = 677.5
RADIANCE_OFFSET = 3.50276
RADIANCE_SCALING_FACTOR = 0.0154776
REFLECTANCE_SCALING_FACTOR = 0.000418689
MEX:REFLECTANCE_OFFSET = 0.0947545
/* IMAGE OBJECT DEFINITIONS */
OBJECT = IMAGE
  INTERCHANGE_FORMAT = BINARY
  LINES = 50354
  LINE_SAMPLES = 9417
  SAMPLE_TYPE = UNSIGNED_INTEGER
  SAMPLE_BITS = 8
  BANDS = 1
  BAND_STORAGE_TYPE = BAND_SEQUENTIAL
  MAXIMUM = 255
  MEAN = 134.567
  MINIMUM = 1
  STANDARD_DEVIATION = 24.7707
END_OBJECT = IMAGE
/* MAP OBJECT DEFINITIONS */
OBJECT = IMAGE_MAP_PROJECTION
  ^DATA_SET_MAP_PROJECTION_CATALOG= "DSMAP.CAT"
  A_AXIS_RADIUS = 3396.0
  B_AXIS_RADIUS = 3396.0
  C_AXIS_RADIUS = 3396.0
  CENTER_LATITUDE = 0.0
  CENTER_LONGITUDE = 1.0
  COORDINATE_SYSTEM_NAME = PLANETOGRAPHIC
  COORDINATE_SYSTEM_TYPE = "BODY-FIXED ROTATING"
  EASTERNMOST_LONGITUDE = 2.72112
  FIRST_STANDARD_PARALLEL = "N/A"
  LINE_FIRST_PIXEL = 1
  LINE_LAST_PIXEL = 50354
  LINE_PROJECTION_OFFSET = -190861.0
  MAP_PROJECTION_ROTATION = 0.0
  MAP_PROJECTION_TYPE = SINUSOIDAL
  MAP_RESOLUTION = 4741.71043093333
  MAP_SCALE = 0.0125
  MAXIMUM_LATITUDE = -40.2515
  MINIMUM_LATITUDE = -50.8645
  POSITIVE_LONGITUDE_DIRECTION = EAST
  REFERENCE_LATITUDE = "N/A"
  REFERENCE_LONGITUDE = "N/A"
  SAMPLE_FIRST_PIXEL = 1
  SAMPLE_LAST_PIXEL = 9417
  SAMPLE_PROJECTION_OFFSET = 3011.0
  SECOND_STANDARD_PARALLEL = "N/A"
  WESTERNMOST_LONGITUDE = 0.024311
END_OBJECT = IMAGE_MAP_PROJECTION
/* The JPEG2000 image data file associated with this label. */
OBJECT = COMPRESSED_FILE
  FILE_NAME = "H2467_0000_ND3.JP2"
  RECORD_TYPE = UNDEFINED
  FILE_RECORDS = UNK
  ENCODING_TYPE = "JP2"
  INTERCHANGE_FORMAT = BINARY
  UNCOMPRESSED_FILE_NAME = "H2467_0000_ND3.IMG"
  REQUIRED_STORAGE_BYTES = "474221286"
  ^DESCRIPTION = "JP2INFO.TXT"
END_OBJECT = COMPRESSED_FILE
END
