PDS_VERSION_ID = PDS3
/* FILE DATA ELEMENTS */
RECORD_TYPE = STREAM
/* POINTERS TO DATA OBJECTS */
^COMPRESSED_FILE = "H2467_0002_SR3.JP2"
/* IDENTIFICATION DATA ELEMENTS */
DATA_SET_ID = "MEX-M-HRSC-5-REFDR-MAPPROJECTED-V3.0"
DATA_SET_NAME = "MARS EXPRESS HRSC MAP PROJECTED REFDR V3.0"
DETECTOR_ID = MEX_HRSC_SRC
EVENT_TYPE = "MARS-REGIONAL-MAPPING-Im-Lc-Pf"
INSTRUMENT_HOST_ID = MEX
INSTRUMENT_HOST_NAME = "MARS EXPRESS"
INSTRUMENT_ID = HRSC
INSTRUMENT_NAME = "HIGH RESOLUTION STEREO CAMERA"
MISSION_NAME = "MARS EXPRESS"
MISSION_PHASE_NAME = ME_Phase_1
PROCESSING_LEVEL_ID = 3
PRODUCT_CREATION_TIME = 2016-04-06T10:39:59.000Z
PRODUCT_ID = "H2467_0002_SR3.JP2"
RELEASE_ID = 0030
REVISION_ID = 0000
/* QUALITY DATA ELEMENTS */
DATA_QUALITY_ID = 1
DATA_QUALITY_DESC = "Data calculated based on original SPICE kernels"
/* TIME DATA ELEMENTS */
SPACECRAFT_CLOCK_START_COUNT = "1/0082640560.57973"
SPACECRAFT_CLOCK_STOP_COUNT = "1/0082640829.23467"
IMAGE_TIME = 2005-12-14T11:43:42.965Z
START_TIME = 2005-12-14T11:43:42.962Z
STOP_TIME = 2005-12-14T11:43:42.967Z
/* ORBITAL DATA ELEMENTS */
ASCENDING_NODE_LONGITUDE = 176.48
MAXIMUM_RESOLUTION = 3.704
FOOTPRINT_POINT_LATITUDE = (-49.4658,-49.4679,-49.4707,-49.4728, -49.4758,-49.4795,-49.4812,-49.4832, -49.4851,-49.4881,-49.4901,-49.4924, -49.4946,-49.4978,-49.5011,-49.5032, -49.5064,-49.5099,-49.5122,-49.5149, -49.5182,-49.5204,-49.522,-49.524, -49.5265,-49.5284,-49.5283,-49.5282, -49.5281,-49.528,-49.5279,-49.5278, -49.5277,-49.5276,-49.5275,-49.5274, -49.5273,-49.5272,-49.5271,-49.527, -49.5269,-49.5268,-49.5267,-49.5266, -49.5265,-49.5264,-49.5263,-49.5262, -49.5261,-49.526,-49.5254,-49.5222, -49.5201,-49.5166,-49.5143,-49.5125, -49.5098,-49.5079,-49.5054,-49.5033, -49.4997,-49.496,-49.4922,-49.4896, -49.4863,-49.4835,-49.4818,-49.4793, -49.4764,-49.4743,-49.4727,-49.4704, -49.468,-49.4661,-49.4629,-49.463, -49.4631,-49.4632,-49.4633,-49.4634, -49.4634,-49.4635,-49.4636,-49.4637, -49.4638,-49.4639,-49.464,-49.4641, -49.4642,-49.4643,-49.4644,-49.4645, -49.4646,-49.4647,-49.4648,-49.4649, -49.465,-49.4651,-49.4652,-49.4658)
FOOTPRINT_POINT_LONGITUDE = (1.20314,1.20302,1.20286,1.20273, 1.20255,1.20234,1.20223,1.20212,1.20201 ,1.20183,1.20171,1.20157,1.20145, 1.20126,1.20106,1.20094,1.20075,1.20054 ,1.20041,1.20025,1.20006,1.19993, 1.19983,1.19971,1.19956,1.19742,1.19354 ,1.18967,1.1858,1.18192,1.17805,1.17418 ,1.17031,1.16643,1.16256,1.15869, 1.15482,1.15095,1.14708,1.1432,1.13933, 1.13546,1.13159,1.12772,1.12385,1.11998 ,1.11612,1.11225,1.10838,1.10451, 1.10106,1.10126,1.10138,1.1016,1.10174, 1.10185,1.10201,1.10213,1.10228,1.10241 ,1.10263,1.10285,1.10308,1.10324, 1.10344,1.10362,1.10372,1.10387,1.10405 ,1.10418,1.10427,1.10441,1.10456, 1.10468,1.10497,1.10883,1.11269,1.11656 ,1.12042,1.12429,1.12815,1.13202, 1.13588,1.13975,1.14361,1.14748,1.15134 ,1.15521,1.15908,1.16294,1.16681, 1.17068,1.17455,1.17841,1.18228,1.18615 ,1.19002,1.19389,1.19776,1.20314)
ORBIT_NUMBER = 2467
ORBITAL_ECCENTRICITY = 0.572
ORBITAL_INCLINATION = 86.63
ORBITAL_SEMIMAJOR_AXIS = 8531.86
PERIAPSIS_ALTITUDE = 275.45
PERIAPSIS_ARGUMENT_ANGLE = 284.63
PERIAPSIS_TIME = 2005-12-14T11:37:11.000Z
SPACECRAFT_ORIENTATION = (0.0,-1.0,0.0)
^MEX_ORIENTATION_DESC = "MEX_ORIENTATION_DESC.TXT"
SPACECRAFT_POINTING_MODE = ACROSSTRACK
^MEX_POINTING_DESC = "MEX_POINTING_DESC.TXT"
RIGHT_ASCENSION = -1e+32
DECLINATION = -1e+32
OFFSET_ANGLE = -0.45
SPACECRAFT_SOLAR_DISTANCE = 2.25658e+08
TARGET_NAME = MARS
/* CAMERA DATA ELEMENTS */
BUFFER_MODE_ID = BUFFER_8
EXPOSURE_DURATION = 5.04
INST_CMPRS_NAME = NONE
INST_CMPRS_RATIO = 1.0
INST_CMPRS_QUALITY = -2147483648
INST_CMPRS_QUANTZ_TBL_ID = -2147483648
INSTRUMENT_TEMPERATURE = 5.25551
MISSING_FRAMES = 0
START_BIT = 0
/* RADIOMETRIC DATA ELEMENTS */
BANDWIDTH = 250.0
CENTER_FILTER_WAVELENGTH = 600.0
RADIANCE_OFFSET = -9.99e+31
RADIANCE_SCALING_FACTOR = -9.99e+31
REFLECTANCE_SCALING_FACTOR = -9.99e+31
MEX:REFLECTANCE_OFFSET = -9.99e+31
/* IMAGE OBJECT DEFINITIONS */
OBJECT = IMAGE
  INTERCHANGE_FORMAT = BINARY
  LINES = 1638
  LINE_SAMPLES = 1660
  SAMPLE_TYPE = UNSIGNED_INTEGER
  SAMPLE_BITS = 8
  BANDS = 1
  BAND_STORAGE_TYPE = BAND_SEQUENTIAL
  MAXIMUM = 251
  MEAN = 141.421
  MINIMUM = 1
  STANDARD_DEVIATION = 32.382
END_OBJECT = IMAGE
/* MAP OBJECT DEFINITIONS */
OBJECT = IMAGE_MAP_PROJECTION
  ^DATA_SET_MAP_PROJECTION_CATALOG= "DSMAP.CAT"
  A_AXIS_RADIUS = 3396.19
  B_AXIS_RADIUS = 3396.19
  C_AXIS_RADIUS = 3396.19
  CENTER_LATITUDE = 0.0
  CENTER_LONGITUDE = 1.0
  COORDINATE_SYSTEM_NAME = PLANETOGRAPHIC
  COORDINATE_SYSTEM_TYPE = "BODY-FIXED ROTATING"
  EASTERNMOST_LONGITUDE = 1.20314
  FIRST_STANDARD_PARALLEL = "N/A"
  LINE_FIRST_PIXEL = 1
  LINE_LAST_PIXEL = 1638
  LINE_PROJECTION_OFFSET = -1171249.0
  MAP_PROJECTION_ROTATION = 0.0
  MAP_PROJECTION_TYPE = SINUSOIDAL
  MAP_RESOLUTION = 23709.8786048756
  MAP_SCALE = 0.0025
  MAXIMUM_LATITUDE = -49.4629
  MINIMUM_LATITUDE = -49.5284
  POSITIVE_LONGITUDE_DIRECTION = EAST
  REFERENCE_LATITUDE = "N/A"
  REFERENCE_LONGITUDE = "N/A"
  SAMPLE_FIRST_PIXEL = 1
  SAMPLE_LAST_PIXEL = 1660
  SAMPLE_PROJECTION_OFFSET = -1853.0
  SECOND_STANDARD_PARALLEL = "N/A"
  WESTERNMOST_LONGITUDE = 1.10106
END_OBJECT = IMAGE_MAP_PROJECTION
/* The JPEG2000 image data file associated with this label. */
OBJECT = COMPRESSED_FILE
  FILE_NAME = "H2467_0002_SR3.JP2"
  RECORD_TYPE = UNDEFINED
  FILE_RECORDS = UNK
  ENCODING_TYPE = "JP2"
  INTERCHANGE_FORMAT = BINARY
  UNCOMPRESSED_FILE_NAME = "H2467_0002_SR3.IMG"
  REQUIRED_STORAGE_BYTES = "2739000"
  ^DESCRIPTION = "JP2INFO.TXT"
END_OBJECT = COMPRESSED_FILE
END
