PDS_VERSION_ID = PDS3
/* FILE DATA ELEMENTS */
RECORD_TYPE = STREAM
/* POINTERS TO DATA OBJECTS */
^COMPRESSED_FILE = "H2469_0001_S13.JP2"
/* IDENTIFICATION DATA ELEMENTS */
DATA_SET_ID = "MEX-M-HRSC-5-REFDR-MAPPROJECTED-V3.0"
DATA_SET_NAME = "MARS EXPRESS HRSC MAP PROJECTED REFDR V3.0"
DETECTOR_ID = MEX_HRSC_S1
EVENT_TYPE = "MARS-REGIONAL-MAPPING-Im-Fl"
INSTRUMENT_HOST_ID = MEX
INSTRUMENT_HOST_NAME = "MARS EXPRESS"
INSTRUMENT_ID = HRSC
INSTRUMENT_NAME = "HIGH RESOLUTION STEREO CAMERA"
MISSION_NAME = "MARS EXPRESS"
MISSION_PHASE_NAME = ME_Phase_1
PROCESSING_LEVEL_ID = 3
PRODUCT_CREATION_TIME = 2016-04-06T10:39:59.000Z
PRODUCT_ID = "H2469_0001_S13.JP2"
RELEASE_ID = 0030
REVISION_ID = 0000
/* QUALITY DATA ELEMENTS */
DATA_QUALITY_ID = 1
DATA_QUALITY_DESC = "Data calculated based on original SPICE kernels"
/* TIME DATA ELEMENTS */
SPACECRAFT_CLOCK_START_COUNT = "1/0082689240.57946"
SPACECRAFT_CLOCK_STOP_COUNT = "1/0082689715.00724"
START_TIME = 2005-12-15T01:14:07.814Z
STOP_TIME = 2005-12-15T01:17:34.226Z
/* ORBITAL DATA ELEMENTS */
ASCENDING_NODE_LONGITUDE = 176.43
MAXIMUM_RESOLUTION = 53.7
FOOTPRINT_POINT_LATITUDE = (-30.6639,-30.6695,-30.6755,-30.6799, -30.6814,-30.6809,-30.6492,-30.2244, -29.9036,-29.4735,-29.0372,-28.8169, -28.5959,-28.2611,-28.0381,-27.8135, -27.586,-27.2446,-27.0159,-26.7841, -26.5516,-26.317,-25.9648,-25.7265, -25.3631,-25.1139,-24.7491,-24.5059, -24.151,-23.903,-23.5275,-23.2758, -23.0203,-22.7626,-22.3776,-21.9888, -21.7263,-21.463,-21.1985,-20.9313, -20.6638,-20.3948,-20.1205,-19.8494, -19.5752,-19.2953,-18.8772,-18.5971, -18.3942,-18.4045,-18.4098,-18.4142, -18.4192,-18.4219,-18.4238,-18.4273, -18.4252,-18.4266,-18.7083,-18.9853, -19.401,-19.8146,-20.2174,-20.6212, -20.8909,-21.154,-21.4235,-21.8121, -22.0734,-22.3301,-22.5872,-22.8331, -23.0849,-23.4662,-23.7245,-23.9703, -24.3394,-24.584,-24.8262,-25.0688, -25.3088,-25.6664,-26.021,-26.254, -26.4864,-26.717,-26.9493,-27.1787, -27.4073,-27.6335,-27.9723,-28.1947, -28.4185,-28.6388,-28.9698,-29.2964, -29.5145,-29.9442,-30.3693,-30.6639)
FOOTPRINT_POINT_LONGITUDE = (163.586,163.883,164.279,164.749, 165.145,165.542,165.957,165.968,165.976 ,165.985,165.995,166.0,166.004,166.012, 166.016,166.021,166.025,166.032,166.036 ,166.041,166.045,166.05,166.056,166.061 ,166.069,166.076,166.083,166.087, 166.088,166.092,166.098,166.102,166.107 ,166.112,166.118,166.123,166.128, 166.132,166.135,166.139,166.143,166.146 ,166.151,166.154,166.157,166.161, 166.166,166.169,165.922,165.547,165.297 ,165.047,164.704,164.455,164.174, 163.831,163.581,163.269,162.961,162.975 ,162.996,163.018,163.036,163.055, 163.069,163.08,163.094,163.11,163.122, 163.132,163.143,163.151,163.161,163.177 ,163.189,163.198,163.211,163.22,163.229 ,163.237,163.245,163.257,163.268, 163.275,163.282,163.288,163.295,163.302 ,163.308,163.314,163.323,163.328, 163.334,163.339,163.346,163.354,163.358 ,163.367,163.375,163.586)
ORBIT_NUMBER = 2469
ORBITAL_ECCENTRICITY = 0.572
ORBITAL_INCLINATION = 86.62
ORBITAL_SEMIMAJOR_AXIS = 8532.79
PERIAPSIS_ALTITUDE = 276.03
PERIAPSIS_ARGUMENT_ANGLE = 284.31
PERIAPSIS_TIME = 2005-12-15T01:03:13.000Z
SPACECRAFT_ORIENTATION = (0.0,-1.0,0.0)
^MEX_ORIENTATION_DESC = "MEX_ORIENTATION_DESC.TXT"
SPACECRAFT_POINTING_MODE = ACROSSTRACK
^MEX_POINTING_DESC = "MEX_POINTING_DESC.TXT"
RIGHT_ASCENSION = -1e+32
DECLINATION = -1e+32
OFFSET_ANGLE = -0.05
SPACECRAFT_SOLAR_DISTANCE = 2.25767e+08
TARGET_NAME = MARS
/* CAMERA DATA ELEMENTS */
DETECTOR_TEMPERATURE = 19.5939
FOCAL_PLANE_TEMPERATURE = 8.9911
INST_CMPRS_NAME = "DISCRETE COSINE TRANSFORMATION (DCT)"
INST_CMPRS_RATIO = 8.44316
INST_CMPRS_QUALITY = 0
INST_CMPRS_QUANTZ_TBL_ID = 0
INSTRUMENT_TEMPERATURE = 13.8847
LENS_TEMPERATURE = 9.6028
MACROPIXEL_SIZE = 2
MISSING_FRAMES = 0
PIXEL_SUBSAMPLING_FLAG = N
SIGNAL_CHAIN_ID = 1
/* RADIOMETRIC DATA ELEMENTS */
BANDWIDTH = 180.0
CENTER_FILTER_WAVELENGTH = 677.0
RADIANCE_OFFSET = 4.96618
RADIANCE_SCALING_FACTOR = 0.0239449
REFLECTANCE_SCALING_FACTOR = 0.000636771
MEX:REFLECTANCE_OFFSET = 0.132066
/* IMAGE OBJECT DEFINITIONS */
OBJECT = IMAGE
  INTERCHANGE_FORMAT = BINARY
  LINES = 14517
  LINE_SAMPLES = 4207
  SAMPLE_TYPE = UNSIGNED_INTEGER
  SAMPLE_BITS = 8
  BANDS = 1
  BAND_STORAGE_TYPE = BAND_SEQUENTIAL
  MAXIMUM = 255
  MEAN = 138.337
  MINIMUM = 1
  STANDARD_DEVIATION = 53.4252
END_OBJECT = IMAGE
/* MAP OBJECT DEFINITIONS */
OBJECT = IMAGE_MAP_PROJECTION
  ^DATA_SET_MAP_PROJECTION_CATALOG= "DSMAP.CAT"
  A_AXIS_RADIUS = 3396.0
  B_AXIS_RADIUS = 3396.0
  C_AXIS_RADIUS = 3396.0
  CENTER_LATITUDE = 0.0
  CENTER_LONGITUDE = 165.0
  COORDINATE_SYSTEM_NAME = PLANETOGRAPHIC
  COORDINATE_SYSTEM_TYPE = "BODY-FIXED ROTATING"
  EASTERNMOST_LONGITUDE = 166.169
  FIRST_STANDARD_PARALLEL = "N/A"
  LINE_FIRST_PIXEL = 1
  LINE_LAST_PIXEL = 14517
  LINE_PROJECTION_OFFSET = -21879.25
  MAP_PROJECTION_ROTATION = 0.0
  MAP_PROJECTION_TYPE = SINUSOIDAL
  MAP_RESOLUTION = 1185.42760773333
  MAP_SCALE = 0.05
  MAXIMUM_LATITUDE = -18.3942
  MINIMUM_LATITUDE = -30.6814
  POSITIVE_LONGITUDE_DIRECTION = EAST
  REFERENCE_LATITUDE = "N/A"
  REFERENCE_LONGITUDE = "N/A"
  SAMPLE_FIRST_PIXEL = 1
  SAMPLE_LAST_PIXEL = 4207
  SAMPLE_PROJECTION_OFFSET = 2617.25
  SECOND_STANDARD_PARALLEL = "N/A"
  WESTERNMOST_LONGITUDE = 162.961
END_OBJECT = IMAGE_MAP_PROJECTION
/* The JPEG2000 image data file associated with this label. */
OBJECT = COMPRESSED_FILE
  FILE_NAME = "H2469_0001_S13.JP2"
  RECORD_TYPE = UNDEFINED
  FILE_RECORDS = UNK
  ENCODING_TYPE = "JP2"
  INTERCHANGE_FORMAT = BINARY
  UNCOMPRESSED_FILE_NAME = "H2469_0001_S13.IMG"
  REQUIRED_STORAGE_BYTES = "61098261"
  ^DESCRIPTION = "JP2INFO.TXT"
END_OBJECT = COMPRESSED_FILE
END
