PDS_VERSION_ID = PDS3
/* FILE DATA ELEMENTS */
RECORD_TYPE = STREAM
/* POINTERS TO DATA OBJECTS */
^COMPRESSED_FILE = "H2475_0000_IR3.JP2"
/* IDENTIFICATION DATA ELEMENTS */
DATA_SET_ID = "MEX-M-HRSC-5-REFDR-MAPPROJECTED-V3.0"
DATA_SET_NAME = "MARS EXPRESS HRSC MAP PROJECTED REFDR V3.0"
DETECTOR_ID = MEX_HRSC_IR
EVENT_TYPE = "MARS-REGIONAL-MAPPING-Im-Fl-Pf"
INSTRUMENT_HOST_ID = MEX
INSTRUMENT_HOST_NAME = "MARS EXPRESS"
INSTRUMENT_ID = HRSC
INSTRUMENT_NAME = "HIGH RESOLUTION STEREO CAMERA"
MISSION_NAME = "MARS EXPRESS"
MISSION_PHASE_NAME = ME_Phase_1
PROCESSING_LEVEL_ID = 3
PRODUCT_CREATION_TIME = 2016-04-06T10:39:59.000Z
PRODUCT_ID = "H2475_0000_IR3.JP2"
RELEASE_ID = 0030
REVISION_ID = 0000
/* QUALITY DATA ELEMENTS */
DATA_QUALITY_ID = 1
DATA_QUALITY_DESC = "Data calculated based on original SPICE kernels"
/* TIME DATA ELEMENTS */
SPACECRAFT_CLOCK_START_COUNT = "1/0082833793.57319"
SPACECRAFT_CLOCK_STOP_COUNT = "1/0082834287.41936"
START_TIME = 2005-12-16T17:23:24.988Z
STOP_TIME = 2005-12-16T17:29:52.182Z
/* ORBITAL DATA ELEMENTS */
ASCENDING_NODE_LONGITUDE = 176.31
MAXIMUM_RESOLUTION = 47.8
FOOTPRINT_POINT_LATITUDE = (-66.6863,-66.7556,-66.0847,-65.4671, -65.0547,-64.6441,-64.0068,-63.5758, -63.1472,-62.7191,-62.2918,-61.8569, -61.4139,-60.7503,-60.3069,-59.8553, -59.1694,-58.7126,-58.2524,-57.7795, -57.3082,-56.8371,-56.3517,-55.8652, -55.3783,-54.8931,-54.4072,-53.9205, -53.4362,-52.9475,-52.3937,-51.8153, -51.2377,-50.6627,-50.0893,-49.2366, -48.6687,-48.0878,-47.5038,-46.5998, -45.993,-45.3735,-44.7466,-43.7843, -43.1317,-42.4708,-42.1416,-41.8122, -41.1521,-41.1294,-41.1177,-41.0986, -41.0767,-41.4101,-42.0676,-42.7245, -43.0544,-43.7079,-44.3494,-44.9786, -45.6009,-46.2133,-47.1183,-47.7092, -48.289,-48.8588,-49.4238,-49.9941, -50.8527,-51.4261,-52.0021,-52.8445, -53.3317,-53.8189,-54.5452,-55.2727, -55.7575,-56.2432,-56.7296,-57.1993, -57.6669,-58.3712,-58.8266,-59.2812, -59.7413,-60.1903,-60.6299,-61.0708, -61.512,-61.9539,-62.3868,-62.8107, -63.237,-63.6624,-64.0868,-64.7141, -65.1234,-65.5333,-66.1476,-66.6863)
FOOTPRINT_POINT_LONGITUDE = (291.04,292.349,292.961,293.126,293.231 ,293.33,293.479,293.578,293.671,293.761 ,293.846,293.931,294.015,294.134, 294.211,294.287,294.396,294.465,294.533 ,294.601,294.666,294.728,294.791, 294.851,294.911,294.967,295.022,295.077 ,295.128,295.181,295.238,295.294, 295.349,295.401,295.451,295.518,295.562 ,295.606,295.648,295.715,295.754, 295.794,295.833,295.891,295.928,295.963 ,295.98,295.997,296.031,295.583,294.897 ,294.446,293.731,293.726,293.708, 293.688,293.677,293.655,293.631,293.603 ,293.575,293.546,293.5,293.465,293.428, 293.389,293.346,293.303,293.235,293.186 ,293.135,293.054,293.007,292.956, 292.874,292.785,292.722,292.656,292.588 ,292.518,292.444,292.331,292.252,292.17 ,292.087,292.001,291.911,291.818, 291.722,291.622,291.526,291.42,291.311, 291.198,291.079,290.895,290.768,290.638 ,290.431,291.04)
ORBIT_NUMBER = 2475
ORBITAL_ECCENTRICITY = 0.572
ORBITAL_INCLINATION = 86.62
ORBITAL_SEMIMAJOR_AXIS = 8530.94
PERIAPSIS_ALTITUDE = 275.95
PERIAPSIS_ARGUMENT_ANGLE = 283.27
PERIAPSIS_TIME = 2005-12-16T17:21:19.000Z
SPACECRAFT_ORIENTATION = (0.0,-1.0,0.0)
^MEX_ORIENTATION_DESC = "MEX_ORIENTATION_DESC.TXT"
SPACECRAFT_POINTING_MODE = ACROSSTRACK
^MEX_POINTING_DESC = "MEX_POINTING_DESC.TXT"
RIGHT_ASCENSION = -1e+32
DECLINATION = -1e+32
OFFSET_ANGLE = 0.07
SPACECRAFT_SOLAR_DISTANCE = 2.26096e+08
TARGET_NAME = MARS
/* CAMERA DATA ELEMENTS */
DETECTOR_TEMPERATURE = 17.5549
FOCAL_PLANE_TEMPERATURE = 8.3794
INST_CMPRS_NAME = "DISCRETE COSINE TRANSFORMATION (DCT)"
INST_CMPRS_RATIO = 14.5834
INST_CMPRS_QUALITY = 0
INST_CMPRS_QUANTZ_TBL_ID = 0
INSTRUMENT_TEMPERATURE = 11.0301
LENS_TEMPERATURE = 8.5833
MACROPIXEL_SIZE = 4
MISSING_FRAMES = 1
PIXEL_SUBSAMPLING_FLAG = N
SIGNAL_CHAIN_ID = 2
/* RADIOMETRIC DATA ELEMENTS */
BANDWIDTH = 81.0
CENTER_FILTER_WAVELENGTH = 955.5
RADIANCE_OFFSET = 0.611074
RADIANCE_SCALING_FACTOR = 0.00337448
REFLECTANCE_SCALING_FACTOR = 0.000372151
MEX:REFLECTANCE_OFFSET = 0.0673917
/* IMAGE OBJECT DEFINITIONS */
OBJECT = IMAGE
  INTERCHANGE_FORMAT = BINARY
  LINES = 30358
  LINE_SAMPLES = 3663
  SAMPLE_TYPE = UNSIGNED_INTEGER
  SAMPLE_BITS = 8
  BANDS = 1
  BAND_STORAGE_TYPE = BAND_SEQUENTIAL
  MAXIMUM = 255
  MEAN = 139.318
  MINIMUM = 1
  STANDARD_DEVIATION = 26.8164
END_OBJECT = IMAGE
/* MAP OBJECT DEFINITIONS */
OBJECT = IMAGE_MAP_PROJECTION
  ^DATA_SET_MAP_PROJECTION_CATALOG= "DSMAP.CAT"
  A_AXIS_RADIUS = 3396.0
  B_AXIS_RADIUS = 3396.0
  C_AXIS_RADIUS = 3396.0
  CENTER_LATITUDE = 0.0
  CENTER_LONGITUDE = 294.0
  COORDINATE_SYSTEM_NAME = PLANETOGRAPHIC
  COORDINATE_SYSTEM_TYPE = "BODY-FIXED ROTATING"
  EASTERNMOST_LONGITUDE = 296.031
  FIRST_STANDARD_PARALLEL = "N/A"
  LINE_FIRST_PIXEL = 1
  LINE_LAST_PIXEL = 30358
  LINE_PROJECTION_OFFSET = -48716.375
  MAP_PROJECTION_ROTATION = 0.0
  MAP_PROJECTION_TYPE = SINUSOIDAL
  MAP_RESOLUTION = 1185.42760773333
  MAP_SCALE = 0.05
  MAXIMUM_LATITUDE = -41.0767
  MINIMUM_LATITUDE = -66.7556
  POSITIVE_LONGITUDE_DIRECTION = EAST
  REFERENCE_LATITUDE = "N/A"
  REFERENCE_LONGITUDE = "N/A"
  SAMPLE_FIRST_PIXEL = 1
  SAMPLE_LAST_PIXEL = 3663
  SAMPLE_PROJECTION_OFFSET = 1772.625
  SECOND_STANDARD_PARALLEL = "N/A"
  WESTERNMOST_LONGITUDE = 290.431
END_OBJECT = IMAGE_MAP_PROJECTION
/* The JPEG2000 image data file associated with this label. */
OBJECT = COMPRESSED_FILE
  FILE_NAME = "H2475_0000_IR3.JP2"
  RECORD_TYPE = UNDEFINED
  FILE_RECORDS = UNK
  ENCODING_TYPE = "JP2"
  INTERCHANGE_FORMAT = BINARY
  UNCOMPRESSED_FILE_NAME = "H2475_0000_IR3.IMG"
  REQUIRED_STORAGE_BYTES = "111223332"
  ^DESCRIPTION = "JP2INFO.TXT"
END_OBJECT = COMPRESSED_FILE
END
