PDS_VERSION_ID = PDS3
/* FILE DATA ELEMENTS */
RECORD_TYPE = STREAM
/* POINTERS TO DATA OBJECTS */
^COMPRESSED_FILE = "H2476_0000_P23.JP2"
/* IDENTIFICATION DATA ELEMENTS */
DATA_SET_ID = "MEX-M-HRSC-5-REFDR-MAPPROJECTED-V3.0"
DATA_SET_NAME = "MARS EXPRESS HRSC MAP PROJECTED REFDR V3.0"
DETECTOR_ID = MEX_HRSC_P2
EVENT_TYPE = "MARS-REGIONAL-MAPPING-Te-Im"
INSTRUMENT_HOST_ID = MEX
INSTRUMENT_HOST_NAME = "MARS EXPRESS"
INSTRUMENT_ID = HRSC
INSTRUMENT_NAME = "HIGH RESOLUTION STEREO CAMERA"
MISSION_NAME = "MARS EXPRESS"
MISSION_PHASE_NAME = ME_Phase_1
PROCESSING_LEVEL_ID = 3
PRODUCT_CREATION_TIME = 2016-04-06T10:39:59.000Z
PRODUCT_ID = "H2476_0000_P23.JP2"
RELEASE_ID = 0030
REVISION_ID = 0000
/* QUALITY DATA ELEMENTS */
DATA_QUALITY_ID = 1
DATA_QUALITY_DESC = "Data calculated based on original SPICE kernels"
/* TIME DATA ELEMENTS */
SPACECRAFT_CLOCK_START_COUNT = "1/0082858354.57166"
SPACECRAFT_CLOCK_STOP_COUNT = "1/0082858835.06348"
START_TIME = 2005-12-17T00:14:08.770Z
STOP_TIME = 2005-12-17T00:19:49.361Z
/* ORBITAL DATA ELEMENTS */
ASCENDING_NODE_LONGITUDE = 176.29
MAXIMUM_RESOLUTION = 93.8
FOOTPRINT_POINT_LATITUDE = (-41.2861,-41.2886,-41.2902,-41.2908, -41.2892,-41.1375,-40.7751,-40.4139, -40.0544,-39.694,-39.1564,-38.6285, -38.0999,-37.7454,-37.3979,-36.8772, -36.5313,-36.1895,-35.6808,-35.3412, -35.0032,-34.6666,-34.3318,-33.8273, -33.4938,-33.1657,-32.8381,-32.5134, -32.027,-31.7046,-31.3842,-31.0645, -30.7466,-30.4301,-30.1148,-29.8004, -29.4884,-29.1789,-28.7152,-28.4075, -28.1016,-27.6458,-27.1941,-26.895, -26.5968,-26.3004,-25.5662,-24.9858, -25.001,-25.0215,-25.0455,-25.0611, -25.0789,-25.0924,-25.5277,-26.1081, -26.6939,-26.9883,-27.2849,-27.5828, -28.0319,-28.3315,-28.6401,-29.101, -29.4082,-29.7164,-30.0251,-30.4874, -30.8013,-31.1177,-31.4355,-31.7579, -32.0752,-32.3972,-32.7209,-33.0458, -33.3725,-33.7007,-34.0301,-34.3607, -34.6925,-35.0263,-35.3658,-35.8741, -36.2138,-36.5559,-36.899,-37.2436, -37.5893,-37.9371,-38.2859,-38.6362, -38.9876,-39.3398,-39.6945,-40.0505, -40.4082,-40.7674,-41.1286,-41.2861)
FOOTPRINT_POINT_LONGITUDE = (193.834,194.245,194.65,195.051,195.838 ,196.19,196.221,196.251,196.28,196.309, 196.352,196.392,196.432,196.459,196.484 ,196.521,196.545,196.569,196.603, 196.626,196.648,196.67,196.691,196.723, 196.744,196.764,196.784,196.803,196.831 ,196.85,196.869,196.887,196.904,196.922 ,196.939,196.956,196.973,196.99,197.014 ,197.03,197.046,197.069,197.092,197.107 ,197.121,197.136,197.172,197.199, 196.622,196.039,195.346,194.821,194.117 ,193.652,193.479,193.5,193.519,193.53, 193.539,193.548,193.561,193.571,193.573 ,193.58,193.587,193.593,193.6,193.614, 193.618,193.622,193.624,193.623,193.629 ,193.63,193.631,193.632,193.632,193.631 ,193.631,193.63,193.629,193.626,193.618 ,193.61,193.604,193.597,193.591,193.583 ,193.575,193.566,193.556,193.546, 193.536,193.526,193.514,193.501,193.487 ,193.472,193.456,193.834)
ORBIT_NUMBER = 2476
ORBITAL_ECCENTRICITY = 0.572
ORBITAL_INCLINATION = 86.63
ORBITAL_SEMIMAJOR_AXIS = 8531.07
PERIAPSIS_ALTITUDE = 275.7
PERIAPSIS_ARGUMENT_ANGLE = 283.08
PERIAPSIS_TIME = 2005-12-17T00:04:17.000Z
SPACECRAFT_ORIENTATION = (0.0,-1.0,0.0)
^MEX_ORIENTATION_DESC = "MEX_ORIENTATION_DESC.TXT"
SPACECRAFT_POINTING_MODE = ACROSSTRACK
^MEX_POINTING_DESC = "MEX_POINTING_DESC.TXT"
RIGHT_ASCENSION = -1e+32
DECLINATION = -1e+32
OFFSET_ANGLE = 1.4
SPACECRAFT_SOLAR_DISTANCE = 2.26151e+08
TARGET_NAME = MARS
/* CAMERA DATA ELEMENTS */
DETECTOR_TEMPERATURE = 18.5744
FOCAL_PLANE_TEMPERATURE = 8.5833
INST_CMPRS_NAME = "DISCRETE COSINE TRANSFORMATION (DCT)"
INST_CMPRS_RATIO = 10.0767
INST_CMPRS_QUALITY = 0
INST_CMPRS_QUANTZ_TBL_ID = 0
INSTRUMENT_TEMPERATURE = 11.0301
LENS_TEMPERATURE = 8.7872
MACROPIXEL_SIZE = 4
MISSING_FRAMES = 0
PIXEL_SUBSAMPLING_FLAG = N
SIGNAL_CHAIN_ID = 3
/* RADIOMETRIC DATA ELEMENTS */
BANDWIDTH = 177.0
CENTER_FILTER_WAVELENGTH = 676.5
RADIANCE_OFFSET = 3.78601
RADIANCE_SCALING_FACTOR = 0.0245905
REFLECTANCE_SCALING_FACTOR = 0.000666844
MEX:REFLECTANCE_OFFSET = 0.102669
/* IMAGE OBJECT DEFINITIONS */
OBJECT = IMAGE
  INTERCHANGE_FORMAT = BINARY
  LINES = 9686
  LINE_SAMPLES = 1848
  SAMPLE_TYPE = UNSIGNED_INTEGER
  SAMPLE_BITS = 8
  BANDS = 1
  BAND_STORAGE_TYPE = BAND_SEQUENTIAL
  MAXIMUM = 255
  MEAN = 102.805
  MINIMUM = 1
  STANDARD_DEVIATION = 23.4613
END_OBJECT = IMAGE
/* MAP OBJECT DEFINITIONS */
OBJECT = IMAGE_MAP_PROJECTION
  ^DATA_SET_MAP_PROJECTION_CATALOG= "DSMAP.CAT"
  A_AXIS_RADIUS = 3396.0
  B_AXIS_RADIUS = 3396.0
  C_AXIS_RADIUS = 3396.0
  CENTER_LATITUDE = 0.0
  CENTER_LONGITUDE = 195.0
  COORDINATE_SYSTEM_NAME = PLANETOGRAPHIC
  COORDINATE_SYSTEM_TYPE = "BODY-FIXED ROTATING"
  EASTERNMOST_LONGITUDE = 197.199
  FIRST_STANDARD_PARALLEL = "N/A"
  LINE_FIRST_PIXEL = 1
  LINE_LAST_PIXEL = 9686
  LINE_PROJECTION_OFFSET = -14822.125
  MAP_PROJECTION_ROTATION = 0.0
  MAP_PROJECTION_TYPE = SINUSOIDAL
  MAP_RESOLUTION = 592.713803866667
  MAP_SCALE = 0.1
  MAXIMUM_LATITUDE = -24.9858
  MINIMUM_LATITUDE = -41.2908
  POSITIVE_LONGITUDE_DIRECTION = EAST
  REFERENCE_LATITUDE = "N/A"
  REFERENCE_LONGITUDE = "N/A"
  SAMPLE_FIRST_PIXEL = 1
  SAMPLE_LAST_PIXEL = 1848
  SAMPLE_PROJECTION_OFFSET = 768.625
  SECOND_STANDARD_PARALLEL = "N/A"
  WESTERNMOST_LONGITUDE = 193.456
END_OBJECT = IMAGE_MAP_PROJECTION
/* The JPEG2000 image data file associated with this label. */
OBJECT = COMPRESSED_FILE
  FILE_NAME = "H2476_0000_P23.JP2"
  RECORD_TYPE = UNDEFINED
  FILE_RECORDS = UNK
  ENCODING_TYPE = "JP2"
  INTERCHANGE_FORMAT = BINARY
  UNCOMPRESSED_FILE_NAME = "H2476_0000_P23.IMG"
  REQUIRED_STORAGE_BYTES = "17920056"
  ^DESCRIPTION = "JP2INFO.TXT"
END_OBJECT = COMPRESSED_FILE
END
