PDS_VERSION_ID = PDS3
/* FILE DATA ELEMENTS */
RECORD_TYPE = STREAM
/* POINTERS TO DATA OBJECTS */
^COMPRESSED_FILE = "H2476_0000_S13.JP2"
/* IDENTIFICATION DATA ELEMENTS */
DATA_SET_ID = "MEX-M-HRSC-5-REFDR-MAPPROJECTED-V3.0"
DATA_SET_NAME = "MARS EXPRESS HRSC MAP PROJECTED REFDR V3.0"
DETECTOR_ID = MEX_HRSC_S1
EVENT_TYPE = "MARS-REGIONAL-MAPPING-Te-Im"
INSTRUMENT_HOST_ID = MEX
INSTRUMENT_HOST_NAME = "MARS EXPRESS"
INSTRUMENT_ID = HRSC
INSTRUMENT_NAME = "HIGH RESOLUTION STEREO CAMERA"
MISSION_NAME = "MARS EXPRESS"
MISSION_PHASE_NAME = ME_Phase_1
PROCESSING_LEVEL_ID = 3
PRODUCT_CREATION_TIME = 2016-04-06T10:39:59.000Z
PRODUCT_ID = "H2476_0000_S13.JP2"
RELEASE_ID = 0030
REVISION_ID = 0000
/* QUALITY DATA ELEMENTS */
DATA_QUALITY_ID = 1
DATA_QUALITY_DESC = "Data calculated based on original SPICE kernels"
/* TIME DATA ELEMENTS */
SPACECRAFT_CLOCK_START_COUNT = "1/0082858354.57166"
SPACECRAFT_CLOCK_STOP_COUNT = "1/0082858835.06348"
START_TIME = 2005-12-17T00:12:41.728Z
STOP_TIME = 2005-12-17T00:17:06.698Z
/* ORBITAL DATA ELEMENTS */
ASCENDING_NODE_LONGITUDE = 176.29
MAXIMUM_RESOLUTION = 41.7
FOOTPRINT_POINT_LATITUDE = (-41.2094,-41.2738,-41.3423,-41.4027, -41.2068,-40.8674,-40.5289,-40.1912, -39.8557,-39.52,-39.1872,-38.8468, -38.5132,-38.1763,-37.683,-37.349, -37.015,-36.5179,-36.0181,-35.684, -35.3541,-35.0244,-34.5311,-34.2023, -33.8771,-33.559,-33.2311,-32.893, -32.5666,-32.0775,-31.7528,-31.2661, -30.9435,-30.6212,-30.2993,-29.9782, -29.6584,-29.179,-28.7003,-28.3827, -28.0665,-27.5925,-27.2763,-26.96, -26.4892,-26.175,-25.8628,-25.3918, -25.0798,-25.0226,-25.0026,-24.98, -24.9531,-24.9338,-24.9107,-25.0374, -25.3535,-25.8195,-26.1315,-26.5997, -26.9125,-27.386,-27.702,-28.0212, -28.3418,-28.6456,-29.1209,-29.4383, -29.7577,-30.0828,-30.413,-30.731, -31.2124,-31.5333,-31.8569,-32.1799, -32.5048,-32.8396,-33.3272,-33.6526, -33.9797,-34.3068,-34.7966,-35.2923, -35.7821,-36.1109,-36.4402,-36.7708, -37.1022,-37.601,-37.9336,-38.2674, -38.6019,-38.9371,-39.2742,-39.7794, -40.1168,-40.4543,-40.7917,-41.2094)
FOOTPRINT_POINT_LONGITUDE = (193.675,194.301,195.026,195.732, 196.003,196.029,196.055,196.08,196.104, 196.129,196.153,196.175,196.198,196.22, 196.253,196.274,196.295,196.325,196.354 ,196.372,196.391,196.409,196.436, 196.453,196.47,196.488,196.504,196.52, 196.535,196.558,196.573,196.594,196.608 ,196.622,196.635,196.648,196.661,196.68 ,196.698,196.71,196.722,196.739,196.75, 196.76,196.776,196.786,196.796,196.811, 196.82,196.23,195.803,195.373,194.909, 194.588,194.207,193.842,193.853,193.861 ,193.867,193.874,193.878,193.886, 193.891,193.896,193.902,193.896,193.898 ,193.899,193.9,193.905,193.912,193.91, 193.908,193.906,193.905,193.902,193.9, 193.897,193.891,193.886,193.882,193.876 ,193.865,193.857,193.841,193.832, 193.821,193.811,193.8,193.784,193.771, 193.759,193.746,193.732,193.72,193.698, 193.683,193.666,193.649,193.675)
ORBIT_NUMBER = 2476
ORBITAL_ECCENTRICITY = 0.572
ORBITAL_INCLINATION = 86.63
ORBITAL_SEMIMAJOR_AXIS = 8531.07
PERIAPSIS_ALTITUDE = 275.7
PERIAPSIS_ARGUMENT_ANGLE = 283.08
PERIAPSIS_TIME = 2005-12-17T00:04:17.000Z
SPACECRAFT_ORIENTATION = (0.0,-1.0,0.0)
^MEX_ORIENTATION_DESC = "MEX_ORIENTATION_DESC.TXT"
SPACECRAFT_POINTING_MODE = ACROSSTRACK
^MEX_POINTING_DESC = "MEX_POINTING_DESC.TXT"
RIGHT_ASCENSION = -1e+32
DECLINATION = -1e+32
OFFSET_ANGLE = 1.4
SPACECRAFT_SOLAR_DISTANCE = 2.26151e+08
TARGET_NAME = MARS
/* CAMERA DATA ELEMENTS */
DETECTOR_TEMPERATURE = 17.5549
FOCAL_PLANE_TEMPERATURE = 8.5833
INST_CMPRS_NAME = "DISCRETE COSINE TRANSFORMATION (DCT)"
INST_CMPRS_RATIO = 8.64554
INST_CMPRS_QUALITY = 0
INST_CMPRS_QUANTZ_TBL_ID = 0
INSTRUMENT_TEMPERATURE = 11.0301
LENS_TEMPERATURE = 8.7872
MACROPIXEL_SIZE = 2
MISSING_FRAMES = 3
PIXEL_SUBSAMPLING_FLAG = N
SIGNAL_CHAIN_ID = 1
/* RADIOMETRIC DATA ELEMENTS */
BANDWIDTH = 180.0
CENTER_FILTER_WAVELENGTH = 677.0
RADIANCE_OFFSET = 3.79144
RADIANCE_SCALING_FACTOR = 0.0227081
REFLECTANCE_SCALING_FACTOR = 0.00060593
MEX:REFLECTANCE_OFFSET = 0.101169
/* IMAGE OBJECT DEFINITIONS */
OBJECT = IMAGE
  INTERCHANGE_FORMAT = BINARY
  LINES = 19372
  LINE_SAMPLES = 3696
  SAMPLE_TYPE = UNSIGNED_INTEGER
  SAMPLE_BITS = 8
  BANDS = 1
  BAND_STORAGE_TYPE = BAND_SEQUENTIAL
  MAXIMUM = 255
  MEAN = 111.097
  MINIMUM = 1
  STANDARD_DEVIATION = 24.3626
END_OBJECT = IMAGE
/* MAP OBJECT DEFINITIONS */
OBJECT = IMAGE_MAP_PROJECTION
  ^DATA_SET_MAP_PROJECTION_CATALOG= "DSMAP.CAT"
  A_AXIS_RADIUS = 3396.0
  B_AXIS_RADIUS = 3396.0
  C_AXIS_RADIUS = 3396.0
  CENTER_LATITUDE = 0.0
  CENTER_LONGITUDE = 195.0
  COORDINATE_SYSTEM_NAME = PLANETOGRAPHIC
  COORDINATE_SYSTEM_TYPE = "BODY-FIXED ROTATING"
  EASTERNMOST_LONGITUDE = 196.82
  FIRST_STANDARD_PARALLEL = "N/A"
  LINE_FIRST_PIXEL = 1
  LINE_LAST_PIXEL = 19372
  LINE_PROJECTION_OFFSET = -29643.75
  MAP_PROJECTION_ROTATION = 0.0
  MAP_PROJECTION_TYPE = SINUSOIDAL
  MAP_RESOLUTION = 1185.42760773333
  MAP_SCALE = 0.05
  MAXIMUM_LATITUDE = -24.9107
  MINIMUM_LATITUDE = -41.4027
  POSITIVE_LONGITUDE_DIRECTION = EAST
  REFERENCE_LATITUDE = "N/A"
  REFERENCE_LONGITUDE = "N/A"
  SAMPLE_FIRST_PIXEL = 1
  SAMPLE_LAST_PIXEL = 3696
  SAMPLE_PROJECTION_OFFSET = 1537.75
  SECOND_STANDARD_PARALLEL = "N/A"
  WESTERNMOST_LONGITUDE = 193.649
END_OBJECT = IMAGE_MAP_PROJECTION
/* The JPEG2000 image data file associated with this label. */
OBJECT = COMPRESSED_FILE
  FILE_NAME = "H2476_0000_S13.JP2"
  RECORD_TYPE = UNDEFINED
  FILE_RECORDS = UNK
  ENCODING_TYPE = "JP2"
  INTERCHANGE_FORMAT = BINARY
  UNCOMPRESSED_FILE_NAME = "H2476_0000_S13.IMG"
  REQUIRED_STORAGE_BYTES = "71621088"
  ^DESCRIPTION = "JP2INFO.TXT"
END_OBJECT = COMPRESSED_FILE
END
