PDS_VERSION_ID = PDS3
/* FILE DATA ELEMENTS */
RECORD_TYPE = STREAM
/* POINTERS TO DATA OBJECTS */
^COMPRESSED_FILE = "H2478_0001_RE3.JP2"
/* IDENTIFICATION DATA ELEMENTS */
DATA_SET_ID = "MEX-M-HRSC-5-REFDR-MAPPROJECTED-V3.0"
DATA_SET_NAME = "MARS EXPRESS HRSC MAP PROJECTED REFDR V3.0"
DETECTOR_ID = MEX_HRSC_RED
EVENT_TYPE = "MARS-REGIONAL-MAPPING-Im-Fl"
INSTRUMENT_HOST_ID = MEX
INSTRUMENT_HOST_NAME = "MARS EXPRESS"
INSTRUMENT_ID = HRSC
INSTRUMENT_NAME = "HIGH RESOLUTION STEREO CAMERA"
MISSION_NAME = "MARS EXPRESS"
MISSION_PHASE_NAME = ME_Phase_1
PROCESSING_LEVEL_ID = 3
PRODUCT_CREATION_TIME = 2016-04-06T10:39:59.000Z
PRODUCT_ID = "H2478_0001_RE3.JP2"
RELEASE_ID = 0030
REVISION_ID = 0000
/* QUALITY DATA ELEMENTS */
DATA_QUALITY_ID = 2
DATA_QUALITY_DESC = "Data calculated based on photogrammetrically improved orbit and attitude data"
/* TIME DATA ELEMENTS */
SPACECRAFT_CLOCK_START_COUNT = "1/0082906575.56197"
SPACECRAFT_CLOCK_STOP_COUNT = "1/0082906854.04958"
START_TIME = 2005-12-17T13:37:32.670Z
STOP_TIME = 2005-12-17T13:40:47.069Z
/* ORBITAL DATA ELEMENTS */
ASCENDING_NODE_LONGITUDE = 176.25
MAXIMUM_RESOLUTION = 135.1
FOOTPRINT_POINT_LATITUDE = (-50.9644,-50.9756,-50.9879,-50.9973, -51.006,-51.0153,-50.7013,-50.4167, -50.1332,-49.9429,-49.7497,-49.4622, -49.1734,-48.9779,-48.686,-48.3909, -48.0935,-47.8957,-47.6964,-47.4948, -47.1928,-46.8852,-46.6804,-46.4731, -46.1612,-45.9555,-45.6394,-45.4291, -45.2164,-45.0023,-44.7889,-44.5727, -44.25,-44.0286,-43.8088,-43.5902, -43.3679,-43.1459,-42.8083,-42.5835, -42.3543,-42.1255,-41.9004,-41.6657, -41.4348,-41.203,-40.851,-40.4968, -40.4475,-40.4483,-40.4453,-40.4396, -40.4396,-40.4356,-40.4311,-40.4256, -40.5423,-40.7776,-41.0131,-41.2453, -41.5927,-41.8222,-42.1651,-42.3921, -42.7302,-43.0663,-43.4003,-43.6239, -43.8374,-44.0599,-44.3823,-44.5975, -44.9183,-45.1311,-45.3429,-45.5524, -45.8695,-46.1781,-46.3851,-46.693, -46.9984,-47.2026,-47.4033,-47.6043, -47.8055,-48.0026,-48.2007,-48.497, -48.6904,-48.8843,-49.1786,-49.374, -49.5649,-49.7524,-49.9421,-50.13, -50.318,-50.507,-50.6954,-50.9644)
FOOTPRINT_POINT_LONGITUDE = (358.312,358.667,359.086,359.439,359.79 ,360.207,360.536,360.564,360.591, 360.609,360.628,360.655,360.682,360.7, 360.727,360.753,360.78,360.797,360.815, 360.832,360.858,360.883,360.899,360.916 ,360.94,360.957,360.982,360.998,361.014 ,361.03,361.046,361.062,361.086,361.101 ,361.116,361.132,361.148,361.163, 361.186,361.201,361.216,361.23,361.247, 361.26,361.275,361.291,361.313,361.335, 360.98,360.696,360.308,360.049,359.711, 359.451,359.113,358.8,358.572,358.569, 358.565,358.561,358.555,358.55,358.542, 358.537,358.528,358.52,358.509,358.5, 358.496,358.487,358.477,358.47,358.457, 358.449,358.44,358.432,358.416,358.403, 358.393,358.378,358.362,358.351,358.34, 358.328,358.316,358.305,358.292,358.275 ,358.263,358.25,358.229,358.212,358.198 ,358.188,358.175,358.161,358.146,358.13 ,358.115,358.312)
ORBIT_NUMBER = 2478
ORBITAL_ECCENTRICITY = 0.572
ORBITAL_INCLINATION = 86.62
ORBITAL_SEMIMAJOR_AXIS = 8530.76
PERIAPSIS_ALTITUDE = 276.14
PERIAPSIS_ARGUMENT_ANGLE = 282.72
PERIAPSIS_TIME = 2005-12-17T13:30:20.000Z
SPACECRAFT_ORIENTATION = (0.0,-1.0,0.0)
^MEX_ORIENTATION_DESC = "MEX_ORIENTATION_DESC.TXT"
SPACECRAFT_POINTING_MODE = ACROSSTRACK
^MEX_POINTING_DESC = "MEX_POINTING_DESC.TXT"
RIGHT_ASCENSION = -1e+32
DECLINATION = -1e+32
OFFSET_ANGLE = 0.25
SPACECRAFT_SOLAR_DISTANCE = 2.2626e+08
TARGET_NAME = MARS
/* CAMERA DATA ELEMENTS */
DETECTOR_TEMPERATURE = 20.6134
FOCAL_PLANE_TEMPERATURE = 8.7872
INST_CMPRS_NAME = "DISCRETE COSINE TRANSFORMATION (DCT)"
INST_CMPRS_RATIO = 15.7671
INST_CMPRS_QUALITY = 0
INST_CMPRS_QUANTZ_TBL_ID = 0
INSTRUMENT_TEMPERATURE = 12.8652
LENS_TEMPERATURE = 9.6028
MACROPIXEL_SIZE = 8
MISSING_FRAMES = 0
PIXEL_SUBSAMPLING_FLAG = N
SIGNAL_CHAIN_ID = 2
/* RADIOMETRIC DATA ELEMENTS */
BANDWIDTH = 48.0
CENTER_FILTER_WAVELENGTH = 748.0
RADIANCE_OFFSET = 1.12309
RADIANCE_SCALING_FACTOR = 0.00392087
REFLECTANCE_SCALING_FACTOR = 0.000458068
MEX:REFLECTANCE_OFFSET = 0.131208
/* IMAGE OBJECT DEFINITIONS */
OBJECT = IMAGE
  INTERCHANGE_FORMAT = BINARY
  LINES = 6323
  LINE_SAMPLES = 1264
  SAMPLE_TYPE = UNSIGNED_INTEGER
  SAMPLE_BITS = 8
  BANDS = 1
  BAND_STORAGE_TYPE = BAND_SEQUENTIAL
  MAXIMUM = 255
  MEAN = 130.284
  MINIMUM = 1
  STANDARD_DEVIATION = 24.7644
END_OBJECT = IMAGE
/* MAP OBJECT DEFINITIONS */
OBJECT = IMAGE_MAP_PROJECTION
  ^DATA_SET_MAP_PROJECTION_CATALOG= "DSMAP.CAT"
  A_AXIS_RADIUS = 3396.0
  B_AXIS_RADIUS = 3396.0
  C_AXIS_RADIUS = 3396.0
  CENTER_LATITUDE = 0.0
  CENTER_LONGITUDE = 360.0
  COORDINATE_SYSTEM_NAME = PLANETOGRAPHIC
  COORDINATE_SYSTEM_TYPE = "BODY-FIXED ROTATING"
  EASTERNMOST_LONGITUDE = 1.335
  FIRST_STANDARD_PARALLEL = "N/A"
  LINE_FIRST_PIXEL = 1
  LINE_LAST_PIXEL = 6323
  LINE_PROJECTION_OFFSET = -23952.9375
  MAP_PROJECTION_ROTATION = 0.0
  MAP_PROJECTION_TYPE = SINUSOIDAL
  MAP_RESOLUTION = 592.713803866667
  MAP_SCALE = 0.1
  MAXIMUM_LATITUDE = -40.4256
  MINIMUM_LATITUDE = -51.0153
  POSITIVE_LONGITUDE_DIRECTION = EAST
  REFERENCE_LATITUDE = "N/A"
  REFERENCE_LONGITUDE = "N/A"
  SAMPLE_FIRST_PIXEL = 1
  SAMPLE_LAST_PIXEL = 1264
  SAMPLE_PROJECTION_OFFSET = 701.3125
  SECOND_STANDARD_PARALLEL = "N/A"
  WESTERNMOST_LONGITUDE = -1.885
END_OBJECT = IMAGE_MAP_PROJECTION
/* The JPEG2000 image data file associated with this label. */
OBJECT = COMPRESSED_FILE
  FILE_NAME = "H2478_0001_RE3.JP2"
  RECORD_TYPE = UNDEFINED
  FILE_RECORDS = UNK
  ENCODING_TYPE = "JP2"
  INTERCHANGE_FORMAT = BINARY
  UNCOMPRESSED_FILE_NAME = "H2478_0001_RE3.IMG"
  REQUIRED_STORAGE_BYTES = "8011232"
  ^DESCRIPTION = "JP2INFO.TXT"
END_OBJECT = COMPRESSED_FILE
END
