PDS_VERSION_ID = PDS3
/* FILE DATA ELEMENTS */
RECORD_TYPE = STREAM
/* POINTERS TO DATA OBJECTS */
^COMPRESSED_FILE = "H2483_0000_IR3.JP2"
/* IDENTIFICATION DATA ELEMENTS */
DATA_SET_ID = "MEX-M-HRSC-5-REFDR-MAPPROJECTED-V3.0"
DATA_SET_NAME = "MARS EXPRESS HRSC MAP PROJECTED REFDR V3.0"
DETECTOR_ID = MEX_HRSC_IR
EVENT_TYPE = "MARS-REGIONAL-MAPPING-Te-Im"
INSTRUMENT_HOST_ID = MEX
INSTRUMENT_HOST_NAME = "MARS EXPRESS"
INSTRUMENT_ID = HRSC
INSTRUMENT_NAME = "HIGH RESOLUTION STEREO CAMERA"
MISSION_NAME = "MARS EXPRESS"
MISSION_PHASE_NAME = ME_Phase_1
PROCESSING_LEVEL_ID = 3
PRODUCT_CREATION_TIME = 2016-04-06T10:39:59.000Z
PRODUCT_ID = "H2483_0000_IR3.JP2"
RELEASE_ID = 0030
REVISION_ID = 0000
/* QUALITY DATA ELEMENTS */
DATA_QUALITY_ID = 1
DATA_QUALITY_DESC = "Data calculated based on original SPICE kernels"
/* TIME DATA ELEMENTS */
SPACECRAFT_CLOCK_START_COUNT = "1/0083027111.56206"
SPACECRAFT_CLOCK_STOP_COUNT = "1/0083027450.38170"
START_TIME = 2005-12-18T23:05:22.716Z
STOP_TIME = 2005-12-18T23:09:56.132Z
/* ORBITAL DATA ELEMENTS */
ASCENDING_NODE_LONGITUDE = 176.15
MAXIMUM_RESOLUTION = 45.3
FOOTPRINT_POINT_LATITUDE = (-76.7234,-76.7697,-76.4625,-76.1554, -75.6929,-75.3839,-74.9202,-74.6087, -74.148,-73.8383,-73.5207,-71.9538, -71.6395,-71.1722,-70.7028,-70.3895, -70.0772,-69.7655,-69.4521,-69.1254, -68.7984,-68.4723,-68.1539,-67.8236, -67.4989,-67.1723,-66.8454,-66.5186, -66.1892,-65.8499,-65.5104,-65.1714, -64.8317,-64.4922,-63.9829,-63.6352, -63.2273,-62.6999,-62.3485,-61.9976, -61.4544,-61.0901,-60.726,-60.3626, -59.8035,-59.428,-59.0548,-58.6801, -58.4645,-58.4417,-58.4171,-58.378, -58.7571,-59.3177,-59.6919,-60.0666, -60.6112,-60.976,-61.3385,-61.7015, -62.0556,-62.4056,-62.7562,-63.1065, -63.5121,-64.0298,-64.3673,-64.7049, -65.0429,-65.3807,-65.8873,-66.2205, -66.5463,-66.8714,-67.1973,-67.6851, -68.0102,-68.4978,-68.8167,-69.2953, -69.6053,-69.9164,-70.227,-70.5378, -70.8495,-71.1606,-71.4708,-71.7797, -73.3354,-73.7954,-74.1018,-74.4072, -74.7127,-75.0179,-75.3219,-75.6244, -75.9286,-76.23,-76.5302,-76.7234)
FOOTPRINT_POINT_LONGITUDE = (219.629,221.961,222.24,222.504,222.882 ,223.121,223.459,223.677,223.973, 224.164,224.364,225.191,225.343,225.553 ,225.756,225.886,226.01,226.128,226.245 ,226.371,226.487,226.597,226.692, 226.801,226.899,226.997,227.092,227.183 ,227.274,227.364,227.451,227.535, 227.617,227.697,227.812,227.887,227.974 ,228.081,228.15,228.216,228.316,228.381 ,228.445,228.506,228.597,228.656, 228.711,228.766,228.467,227.948,227.387 ,226.572,226.51,226.414,226.348,226.279 ,226.174,226.103,226.028,225.95,225.872 ,225.791,225.709,225.623,225.52,225.384 ,225.29,225.194,225.094,224.991,224.83, 224.719,224.608,224.493,224.374,224.188 ,224.058,223.856,223.712,223.492, 223.344,223.19,223.031,222.867,222.697, 222.521,222.338,222.147,221.069,220.706 ,220.451,220.185,219.909,219.62,219.319 ,219.004,218.676,218.332,217.971, 219.629)
ORBIT_NUMBER = 2483
ORBITAL_ECCENTRICITY = 0.572
ORBITAL_INCLINATION = 86.63
ORBITAL_SEMIMAJOR_AXIS = 8529.56
PERIAPSIS_ALTITUDE = 275.31
PERIAPSIS_ARGUMENT_ANGLE = 281.86
PERIAPSIS_TIME = 2005-12-18T23:05:26.000Z
SPACECRAFT_ORIENTATION = (0.0,-1.0,0.0)
^MEX_ORIENTATION_DESC = "MEX_ORIENTATION_DESC.TXT"
SPACECRAFT_POINTING_MODE = NADIR
^MEX_POINTING_DESC = "MEX_POINTING_DESC.TXT"
RIGHT_ASCENSION = -1e+32
DECLINATION = -1e+32
OFFSET_ANGLE = -1e+32
SPACECRAFT_SOLAR_DISTANCE = 2.26534e+08
TARGET_NAME = MARS
/* CAMERA DATA ELEMENTS */
DETECTOR_TEMPERATURE = 17.5549
FOCAL_PLANE_TEMPERATURE = 8.7872
INST_CMPRS_NAME = "DISCRETE COSINE TRANSFORMATION (DCT)"
INST_CMPRS_RATIO = 10.0257
INST_CMPRS_QUALITY = 0
INST_CMPRS_QUANTZ_TBL_ID = 0
INSTRUMENT_TEMPERATURE = 11.4379
LENS_TEMPERATURE = 8.7872
MACROPIXEL_SIZE = 4
MISSING_FRAMES = 285
PIXEL_SUBSAMPLING_FLAG = N
SIGNAL_CHAIN_ID = 2
/* RADIOMETRIC DATA ELEMENTS */
BANDWIDTH = 81.0
CENTER_FILTER_WAVELENGTH = 955.5
RADIANCE_OFFSET = 0.517697
RADIANCE_SCALING_FACTOR = 0.00281377
REFLECTANCE_SCALING_FACTOR = 0.000311517
MEX:REFLECTANCE_OFFSET = 0.0573152
/* IMAGE OBJECT DEFINITIONS */
OBJECT = IMAGE
  INTERCHANGE_FORMAT = BINARY
  LINES = 21801
  LINE_SAMPLES = 4000
  SAMPLE_TYPE = UNSIGNED_INTEGER
  SAMPLE_BITS = 8
  BANDS = 1
  BAND_STORAGE_TYPE = BAND_SEQUENTIAL
  MAXIMUM = 255
  MEAN = 109.753
  MINIMUM = 1
  STANDARD_DEVIATION = 31.354
END_OBJECT = IMAGE
/* MAP OBJECT DEFINITIONS */
OBJECT = IMAGE_MAP_PROJECTION
  ^DATA_SET_MAP_PROJECTION_CATALOG= "DSMAP.CAT"
  A_AXIS_RADIUS = 3396.0
  B_AXIS_RADIUS = 3396.0
  C_AXIS_RADIUS = 3396.0
  CENTER_LATITUDE = 0.0
  CENTER_LONGITUDE = 226.0
  COORDINATE_SYSTEM_NAME = PLANETOGRAPHIC
  COORDINATE_SYSTEM_TYPE = "BODY-FIXED ROTATING"
  EASTERNMOST_LONGITUDE = 228.766
  FIRST_STANDARD_PARALLEL = "N/A"
  LINE_FIRST_PIXEL = 1
  LINE_LAST_PIXEL = 21801
  LINE_PROJECTION_OFFSET = -69175.625
  MAP_PROJECTION_ROTATION = 0.0
  MAP_PROJECTION_TYPE = SINUSOIDAL
  MAP_RESOLUTION = 1185.42760773333
  MAP_SCALE = 0.05
  MAXIMUM_LATITUDE = -58.378
  MINIMUM_LATITUDE = -76.7697
  POSITIVE_LONGITUDE_DIRECTION = EAST
  REFERENCE_LATITUDE = "N/A"
  REFERENCE_LONGITUDE = "N/A"
  SAMPLE_FIRST_PIXEL = 1
  SAMPLE_LAST_PIXEL = 4000
  SAMPLE_PROJECTION_OFFSET = 2221.875
  SECOND_STANDARD_PARALLEL = "N/A"
  WESTERNMOST_LONGITUDE = 217.971
END_OBJECT = IMAGE_MAP_PROJECTION
/* The JPEG2000 image data file associated with this label. */
OBJECT = COMPRESSED_FILE
  FILE_NAME = "H2483_0000_IR3.JP2"
  RECORD_TYPE = UNDEFINED
  FILE_RECORDS = UNK
  ENCODING_TYPE = "JP2"
  INTERCHANGE_FORMAT = BINARY
  UNCOMPRESSED_FILE_NAME = "H2483_0000_IR3.IMG"
  REQUIRED_STORAGE_BYTES = "87228000"
  ^DESCRIPTION = "JP2INFO.TXT"
END_OBJECT = COMPRESSED_FILE
END
