PDS_VERSION_ID = PDS3
/* FILE DATA ELEMENTS */
RECORD_TYPE = STREAM
/* POINTERS TO DATA OBJECTS */
^COMPRESSED_FILE = "H2483_0000_RE3.JP2"
/* IDENTIFICATION DATA ELEMENTS */
DATA_SET_ID = "MEX-M-HRSC-5-REFDR-MAPPROJECTED-V3.0"
DATA_SET_NAME = "MARS EXPRESS HRSC MAP PROJECTED REFDR V3.0"
DETECTOR_ID = MEX_HRSC_RED
EVENT_TYPE = "MARS-REGIONAL-MAPPING-Te-Im"
INSTRUMENT_HOST_ID = MEX
INSTRUMENT_HOST_NAME = "MARS EXPRESS"
INSTRUMENT_ID = HRSC
INSTRUMENT_NAME = "HIGH RESOLUTION STEREO CAMERA"
MISSION_NAME = "MARS EXPRESS"
MISSION_PHASE_NAME = ME_Phase_1
PROCESSING_LEVEL_ID = 3
PRODUCT_CREATION_TIME = 2016-04-06T10:39:59.000Z
PRODUCT_ID = "H2483_0000_RE3.JP2"
RELEASE_ID = 0030
REVISION_ID = 0000
/* QUALITY DATA ELEMENTS */
DATA_QUALITY_ID = 1
DATA_QUALITY_DESC = "Data calculated based on original SPICE kernels"
/* TIME DATA ELEMENTS */
SPACECRAFT_CLOCK_START_COUNT = "1/0083027111.56206"
SPACECRAFT_CLOCK_STOP_COUNT = "1/0083027450.38170"
START_TIME = 2005-12-18T23:06:02.570Z
STOP_TIME = 2005-12-18T23:10:49.359Z
/* ORBITAL DATA ELEMENTS */
ASCENDING_NODE_LONGITUDE = 176.15
MAXIMUM_RESOLUTION = 45.6
FOOTPRINT_POINT_LATITUDE = (-76.4941,-76.5689,-76.7328,-76.4231, -76.113,-74.5753,-74.1077,-73.6498, -73.3396,-73.0321,-72.7152,-72.4076, -72.0993,-71.7824,-71.4624,-71.1423, -70.8225,-70.5035,-70.0233,-69.7029, -69.3853,-69.0746,-68.7465,-68.4162, -68.0778,-67.5867,-67.2587,-66.9315, -66.5969,-66.2092,-65.8709,-65.5336, -65.0276,-64.6828,-64.3354,-63.8145, -63.4726,-63.1165,-62.7597,-62.4037, -61.8724,-61.6875,-61.3224,-60.9583, -60.5949,-60.2323,-59.8707,-59.3282, -58.9667,-58.6096,-58.4163,-58.4006, -58.3785,-58.3597,-58.3335,-58.6909, -59.0498,-59.5888,-59.9491,-60.3115, -60.8518,-61.2144,-61.5773,-62.1141, -62.4684,-62.8231,-63.1785,-63.5239, -63.8676,-64.2133,-64.5596,-64.9036, -65.4064,-65.7424,-66.079,-66.4651, -66.9604,-67.4487,-67.7746,-68.2638, -68.5923,-68.9233,-69.2398,-69.5568, -70.0322,-70.5073,-70.8236,-71.1392, -71.4565,-71.9292,-72.2352,-72.6935, -73.1525,-73.6114,-73.9172,-74.3761, -75.8919,-76.1971,-76.5021,-76.4941)
FOOTPRINT_POINT_LONGITUDE = (219.143,220.438,222.019,222.3,222.568, 223.734,224.037,224.329,224.51,224.686, 224.85,225.012,225.169,225.323,225.474, 225.619,225.759,225.895,226.088,226.21, 226.33,226.451,226.567,226.678,226.781, 226.938,227.039,227.136,227.231,227.34, 227.431,227.519,227.646,227.73,227.811, 227.929,228.007,228.08,228.154,228.225, 228.329,228.363,228.43,228.496,228.56, 228.622,228.683,228.769,228.824,228.88, 228.593,228.006,227.487,227.104,226.487 ,226.431,226.372,226.28,226.216,226.148 ,226.047,225.974,225.9,225.783,225.702, 225.619,225.533,225.447,225.359,225.266 ,225.17,225.071,224.92,224.815,224.706, 224.578,224.404,224.225,224.1,223.904, 223.764,223.615,223.471,223.321,223.087 ,222.841,222.67,222.494,222.309,222.017 ,221.819,221.509,221.178,220.827, 220.581,220.191,218.705,218.36,217.999, 219.143)
ORBIT_NUMBER = 2483
ORBITAL_ECCENTRICITY = 0.572
ORBITAL_INCLINATION = 86.63
ORBITAL_SEMIMAJOR_AXIS = 8529.56
PERIAPSIS_ALTITUDE = 275.31
PERIAPSIS_ARGUMENT_ANGLE = 281.86
PERIAPSIS_TIME = 2005-12-18T23:05:26.000Z
SPACECRAFT_ORIENTATION = (0.0,-1.0,0.0)
^MEX_ORIENTATION_DESC = "MEX_ORIENTATION_DESC.TXT"
SPACECRAFT_POINTING_MODE = NADIR
^MEX_POINTING_DESC = "MEX_POINTING_DESC.TXT"
RIGHT_ASCENSION = -1e+32
DECLINATION = -1e+32
OFFSET_ANGLE = -1e+32
SPACECRAFT_SOLAR_DISTANCE = 2.26534e+08
TARGET_NAME = MARS
/* CAMERA DATA ELEMENTS */
DETECTOR_TEMPERATURE = 18.5744
FOCAL_PLANE_TEMPERATURE = 8.7872
INST_CMPRS_NAME = "DISCRETE COSINE TRANSFORMATION (DCT)"
INST_CMPRS_RATIO = 27.3998
INST_CMPRS_QUALITY = 0
INST_CMPRS_QUANTZ_TBL_ID = 0
INSTRUMENT_TEMPERATURE = 11.4379
LENS_TEMPERATURE = 8.7872
MACROPIXEL_SIZE = 4
MISSING_FRAMES = 284
PIXEL_SUBSAMPLING_FLAG = N
SIGNAL_CHAIN_ID = 2
/* RADIOMETRIC DATA ELEMENTS */
BANDWIDTH = 48.0
CENTER_FILTER_WAVELENGTH = 748.0
RADIANCE_OFFSET = 0.581037
RADIANCE_SCALING_FACTOR = 0.00316683
REFLECTANCE_SCALING_FACTOR = 0.000370868
MEX:REFLECTANCE_OFFSET = 0.0680453
/* IMAGE OBJECT DEFINITIONS */
OBJECT = IMAGE
  INTERCHANGE_FORMAT = BINARY
  LINES = 21801
  LINE_SAMPLES = 4000
  SAMPLE_TYPE = UNSIGNED_INTEGER
  SAMPLE_BITS = 8
  BANDS = 1
  BAND_STORAGE_TYPE = BAND_SEQUENTIAL
  MAXIMUM = 255
  MEAN = 124.399
  MINIMUM = 1
  STANDARD_DEVIATION = 37.4303
END_OBJECT = IMAGE
/* MAP OBJECT DEFINITIONS */
OBJECT = IMAGE_MAP_PROJECTION
  ^DATA_SET_MAP_PROJECTION_CATALOG= "DSMAP.CAT"
  A_AXIS_RADIUS = 3396.0
  B_AXIS_RADIUS = 3396.0
  C_AXIS_RADIUS = 3396.0
  CENTER_LATITUDE = 0.0
  CENTER_LONGITUDE = 226.0
  COORDINATE_SYSTEM_NAME = PLANETOGRAPHIC
  COORDINATE_SYSTEM_TYPE = "BODY-FIXED ROTATING"
  EASTERNMOST_LONGITUDE = 228.88
  FIRST_STANDARD_PARALLEL = "N/A"
  LINE_FIRST_PIXEL = 1
  LINE_LAST_PIXEL = 21801
  LINE_PROJECTION_OFFSET = -69175.625
  MAP_PROJECTION_ROTATION = 0.0
  MAP_PROJECTION_TYPE = SINUSOIDAL
  MAP_RESOLUTION = 1185.42760773333
  MAP_SCALE = 0.05
  MAXIMUM_LATITUDE = -58.3335
  MINIMUM_LATITUDE = -76.7328
  POSITIVE_LONGITUDE_DIRECTION = EAST
  REFERENCE_LATITUDE = "N/A"
  REFERENCE_LONGITUDE = "N/A"
  SAMPLE_FIRST_PIXEL = 1
  SAMPLE_LAST_PIXEL = 4000
  SAMPLE_PROJECTION_OFFSET = 2221.875
  SECOND_STANDARD_PARALLEL = "N/A"
  WESTERNMOST_LONGITUDE = 217.999
END_OBJECT = IMAGE_MAP_PROJECTION
/* The JPEG2000 image data file associated with this label. */
OBJECT = COMPRESSED_FILE
  FILE_NAME = "H2483_0000_RE3.JP2"
  RECORD_TYPE = UNDEFINED
  FILE_RECORDS = UNK
  ENCODING_TYPE = "JP2"
  INTERCHANGE_FORMAT = BINARY
  UNCOMPRESSED_FILE_NAME = "H2483_0000_RE3.IMG"
  REQUIRED_STORAGE_BYTES = "87228000"
  ^DESCRIPTION = "JP2INFO.TXT"
END_OBJECT = COMPRESSED_FILE
END
