PDS_VERSION_ID = PDS3
/* FILE DATA ELEMENTS */
RECORD_TYPE = STREAM
/* POINTERS TO DATA OBJECTS */
^COMPRESSED_FILE = "H2483_0000_S13.JP2"
/* IDENTIFICATION DATA ELEMENTS */
DATA_SET_ID = "MEX-M-HRSC-5-REFDR-MAPPROJECTED-V3.0"
DATA_SET_NAME = "MARS EXPRESS HRSC MAP PROJECTED REFDR V3.0"
DETECTOR_ID = MEX_HRSC_S1
EVENT_TYPE = "MARS-REGIONAL-MAPPING-Te-Im"
INSTRUMENT_HOST_ID = MEX
INSTRUMENT_HOST_NAME = "MARS EXPRESS"
INSTRUMENT_ID = HRSC
INSTRUMENT_NAME = "HIGH RESOLUTION STEREO CAMERA"
MISSION_NAME = "MARS EXPRESS"
MISSION_PHASE_NAME = ME_Phase_1
PROCESSING_LEVEL_ID = 3
PRODUCT_CREATION_TIME = 2016-04-06T10:39:59.000Z
PRODUCT_ID = "H2483_0000_S13.JP2"
RELEASE_ID = 0030
REVISION_ID = 0000
/* QUALITY DATA ELEMENTS */
DATA_QUALITY_ID = 1
DATA_QUALITY_DESC = "Data calculated based on original SPICE kernels"
/* TIME DATA ELEMENTS */
SPACECRAFT_CLOCK_START_COUNT = "1/0083027111.56206"
SPACECRAFT_CLOCK_STOP_COUNT = "1/0083027450.38170"
START_TIME = 2005-12-18T23:05:18.708Z
STOP_TIME = 2005-12-18T23:09:51.196Z
/* ORBITAL DATA ELEMENTS */
ASCENDING_NODE_LONGITUDE = 176.15
MAXIMUM_RESOLUTION = 23
FOOTPRINT_POINT_LATITUDE = (-76.6351,-76.73,-76.7873,-76.7708, -76.4637,-76.157,-75.8491,-75.5399, -75.0768,-74.7645,-74.3049,-73.9955, -73.6777,-73.2111,-71.682,-71.2139, -70.7436,-70.4297,-70.1167,-69.8048, -69.4905,-69.1676,-68.6825,-68.356, -67.8714,-67.5444,-67.2165,-66.8882, -66.5602,-66.2309,-65.9015,-65.5603, -65.22,-64.8789,-64.5378,-64.0267, -63.6856,-63.3346,-62.8964,-62.3665, -62.0138,-61.4755,-61.109,-60.7424, -60.3767,-60.0103,-59.636,-59.2588, -58.8831,-58.6937,-58.5026,-58.446, -58.4262,-58.4018,-58.568,-58.9438, -59.3205,-59.6971,-60.0649,-60.6146, -60.9794,-61.3441,-61.8818,-62.2337, -62.7624,-63.199,-63.7187,-64.0596, -64.3987,-64.7376,-65.0769,-65.4166, -65.9209,-66.2478,-66.575,-66.9013, -67.2288,-67.5547,-68.0445,-68.3712, -68.6929,-69.008,-69.3193,-69.7863, -70.2533,-70.7207,-71.0326,-71.6852, -73.1697,-73.4773,-73.7838,-74.0903, -74.3957,-74.7013,-75.0066,-75.3105, -75.7648,-76.0677,-76.3685,-76.6351)
FOOTPRINT_POINT_LONGITUDE = (217.972,219.463,220.455,221.977, 222.255,222.518,222.772,223.016,223.36, 223.584,223.884,224.079,224.281,224.551 ,225.331,225.543,225.747,225.877, 226.002,226.12,226.238,226.363,226.533, 226.641,226.791,226.891,226.989,227.085 ,227.177,227.268,227.355,227.443, 227.527,227.61,227.69,227.806,227.88, 227.955,228.045,228.149,228.216,228.315 ,228.38,228.444,228.505,228.566,228.625 ,228.683,228.738,228.766,228.795, 228.048,227.575,226.996,226.55,226.487, 226.422,226.355,226.287,226.183,226.11, 226.034,225.918,225.838,225.714,225.607 ,225.473,225.382,225.288,225.19,225.09, 224.986,224.825,224.716,224.604,224.488 ,224.368,224.244,224.05,223.915,223.774 ,223.63,223.486,223.26,223.022,222.772, 222.598,222.21,221.198,220.963,220.718, 220.463,220.198,219.922,219.634,219.333 ,218.856,218.521,218.169,217.972)
ORBIT_NUMBER = 2483
ORBITAL_ECCENTRICITY = 0.572
ORBITAL_INCLINATION = 86.63
ORBITAL_SEMIMAJOR_AXIS = 8529.56
PERIAPSIS_ALTITUDE = 275.31
PERIAPSIS_ARGUMENT_ANGLE = 281.86
PERIAPSIS_TIME = 2005-12-18T23:05:26.000Z
SPACECRAFT_ORIENTATION = (0.0,-1.0,0.0)
^MEX_ORIENTATION_DESC = "MEX_ORIENTATION_DESC.TXT"
SPACECRAFT_POINTING_MODE = NADIR
^MEX_POINTING_DESC = "MEX_POINTING_DESC.TXT"
RIGHT_ASCENSION = -1e+32
DECLINATION = -1e+32
OFFSET_ANGLE = -1e+32
SPACECRAFT_SOLAR_DISTANCE = 2.26534e+08
TARGET_NAME = MARS
/* CAMERA DATA ELEMENTS */
DETECTOR_TEMPERATURE = 17.5549
FOCAL_PLANE_TEMPERATURE = 8.7872
INST_CMPRS_NAME = "DISCRETE COSINE TRANSFORMATION (DCT)"
INST_CMPRS_RATIO = 9.60938
INST_CMPRS_QUALITY = 0
INST_CMPRS_QUANTZ_TBL_ID = 0
INSTRUMENT_TEMPERATURE = 11.4379
LENS_TEMPERATURE = 8.7872
MACROPIXEL_SIZE = 2
MISSING_FRAMES = 565
PIXEL_SUBSAMPLING_FLAG = N
SIGNAL_CHAIN_ID = 1
/* RADIOMETRIC DATA ELEMENTS */
BANDWIDTH = 180.0
CENTER_FILTER_WAVELENGTH = 677.0
RADIANCE_OFFSET = 2.67204
RADIANCE_SCALING_FACTOR = 0.00994122
REFLECTANCE_SCALING_FACTOR = 0.000266163
MEX:REFLECTANCE_OFFSET = 0.0715403
/* IMAGE OBJECT DEFINITIONS */
OBJECT = IMAGE
  INTERCHANGE_FORMAT = BINARY
  LINES = 43601
  LINE_SAMPLES = 7999
  SAMPLE_TYPE = UNSIGNED_INTEGER
  SAMPLE_BITS = 8
  BANDS = 1
  BAND_STORAGE_TYPE = BAND_SEQUENTIAL
  MAXIMUM = 255
  MEAN = 115.781
  MINIMUM = 1
  STANDARD_DEVIATION = 33.4391
END_OBJECT = IMAGE
/* MAP OBJECT DEFINITIONS */
OBJECT = IMAGE_MAP_PROJECTION
  ^DATA_SET_MAP_PROJECTION_CATALOG= "DSMAP.CAT"
  A_AXIS_RADIUS = 3396.0
  B_AXIS_RADIUS = 3396.0
  C_AXIS_RADIUS = 3396.0
  CENTER_LATITUDE = 0.0
  CENTER_LONGITUDE = 226.0
  COORDINATE_SYSTEM_NAME = PLANETOGRAPHIC
  COORDINATE_SYSTEM_TYPE = "BODY-FIXED ROTATING"
  EASTERNMOST_LONGITUDE = 228.795
  FIRST_STANDARD_PARALLEL = "N/A"
  LINE_FIRST_PIXEL = 1
  LINE_LAST_PIXEL = 43601
  LINE_PROJECTION_OFFSET = -138350.75
  MAP_PROJECTION_ROTATION = 0.0
  MAP_PROJECTION_TYPE = SINUSOIDAL
  MAP_RESOLUTION = 2370.85521546667
  MAP_SCALE = 0.025
  MAXIMUM_LATITUDE = -58.4018
  MINIMUM_LATITUDE = -76.7873
  POSITIVE_LONGITUDE_DIRECTION = EAST
  REFERENCE_LATITUDE = "N/A"
  REFERENCE_LONGITUDE = "N/A"
  SAMPLE_FIRST_PIXEL = 1
  SAMPLE_LAST_PIXEL = 7999
  SAMPLE_PROJECTION_OFFSET = 4444.25
  SECOND_STANDARD_PARALLEL = "N/A"
  WESTERNMOST_LONGITUDE = 217.972
END_OBJECT = IMAGE_MAP_PROJECTION
/* The JPEG2000 image data file associated with this label. */
OBJECT = COMPRESSED_FILE
  FILE_NAME = "H2483_0000_S13.JP2"
  RECORD_TYPE = UNDEFINED
  FILE_RECORDS = UNK
  ENCODING_TYPE = "JP2"
  INTERCHANGE_FORMAT = BINARY
  UNCOMPRESSED_FILE_NAME = "H2483_0000_S13.IMG"
  REQUIRED_STORAGE_BYTES = "348796395"
  ^DESCRIPTION = "JP2INFO.TXT"
END_OBJECT = COMPRESSED_FILE
END
