PDS_VERSION_ID = PDS3
/* FILE DATA ELEMENTS */
RECORD_TYPE = STREAM
/* POINTERS TO DATA OBJECTS */
^COMPRESSED_FILE = "H2484_0000_ND3.JP2"
/* IDENTIFICATION DATA ELEMENTS */
DATA_SET_ID = "MEX-M-HRSC-5-REFDR-MAPPROJECTED-V3.0"
DATA_SET_NAME = "MARS EXPRESS HRSC MAP PROJECTED REFDR V3.0"
DETECTOR_ID = MEX_HRSC_NADIR
EVENT_TYPE = "MARS-REGIONAL-MAPPING-Te-Fl-Gl"
INSTRUMENT_HOST_ID = MEX
INSTRUMENT_HOST_NAME = "MARS EXPRESS"
INSTRUMENT_ID = HRSC
INSTRUMENT_NAME = "HIGH RESOLUTION STEREO CAMERA"
MISSION_NAME = "MARS EXPRESS"
MISSION_PHASE_NAME = ME_Phase_1
PROCESSING_LEVEL_ID = 3
PRODUCT_CREATION_TIME = 2016-04-06T10:39:59.000Z
PRODUCT_ID = "H2484_0000_ND3.JP2"
RELEASE_ID = 0030
REVISION_ID = 0000
/* QUALITY DATA ELEMENTS */
DATA_QUALITY_ID = 1
DATA_QUALITY_DESC = "Data calculated based on original SPICE kernels"
/* TIME DATA ELEMENTS */
SPACECRAFT_CLOCK_START_COUNT = "1/0083051440.57977"
SPACECRAFT_CLOCK_STOP_COUNT = "1/0083051767.49944"
START_TIME = 2005-12-19T05:51:13.223Z
STOP_TIME = 2005-12-19T05:55:28.229Z
/* ORBITAL DATA ELEMENTS */
ASCENDING_NODE_LONGITUDE = 176.13
MAXIMUM_RESOLUTION = 11.8
FOOTPRINT_POINT_LATITUDE = (-67.1533,-67.2175,-67.2589,-66.9862, -66.7023,-66.4186,-66.1352,-65.8521, -65.4133,-65.12,-64.8269,-64.5339, -64.2412,-63.9489,-63.498,-63.1958, -62.8937,-62.5921,-62.2907,-61.9827, -61.6714,-61.3606,-61.05,-60.7398, -60.4222,-60.1024,-59.783,-59.464, -59.1455,-58.8272,-58.5094,-58.192, -57.875,-57.5585,-57.2423,-56.9265, -56.5684,-56.1929,-55.8181,-55.4439, -55.0705,-54.6976,-54.3255,-53.954, -53.5834,-53.2135,-52.8443,-52.2806, -51.9034,-51.5205,-51.135,-50.9085, -50.8834,-50.853,-51.2369,-51.8115, -52.1877,-52.7501,-53.1183,-53.4873, -53.857,-54.2274,-54.5985,-54.9703, -55.3428,-55.7159,-56.0897,-56.4642, -56.8233,-57.138,-57.4532,-57.7688, -58.0848,-58.4012,-58.718,-59.0353, -59.3529,-59.6709,-59.9893,-60.308, -60.6249,-60.9341,-61.2435,-61.5532, -61.8633,-62.1705,-62.4707,-62.7712, -63.072,-63.373,-63.8224,-64.1135, -64.4049,-64.6964,-64.9881,-65.28, -65.7168,-66.2807,-66.845,-67.1533)
FOOTPRINT_POINT_LONGITUDE = (126.386,127.6,128.496,128.81,128.891, 128.969,129.048,129.126,129.237,129.31, 129.382,129.449,129.517,129.585,129.684 ,129.748,129.81,129.872,129.932,129.991 ,130.049,130.106,130.162,130.216,130.27 ,130.324,130.376,130.428,130.479, 130.527,130.575,130.621,130.665,130.709 ,130.75,130.791,130.838,130.886,130.934 ,130.978,131.024,131.065,131.107, 131.146,131.187,131.226,131.264,131.32, 131.356,131.392,131.426,130.635,129.873 ,129.102,129.071,129.022,128.99,128.934 ,128.899,128.866,128.828,128.789, 128.751,128.712,128.668,128.62,128.573, 128.524,128.476,128.431,128.386,128.339 ,128.29,128.24,128.189,128.136,128.082, 128.027,127.968,127.91,127.85,127.789, 127.725,127.66,127.592,127.523,127.454, 127.383,127.31,127.233,127.117,127.038, 126.956,126.872,126.786,126.698,126.561 ,126.377,126.178,126.386)
ORBIT_NUMBER = 2484
ORBITAL_ECCENTRICITY = 0.572
ORBITAL_INCLINATION = 86.62
ORBITAL_SEMIMAJOR_AXIS = 8531.84
PERIAPSIS_ALTITUDE = 276.28
PERIAPSIS_ARGUMENT_ANGLE = 281.68
PERIAPSIS_TIME = 2005-12-19T05:48:31.000Z
SPACECRAFT_ORIENTATION = (0.0,-1.0,0.0)
^MEX_ORIENTATION_DESC = "MEX_ORIENTATION_DESC.TXT"
SPACECRAFT_POINTING_MODE = NADIR
^MEX_POINTING_DESC = "MEX_POINTING_DESC.TXT"
RIGHT_ASCENSION = -1e+32
DECLINATION = -1e+32
OFFSET_ANGLE = -1e+32
SPACECRAFT_SOLAR_DISTANCE = 2.26589e+08
TARGET_NAME = MARS
/* CAMERA DATA ELEMENTS */
DETECTOR_TEMPERATURE = 18.7783
FOCAL_PLANE_TEMPERATURE = 8.7872
INST_CMPRS_NAME = "DISCRETE COSINE TRANSFORMATION (DCT)"
INST_CMPRS_RATIO = 6.96747
INST_CMPRS_QUALITY = 0
INST_CMPRS_QUANTZ_TBL_ID = 0
INSTRUMENT_TEMPERATURE = 11.234
LENS_TEMPERATURE = 8.7872
MACROPIXEL_SIZE = 1
MISSING_FRAMES = 0
PIXEL_SUBSAMPLING_FLAG = N
SIGNAL_CHAIN_ID = 0
/* RADIOMETRIC DATA ELEMENTS */
BANDWIDTH = 177.0
CENTER_FILTER_WAVELENGTH = 677.5
RADIANCE_OFFSET = 2.4565
RADIANCE_SCALING_FACTOR = 0.0135388
REFLECTANCE_SCALING_FACTOR = 0.000369267
MEX:REFLECTANCE_OFFSET = 0.0670006
/* IMAGE OBJECT DEFINITIONS */
OBJECT = IMAGE
  INTERCHANGE_FORMAT = BINARY
  LINES = 77825
  LINE_SAMPLES = 12753
  SAMPLE_TYPE = UNSIGNED_INTEGER
  SAMPLE_BITS = 8
  BANDS = 1
  BAND_STORAGE_TYPE = BAND_SEQUENTIAL
  MAXIMUM = 255
  MEAN = 114.263
  MINIMUM = 1
  STANDARD_DEVIATION = 39.4006
END_OBJECT = IMAGE
/* MAP OBJECT DEFINITIONS */
OBJECT = IMAGE_MAP_PROJECTION
  ^DATA_SET_MAP_PROJECTION_CATALOG= "DSMAP.CAT"
  A_AXIS_RADIUS = 3396.0
  B_AXIS_RADIUS = 3396.0
  C_AXIS_RADIUS = 3396.0
  CENTER_LATITUDE = 0.0
  CENTER_LONGITUDE = 129.0
  COORDINATE_SYSTEM_NAME = PLANETOGRAPHIC
  COORDINATE_SYSTEM_TYPE = "BODY-FIXED ROTATING"
  EASTERNMOST_LONGITUDE = 131.426
  FIRST_STANDARD_PARALLEL = "N/A"
  LINE_FIRST_PIXEL = 1
  LINE_LAST_PIXEL = 77825
  LINE_PROJECTION_OFFSET = -241131.0
  MAP_PROJECTION_ROTATION = 0.0
  MAP_PROJECTION_TYPE = SINUSOIDAL
  MAP_RESOLUTION = 4741.71043093333
  MAP_SCALE = 0.0125
  MAXIMUM_LATITUDE = -50.853
  MINIMUM_LATITUDE = -67.2589
  POSITIVE_LONGITUDE_DIRECTION = EAST
  REFERENCE_LATITUDE = "N/A"
  REFERENCE_LONGITUDE = "N/A"
  SAMPLE_FIRST_PIXEL = 1
  SAMPLE_LAST_PIXEL = 12753
  SAMPLE_PROJECTION_OFFSET = 5386.0
  SECOND_STANDARD_PARALLEL = "N/A"
  WESTERNMOST_LONGITUDE = 126.178
END_OBJECT = IMAGE_MAP_PROJECTION
/* The JPEG2000 image data file associated with this label. */
OBJECT = COMPRESSED_FILE
  FILE_NAME = "H2484_0000_ND3.JP2"
  RECORD_TYPE = UNDEFINED
  FILE_RECORDS = UNK
  ENCODING_TYPE = "JP2"
  INTERCHANGE_FORMAT = BINARY
  UNCOMPRESSED_FILE_NAME = "H2484_0000_ND3.IMG"
  REQUIRED_STORAGE_BYTES = "992540484"
  ^DESCRIPTION = "JP2INFO.TXT"
END_OBJECT = COMPRESSED_FILE
END
