PDS_VERSION_ID = PDS3
/* FILE DATA ELEMENTS */
RECORD_TYPE = STREAM
/* POINTERS TO DATA OBJECTS */
^COMPRESSED_FILE = "H2484_0000_P13.JP2"
/* IDENTIFICATION DATA ELEMENTS */
DATA_SET_ID = "MEX-M-HRSC-5-REFDR-MAPPROJECTED-V3.0"
DATA_SET_NAME = "MARS EXPRESS HRSC MAP PROJECTED REFDR V3.0"
DETECTOR_ID = MEX_HRSC_P1
EVENT_TYPE = "MARS-REGIONAL-MAPPING-Te-Fl-Gl"
INSTRUMENT_HOST_ID = MEX
INSTRUMENT_HOST_NAME = "MARS EXPRESS"
INSTRUMENT_ID = HRSC
INSTRUMENT_NAME = "HIGH RESOLUTION STEREO CAMERA"
MISSION_NAME = "MARS EXPRESS"
MISSION_PHASE_NAME = ME_Phase_1
PROCESSING_LEVEL_ID = 3
PRODUCT_CREATION_TIME = 2016-04-06T10:39:59.000Z
PRODUCT_ID = "H2484_0000_P13.JP2"
RELEASE_ID = 0030
REVISION_ID = 0000
/* QUALITY DATA ELEMENTS */
DATA_QUALITY_ID = 1
DATA_QUALITY_DESC = "Data calculated based on original SPICE kernels"
/* TIME DATA ELEMENTS */
SPACECRAFT_CLOCK_START_COUNT = "1/0083051440.57977"
SPACECRAFT_CLOCK_STOP_COUNT = "1/0083051767.49944"
START_TIME = 2005-12-19T05:50:56.268Z
STOP_TIME = 2005-12-19T05:55:02.988Z
/* ORBITAL DATA ELEMENTS */
ASCENDING_NODE_LONGITUDE = 176.13
MAXIMUM_RESOLUTION = 47.8
FOOTPRINT_POINT_LATITUDE = (-67.2034,-67.2328,-67.2654,-67.2977, -67.2758,-66.8554,-66.5698,-66.1398, -65.8497,-65.4215,-65.1347,-64.7047, -64.4113,-64.1129,-63.6659,-63.3692, -63.0739,-62.7764,-62.4716,-62.1642, -61.8578,-61.551,-61.2445,-60.9376, -60.6203,-60.3027,-59.8281,-59.511, -59.0229,-58.6966,-58.3698,-58.044, -57.7186,-57.3949,-57.0708,-56.5838, -56.259,-55.9315,-55.6097,-55.0606, -54.6759,-54.2901,-53.7134,-53.3284, -52.9444,-52.5615,-52.1788,-51.7971, -51.2255,-50.9287,-50.9153,-50.8986, -50.8833,-50.8665,-51.0611,-51.4418, -51.8196,-52.2013,-52.577,-52.9593, -53.3453,-53.9205,-54.3061,-54.6942, -55.2733,-55.6094,-55.9304,-56.4164, -56.7404,-57.2261,-57.7125,-58.0371, -58.3621,-58.688,-59.0135,-59.4962, -59.8124,-60.2863,-60.6035,-60.9184, -61.2237,-61.5298,-61.8347,-62.1407, -62.5985,-63.0418,-63.3371,-63.6327, -63.9285,-64.224,-64.5196,-64.8041, -65.0894,-65.3751,-65.8033,-66.0899, -66.3754,-66.6598,-66.9431,-67.2034)
FOOTPRINT_POINT_LONGITUDE = (126.136,126.642,127.24,127.886,128.696 ,128.819,128.898,129.015,129.096, 129.204,129.275,129.379,129.445,129.515 ,129.615,129.678,129.738,129.799, 129.861,129.921,129.979,130.035,130.09, 130.144,130.199,130.253,130.33,130.381, 130.458,130.506,130.555,130.601,130.646 ,130.688,130.73,130.793,130.834,130.876 ,130.913,130.979,131.021,131.064, 131.125,131.166,131.205,131.242,131.279 ,131.314,131.365,130.889,130.45,129.991 ,129.594,129.15,129.134,129.103,129.069 ,129.035,128.997,128.96,128.924,128.865 ,128.824,128.783,128.717,128.675, 128.633,128.569,128.525,128.456,128.384 ,128.334,128.282,128.229,128.175, 128.091,128.035,127.946,127.886,127.824 ,127.76,127.696,127.628,127.56,127.453, 127.345,127.271,127.194,127.115,127.034 ,126.95,126.866,126.781,126.693,126.557 ,126.464,126.367,126.267,126.165, 126.136)
ORBIT_NUMBER = 2484
ORBITAL_ECCENTRICITY = 0.572
ORBITAL_INCLINATION = 86.62
ORBITAL_SEMIMAJOR_AXIS = 8531.84
PERIAPSIS_ALTITUDE = 276.28
PERIAPSIS_ARGUMENT_ANGLE = 281.68
PERIAPSIS_TIME = 2005-12-19T05:48:31.000Z
SPACECRAFT_ORIENTATION = (0.0,-1.0,0.0)
^MEX_ORIENTATION_DESC = "MEX_ORIENTATION_DESC.TXT"
SPACECRAFT_POINTING_MODE = NADIR
^MEX_POINTING_DESC = "MEX_POINTING_DESC.TXT"
RIGHT_ASCENSION = -1e+32
DECLINATION = -1e+32
OFFSET_ANGLE = -1e+32
SPACECRAFT_SOLAR_DISTANCE = 2.26589e+08
TARGET_NAME = MARS
/* CAMERA DATA ELEMENTS */
DETECTOR_TEMPERATURE = 17.351
FOCAL_PLANE_TEMPERATURE = 8.7872
INST_CMPRS_NAME = "DISCRETE COSINE TRANSFORMATION (DCT)"
INST_CMPRS_RATIO = 15.7523
INST_CMPRS_QUALITY = 0
INST_CMPRS_QUANTZ_TBL_ID = 0
INSTRUMENT_TEMPERATURE = 11.234
LENS_TEMPERATURE = 8.7872
MACROPIXEL_SIZE = 4
MISSING_FRAMES = 0
PIXEL_SUBSAMPLING_FLAG = N
SIGNAL_CHAIN_ID = 3
/* RADIOMETRIC DATA ELEMENTS */
BANDWIDTH = 174.0
CENTER_FILTER_WAVELENGTH = 675.0
RADIANCE_OFFSET = 2.89437
RADIANCE_SCALING_FACTOR = 0.012826
REFLECTANCE_SCALING_FACTOR = 0.000354206
MEX:REFLECTANCE_OFFSET = 0.0799314
/* IMAGE OBJECT DEFINITIONS */
OBJECT = IMAGE
  INTERCHANGE_FORMAT = BINARY
  LINES = 19457
  LINE_SAMPLES = 3189
  SAMPLE_TYPE = UNSIGNED_INTEGER
  SAMPLE_BITS = 8
  BANDS = 1
  BAND_STORAGE_TYPE = BAND_SEQUENTIAL
  MAXIMUM = 255
  MEAN = 112.412
  MINIMUM = 1
  STANDARD_DEVIATION = 38.7735
END_OBJECT = IMAGE
/* MAP OBJECT DEFINITIONS */
OBJECT = IMAGE_MAP_PROJECTION
  ^DATA_SET_MAP_PROJECTION_CATALOG= "DSMAP.CAT"
  A_AXIS_RADIUS = 3396.0
  B_AXIS_RADIUS = 3396.0
  C_AXIS_RADIUS = 3396.0
  CENTER_LATITUDE = 0.0
  CENTER_LONGITUDE = 129.0
  COORDINATE_SYSTEM_NAME = PLANETOGRAPHIC
  COORDINATE_SYSTEM_TYPE = "BODY-FIXED ROTATING"
  EASTERNMOST_LONGITUDE = 131.365
  FIRST_STANDARD_PARALLEL = "N/A"
  LINE_FIRST_PIXEL = 1
  LINE_LAST_PIXEL = 19457
  LINE_PROJECTION_OFFSET = -60283.125
  MAP_PROJECTION_ROTATION = 0.0
  MAP_PROJECTION_TYPE = SINUSOIDAL
  MAP_RESOLUTION = 1185.42760773333
  MAP_SCALE = 0.05
  MAXIMUM_LATITUDE = -50.8665
  MINIMUM_LATITUDE = -67.29770000000001
  POSITIVE_LONGITUDE_DIRECTION = EAST
  REFERENCE_LATITUDE = "N/A"
  REFERENCE_LONGITUDE = "N/A"
  SAMPLE_FIRST_PIXEL = 1
  SAMPLE_LAST_PIXEL = 3189
  SAMPLE_PROJECTION_OFFSET = 1346.125
  SECOND_STANDARD_PARALLEL = "N/A"
  WESTERNMOST_LONGITUDE = 126.136
END_OBJECT = IMAGE_MAP_PROJECTION
/* The JPEG2000 image data file associated with this label. */
OBJECT = COMPRESSED_FILE
  FILE_NAME = "H2484_0000_P13.JP2"
  RECORD_TYPE = UNDEFINED
  FILE_RECORDS = UNK
  ENCODING_TYPE = "JP2"
  INTERCHANGE_FORMAT = BINARY
  UNCOMPRESSED_FILE_NAME = "H2484_0000_P13.IMG"
  REQUIRED_STORAGE_BYTES = "62070696"
  ^DESCRIPTION = "JP2INFO.TXT"
END_OBJECT = COMPRESSED_FILE
END
