PDS_VERSION_ID = PDS3
/* FILE DATA ELEMENTS */
RECORD_TYPE = STREAM
/* POINTERS TO DATA OBJECTS */
^COMPRESSED_FILE = "H2486_0000_ND3.JP2"
/* IDENTIFICATION DATA ELEMENTS */
DATA_SET_ID = "MEX-M-HRSC-5-REFDR-MAPPROJECTED-V3.0"
DATA_SET_NAME = "MARS EXPRESS HRSC MAP PROJECTED REFDR V3.0"
DETECTOR_ID = MEX_HRSC_NADIR
EVENT_TYPE = "MARS-REGIONAL-MAPPING-Gl-Pf-La"
INSTRUMENT_HOST_ID = MEX
INSTRUMENT_HOST_NAME = "MARS EXPRESS"
INSTRUMENT_ID = HRSC
INSTRUMENT_NAME = "HIGH RESOLUTION STEREO CAMERA"
MISSION_NAME = "MARS EXPRESS"
MISSION_PHASE_NAME = ME_Phase_1
PROCESSING_LEVEL_ID = 3
PRODUCT_CREATION_TIME = 2016-04-06T10:39:59.000Z
PRODUCT_ID = "H2486_0000_ND3.JP2"
RELEASE_ID = 0030
REVISION_ID = 0000
/* QUALITY DATA ELEMENTS */
DATA_QUALITY_ID = 1
DATA_QUALITY_DESC = "Data calculated based on original SPICE kernels"
/* TIME DATA ELEMENTS */
SPACECRAFT_CLOCK_START_COUNT = "1/0083099647.56192"
SPACECRAFT_CLOCK_STOP_COUNT = "1/0083099888.55287"
START_TIME = 2005-12-19T19:14:38.560Z
STOP_TIME = 2005-12-19T19:17:45.568Z
/* ORBITAL DATA ELEMENTS */
ASCENDING_NODE_LONGITUDE = 176.09
MAXIMUM_RESOLUTION = 10.9
FOOTPRINT_POINT_LATITUDE = (-78.0405,-78.1006,-78.1648,-78.247, -78.0315,-77.7929,-77.4348,-77.0764, -76.8367,-76.5974,-76.3576,-76.1178, -75.8778,-75.6377,-75.3977,-75.0374, -74.6764,-74.3153,-74.0745,-73.8337, -73.5929,-73.3524,-73.1112,-72.8701, -72.629,-72.388,-72.147,-71.906, -71.6649,-71.4239,-71.0518,-70.8012, -70.5506,-70.3001,-70.0496,-69.7991, -69.5487,-69.2984,-69.0482,-68.798, -68.5479,-68.2979,-68.0417,-67.7823, -67.523,-67.2638,-67.0048,-66.7459, -66.4871,-66.2284,-65.9699,-65.9297, -65.8732,-65.8266,-66.0837,-66.341, -66.5984,-66.8559,-67.1135,-67.4999, -67.7578,-68.142,-68.3904,-68.6388, -68.8873,-69.1358,-69.3843,-69.6329, -69.8815,-70.13,-70.3785,-70.6271, -70.8757,-71.2453,-71.4841,-71.7228, -71.9615,-72.3194,-72.558,-72.9157, -73.1542,-73.3924,-73.7495,-73.9874, -74.225,-74.4625,-74.6997,-74.937, -75.1739,-75.4105,-75.6467,-76.0007, -76.2363,-76.4719,-76.7064,-77.0584, -77.4092,-77.6424,-77.8753,-78.0405)
FOOTPRINT_POINT_LONGITUDE = (281.639,282.581,283.657,285.165, 285.859,286.125,286.509,286.875,287.1, 287.325,287.538,287.746,287.946,288.14, 288.33,288.603,288.856,289.097,289.253, 289.404,289.551,289.7,289.834,289.966, 290.096,290.222,290.346,290.464,290.58, 290.692,290.861,290.97,291.076,291.18, 291.28,291.378,291.473,291.566,291.657, 291.744,291.83,291.914,291.998,292.081, 292.161,292.24,292.317,292.392,292.465, 292.536,292.606,292.047,290.873,290.022 ,289.937,289.85,289.761,289.67,289.577, 289.426,289.328,289.175,289.071,288.964 ,288.854,288.741,288.625,288.506, 288.384,288.258,288.128,287.995,287.859 ,287.648,287.505,287.357,287.204, 286.966,286.806,286.553,286.381,286.202 ,285.922,285.727,285.524,285.315, 285.098,284.88,284.649,284.41,284.16, 283.774,283.502,283.229,282.929,282.477 ,281.994,281.654,281.302,281.639)
ORBIT_NUMBER = 2486
ORBITAL_ECCENTRICITY = 0.572
ORBITAL_INCLINATION = 86.62
ORBITAL_SEMIMAJOR_AXIS = 8529.96
PERIAPSIS_ALTITUDE = 276.31
PERIAPSIS_ARGUMENT_ANGLE = 281.35
PERIAPSIS_TIME = 2005-12-19T19:14:38.000Z
SPACECRAFT_ORIENTATION = (0.0,-1.0,0.0)
^MEX_ORIENTATION_DESC = "MEX_ORIENTATION_DESC.TXT"
SPACECRAFT_POINTING_MODE = NADIR
^MEX_POINTING_DESC = "MEX_POINTING_DESC.TXT"
RIGHT_ASCENSION = -1e+32
DECLINATION = -1e+32
OFFSET_ANGLE = -1e+32
SPACECRAFT_SOLAR_DISTANCE = 2.26698e+08
TARGET_NAME = MARS
/* CAMERA DATA ELEMENTS */
DETECTOR_TEMPERATURE = 18.1666
FOCAL_PLANE_TEMPERATURE = 7.5638
INST_CMPRS_NAME = "DISCRETE COSINE TRANSFORMATION (DCT)"
INST_CMPRS_RATIO = 7.8736
INST_CMPRS_QUALITY = 0
INST_CMPRS_QUANTZ_TBL_ID = 0
INSTRUMENT_TEMPERATURE = 11.6418
LENS_TEMPERATURE = 8.5833
MACROPIXEL_SIZE = 1
MISSING_FRAMES = 0
PIXEL_SUBSAMPLING_FLAG = N
SIGNAL_CHAIN_ID = 0
/* RADIOMETRIC DATA ELEMENTS */
BANDWIDTH = 177.0
CENTER_FILTER_WAVELENGTH = 677.5
RADIANCE_OFFSET = 1.60075
RADIANCE_SCALING_FACTOR = 0.0104624
REFLECTANCE_SCALING_FACTOR = 0.000285636
MEX:REFLECTANCE_OFFSET = 0.0437023
/* IMAGE OBJECT DEFINITIONS */
OBJECT = IMAGE
  INTERCHANGE_FORMAT = BINARY
  LINES = 58951
  LINE_SAMPLES = 14818
  SAMPLE_TYPE = UNSIGNED_INTEGER
  SAMPLE_BITS = 8
  BANDS = 1
  BAND_STORAGE_TYPE = BAND_SEQUENTIAL
  MAXIMUM = 255
  MEAN = 140.949
  MINIMUM = 1
  STANDARD_DEVIATION = 39.9181
END_OBJECT = IMAGE
/* MAP OBJECT DEFINITIONS */
OBJECT = IMAGE_MAP_PROJECTION
  ^DATA_SET_MAP_PROJECTION_CATALOG= "DSMAP.CAT"
  A_AXIS_RADIUS = 3396.0
  B_AXIS_RADIUS = 3396.0
  C_AXIS_RADIUS = 3396.0
  CENTER_LATITUDE = 0.0
  CENTER_LONGITUDE = 289.0
  COORDINATE_SYSTEM_NAME = PLANETOGRAPHIC
  COORDINATE_SYSTEM_TYPE = "BODY-FIXED ROTATING"
  EASTERNMOST_LONGITUDE = 292.606
  FIRST_STANDARD_PARALLEL = "N/A"
  LINE_FIRST_PIXEL = 1
  LINE_LAST_PIXEL = 58951
  LINE_PROJECTION_OFFSET = -312141.0
  MAP_PROJECTION_ROTATION = 0.0
  MAP_PROJECTION_TYPE = SINUSOIDAL
  MAP_RESOLUTION = 4741.71043093333
  MAP_SCALE = 0.0125
  MAXIMUM_LATITUDE = -65.8266
  MINIMUM_LATITUDE = -78.247
  POSITIVE_LONGITUDE_DIRECTION = EAST
  REFERENCE_LATITUDE = "N/A"
  REFERENCE_LONGITUDE = "N/A"
  SAMPLE_FIRST_PIXEL = 1
  SAMPLE_LAST_PIXEL = 14818
  SAMPLE_PROJECTION_OFFSET = 7827.0
  SECOND_STANDARD_PARALLEL = "N/A"
  WESTERNMOST_LONGITUDE = 281.302
END_OBJECT = IMAGE_MAP_PROJECTION
/* The JPEG2000 image data file associated with this label. */
OBJECT = COMPRESSED_FILE
  FILE_NAME = "H2486_0000_ND3.JP2"
  RECORD_TYPE = UNDEFINED
  FILE_RECORDS = UNK
  ENCODING_TYPE = "JP2"
  INTERCHANGE_FORMAT = BINARY
  UNCOMPRESSED_FILE_NAME = "H2486_0000_ND3.IMG"
  REQUIRED_STORAGE_BYTES = "873580372"
  ^DESCRIPTION = "JP2INFO.TXT"
END_OBJECT = COMPRESSED_FILE
END
