PDS_VERSION_ID = PDS3
/* FILE DATA ELEMENTS */
RECORD_TYPE = STREAM
/* POINTERS TO DATA OBJECTS */
^COMPRESSED_FILE = "H2486_0001_GR3.JP2"
/* IDENTIFICATION DATA ELEMENTS */
DATA_SET_ID = "MEX-M-HRSC-5-REFDR-MAPPROJECTED-V3.0"
DATA_SET_NAME = "MARS EXPRESS HRSC MAP PROJECTED REFDR V3.0"
DETECTOR_ID = MEX_HRSC_GREEN
EVENT_TYPE = "MARS-REGIONAL-MAPPING-Te-Fl"
INSTRUMENT_HOST_ID = MEX
INSTRUMENT_HOST_NAME = "MARS EXPRESS"
INSTRUMENT_ID = HRSC
INSTRUMENT_NAME = "HIGH RESOLUTION STEREO CAMERA"
MISSION_NAME = "MARS EXPRESS"
MISSION_PHASE_NAME = ME_Phase_1
PROCESSING_LEVEL_ID = 3
PRODUCT_CREATION_TIME = 2016-04-06T10:39:59.000Z
PRODUCT_ID = "H2486_0001_GR3.JP2"
RELEASE_ID = 0030
REVISION_ID = 0000
/* QUALITY DATA ELEMENTS */
DATA_QUALITY_ID = 1
DATA_QUALITY_DESC = "Data calculated based on original SPICE kernels"
/* TIME DATA ELEMENTS */
SPACECRAFT_CLOCK_START_COUNT = "1/0083100184.57979"
SPACECRAFT_CLOCK_STOP_COUNT = "1/0083100815.08508"
START_TIME = 2005-12-19T19:23:52.357Z
STOP_TIME = 2005-12-19T19:30:31.344Z
/* ORBITAL DATA ELEMENTS */
ASCENDING_NODE_LONGITUDE = 176.09
MAXIMUM_RESOLUTION = 85
FOOTPRINT_POINT_LATITUDE = (-42.4936,-42.5121,-42.3468,-41.8196, -41.1058,-40.5621,-40.0114,-39.4533, -38.6976,-38.3135,-37.9265,-37.5362, -37.1406,-36.7416,-36.3396,-35.9333, -35.5231,-35.1084,-34.6894,-34.2663, -33.8388,-33.407,-32.9705,-32.5294, -32.0839,-31.6335,-31.1783,-30.7186, -30.2527,-29.782,-29.3063,-28.8259, -28.34,-27.8558,-27.3741,-26.8947, -26.4178,-25.9432,-25.4711,-25.0013, -24.534,-24.069,-23.6065,-23.1464, -22.6885,-22.2332,-21.7803,-21.3294, -21.0814,-21.0912,-21.0991,-21.1084, -21.1169,-21.1205,-21.1238,-21.5694, -22.0176,-22.4681,-22.9211,-23.3764, -23.8343,-24.2946,-24.7573,-25.2225, -25.6901,-26.1602,-26.6325,-27.1074, -27.5849,-28.0649,-28.5475,-29.2692, -29.7425,-30.2111,-30.6741,-31.1312, -31.5845,-32.0327,-32.4766,-32.916, -33.3511,-33.7811,-34.207,-34.6287, -35.0463,-35.4593,-35.8682,-36.2734, -36.6747,-37.072,-37.4667,-37.8558, -38.2416,-39.0038,-39.7515,-40.4847, -41.027,-41.7386,-42.4387,-42.4936)
FOOTPRINT_POINT_LONGITUDE = (293.695,294.457,295.528,295.556, 295.593,295.621,295.647,295.673,295.705 ,295.723,295.739,295.756,295.772, 295.788,295.803,295.819,295.834,295.849 ,295.864,295.879,295.894,295.908, 295.923,295.937,295.951,295.965,295.978 ,295.991,296.005,296.018,296.031, 296.043,296.055,296.068,296.08,296.092, 296.103,296.114,296.125,296.135,296.145 ,296.155,296.165,296.174,296.183, 296.191,296.199,296.208,295.705,295.263 ,294.856,294.28,293.533,293.024,292.57, 292.596,292.621,292.645,292.669,292.692 ,292.716,292.738,292.76,292.781,292.801 ,292.822,292.841,292.859,292.877, 292.895,292.912,292.938,292.952,292.966 ,292.977,292.986,292.996,293.005, 293.015,293.023,293.031,293.037,293.043 ,293.048,293.053,293.057,293.06,293.062 ,293.065,293.065,293.066,293.065, 293.064,293.061,293.057,293.047,293.039 ,293.026,293.011,293.695)
ORBIT_NUMBER = 2486
ORBITAL_ECCENTRICITY = 0.572
ORBITAL_INCLINATION = 86.62
ORBITAL_SEMIMAJOR_AXIS = 8529.96
PERIAPSIS_ALTITUDE = 276.31
PERIAPSIS_ARGUMENT_ANGLE = 281.35
PERIAPSIS_TIME = 2005-12-19T19:14:38.000Z
SPACECRAFT_ORIENTATION = (0.0,-1.0,0.0)
^MEX_ORIENTATION_DESC = "MEX_ORIENTATION_DESC.TXT"
SPACECRAFT_POINTING_MODE = NADIR
^MEX_POINTING_DESC = "MEX_POINTING_DESC.TXT"
RIGHT_ASCENSION = -1e+32
DECLINATION = -1e+32
OFFSET_ANGLE = -1e+32
SPACECRAFT_SOLAR_DISTANCE = 2.26698e+08
TARGET_NAME = MARS
/* CAMERA DATA ELEMENTS */
DETECTOR_TEMPERATURE = 19.5939
FOCAL_PLANE_TEMPERATURE = 8.3794
INST_CMPRS_NAME = "DISCRETE COSINE TRANSFORMATION (DCT)"
INST_CMPRS_RATIO = 16.2086
INST_CMPRS_QUALITY = 0
INST_CMPRS_QUANTZ_TBL_ID = 0
INSTRUMENT_TEMPERATURE = 13.0691
LENS_TEMPERATURE = 8.7872
MACROPIXEL_SIZE = 4
MISSING_FRAMES = 0
PIXEL_SUBSAMPLING_FLAG = N
SIGNAL_CHAIN_ID = 2
/* RADIOMETRIC DATA ELEMENTS */
BANDWIDTH = 88.0
CENTER_FILTER_WAVELENGTH = 538.0
RADIANCE_OFFSET = 1.40973
RADIANCE_SCALING_FACTOR = 0.00470228
REFLECTANCE_SCALING_FACTOR = 0.000208064
MEX:REFLECTANCE_OFFSET = 0.0623772
/* IMAGE OBJECT DEFINITIONS */
OBJECT = IMAGE
  INTERCHANGE_FORMAT = BINARY
  LINES = 12729
  LINE_SAMPLES = 2118
  SAMPLE_TYPE = UNSIGNED_INTEGER
  SAMPLE_BITS = 8
  BANDS = 1
  BAND_STORAGE_TYPE = BAND_SEQUENTIAL
  MAXIMUM = 255
  MEAN = 130.74
  MINIMUM = 1
  STANDARD_DEVIATION = 32.4659
END_OBJECT = IMAGE
/* MAP OBJECT DEFINITIONS */
OBJECT = IMAGE_MAP_PROJECTION
  ^DATA_SET_MAP_PROJECTION_CATALOG= "DSMAP.CAT"
  A_AXIS_RADIUS = 3396.0
  B_AXIS_RADIUS = 3396.0
  C_AXIS_RADIUS = 3396.0
  CENTER_LATITUDE = 0.0
  CENTER_LONGITUDE = 294.0
  COORDINATE_SYSTEM_NAME = PLANETOGRAPHIC
  COORDINATE_SYSTEM_TYPE = "BODY-FIXED ROTATING"
  EASTERNMOST_LONGITUDE = 296.208
  FIRST_STANDARD_PARALLEL = "N/A"
  LINE_FIRST_PIXEL = 1
  LINE_LAST_PIXEL = 12729
  LINE_PROJECTION_OFFSET = -12481.125
  MAP_PROJECTION_ROTATION = 0.0
  MAP_PROJECTION_TYPE = SINUSOIDAL
  MAP_RESOLUTION = 592.713803866667
  MAP_SCALE = 0.1
  MAXIMUM_LATITUDE = -21.0814
  MINIMUM_LATITUDE = -42.5121
  POSITIVE_LONGITUDE_DIRECTION = EAST
  REFERENCE_LATITUDE = "N/A"
  REFERENCE_LONGITUDE = "N/A"
  SAMPLE_FIRST_PIXEL = 1
  SAMPLE_LAST_PIXEL = 2118
  SAMPLE_PROJECTION_OFFSET = 833.625
  SECOND_STANDARD_PARALLEL = "N/A"
  WESTERNMOST_LONGITUDE = 292.57
END_OBJECT = IMAGE_MAP_PROJECTION
/* The JPEG2000 image data file associated with this label. */
OBJECT = COMPRESSED_FILE
  FILE_NAME = "H2486_0001_GR3.JP2"
  RECORD_TYPE = UNDEFINED
  FILE_RECORDS = UNK
  ENCODING_TYPE = "JP2"
  INTERCHANGE_FORMAT = BINARY
  UNCOMPRESSED_FILE_NAME = "H2486_0001_GR3.IMG"
  REQUIRED_STORAGE_BYTES = "26981202"
  ^DESCRIPTION = "JP2INFO.TXT"
END_OBJECT = COMPRESSED_FILE
END
