PDS_VERSION_ID = PDS3
/* FILE DATA ELEMENTS */
RECORD_TYPE = STREAM
/* POINTERS TO DATA OBJECTS */
^COMPRESSED_FILE = "H2486_0001_IR3.JP2"
/* IDENTIFICATION DATA ELEMENTS */
DATA_SET_ID = "MEX-M-HRSC-5-REFDR-MAPPROJECTED-V3.0"
DATA_SET_NAME = "MARS EXPRESS HRSC MAP PROJECTED REFDR V3.0"
DETECTOR_ID = MEX_HRSC_IR
EVENT_TYPE = "MARS-REGIONAL-MAPPING-Te-Fl"
INSTRUMENT_HOST_ID = MEX
INSTRUMENT_HOST_NAME = "MARS EXPRESS"
INSTRUMENT_ID = HRSC
INSTRUMENT_NAME = "HIGH RESOLUTION STEREO CAMERA"
MISSION_NAME = "MARS EXPRESS"
MISSION_PHASE_NAME = ME_Phase_1
PROCESSING_LEVEL_ID = 3
PRODUCT_CREATION_TIME = 2016-04-06T10:39:59.000Z
PRODUCT_ID = "H2486_0001_IR3.JP2"
RELEASE_ID = 0030
REVISION_ID = 0000
/* QUALITY DATA ELEMENTS */
DATA_QUALITY_ID = 1
DATA_QUALITY_DESC = "Data calculated based on original SPICE kernels"
/* TIME DATA ELEMENTS */
SPACECRAFT_CLOCK_START_COUNT = "1/0083100184.57979"
SPACECRAFT_CLOCK_STOP_COUNT = "1/0083100815.08508"
START_TIME = 2005-12-19T19:23:19.524Z
STOP_TIME = 2005-12-19T19:29:21.441Z
/* ORBITAL DATA ELEMENTS */
ASCENDING_NODE_LONGITUDE = 176.09
MAXIMUM_RESOLUTION = 84
FOOTPRINT_POINT_LATITUDE = (-42.5283,-42.5456,-42.5645,-42.5444, -41.6904,-40.9951,-40.2883,-39.9317, -39.5699,-39.2071,-38.841,-38.4699, -38.0947,-37.716,-37.3356,-36.9507, -36.5616,-36.1706,-35.7742,-35.3733, -34.9689,-34.5612,-34.1484,-33.731, -33.3099,-32.8843,-32.4547,-32.0207, -31.5813,-31.1386,-30.6914,-30.238, -29.7786,-29.3159,-28.8486,-28.3741, -27.8934,-27.1623,-26.6697,-26.1708, -25.4097,-24.901,-24.3945,-23.8903, -23.388,-22.8873,-22.3882,-21.8921, -21.1507,-21.0896,-21.0975,-21.1027, -21.1067,-21.1067,-21.1045,-21.594, -22.0858,-22.5801,-23.3252,-23.8249, -24.3267,-24.8297,-25.3354,-26.0926, -26.5902,-27.0817,-27.5683,-28.0499, -28.5266,-29.0005,-29.4708,-29.9286, -30.6071,-31.0471,-31.489,-31.9272, -32.3596,-33.0019,-33.4253,-33.8414, -34.255,-34.6656,-35.0719,-35.4729, -35.8706,-36.2655,-36.6557,-37.0427, -37.4258,-37.803,-38.3642,-38.7344, -39.0997,-39.6498,-40.0103,-40.3637, -40.8902,-41.5827,-42.2627,-42.5283)
FOOTPRINT_POINT_LONGITUDE = (293.423,293.972,294.762,295.465, 295.509,295.544,295.577,295.593,295.609 ,295.624,295.639,295.654,295.67,295.685 ,295.699,295.714,295.728,295.742, 295.756,295.769,295.783,295.796,295.809 ,295.822,295.835,295.848,295.86,295.872 ,295.884,295.895,295.906,295.918, 295.929,295.94,295.95,295.96,295.971, 295.987,295.996,296.006,296.02,296.029, 296.038,296.046,296.053,296.061,296.068 ,296.075,296.085,295.308,294.841, 294.436,293.782,293.346,292.743,292.768 ,292.791,292.815,292.848,292.87,292.892 ,292.912,292.932,292.96,292.977,292.994 ,293.009,293.024,293.039,293.053, 293.067,293.078,293.092,293.098,293.106 ,293.114,293.121,293.13,293.136,293.14, 293.144,293.147,293.15,293.152,293.153, 293.154,293.155,293.155,293.154,293.152 ,293.148,293.145,293.141,293.137, 293.133,293.126,293.117,293.103,293.087 ,293.423)
ORBIT_NUMBER = 2486
ORBITAL_ECCENTRICITY = 0.572
ORBITAL_INCLINATION = 86.62
ORBITAL_SEMIMAJOR_AXIS = 8529.96
PERIAPSIS_ALTITUDE = 276.31
PERIAPSIS_ARGUMENT_ANGLE = 281.35
PERIAPSIS_TIME = 2005-12-19T19:14:38.000Z
SPACECRAFT_ORIENTATION = (0.0,-1.0,0.0)
^MEX_ORIENTATION_DESC = "MEX_ORIENTATION_DESC.TXT"
SPACECRAFT_POINTING_MODE = NADIR
^MEX_POINTING_DESC = "MEX_POINTING_DESC.TXT"
RIGHT_ASCENSION = -1e+32
DECLINATION = -1e+32
OFFSET_ANGLE = -1e+32
SPACECRAFT_SOLAR_DISTANCE = 2.26698e+08
TARGET_NAME = MARS
/* CAMERA DATA ELEMENTS */
DETECTOR_TEMPERATURE = 18.5744
FOCAL_PLANE_TEMPERATURE = 8.3794
INST_CMPRS_NAME = "DISCRETE COSINE TRANSFORMATION (DCT)"
INST_CMPRS_RATIO = 20.4356
INST_CMPRS_QUALITY = 0
INST_CMPRS_QUANTZ_TBL_ID = 0
INSTRUMENT_TEMPERATURE = 13.0691
LENS_TEMPERATURE = 8.7872
MACROPIXEL_SIZE = 4
MISSING_FRAMES = 0
PIXEL_SUBSAMPLING_FLAG = N
SIGNAL_CHAIN_ID = 2
/* RADIOMETRIC DATA ELEMENTS */
BANDWIDTH = 81.0
CENTER_FILTER_WAVELENGTH = 955.5
RADIANCE_OFFSET = 0.808282
RADIANCE_SCALING_FACTOR = 0.00382554
REFLECTANCE_SCALING_FACTOR = 0.000424151
MEX:REFLECTANCE_OFFSET = 0.089617
/* IMAGE OBJECT DEFINITIONS */
OBJECT = IMAGE
  INTERCHANGE_FORMAT = BINARY
  LINES = 12729
  LINE_SAMPLES = 2118
  SAMPLE_TYPE = UNSIGNED_INTEGER
  SAMPLE_BITS = 8
  BANDS = 1
  BAND_STORAGE_TYPE = BAND_SEQUENTIAL
  MAXIMUM = 255
  MEAN = 102.89
  MINIMUM = 1
  STANDARD_DEVIATION = 31.6065
END_OBJECT = IMAGE
/* MAP OBJECT DEFINITIONS */
OBJECT = IMAGE_MAP_PROJECTION
  ^DATA_SET_MAP_PROJECTION_CATALOG= "DSMAP.CAT"
  A_AXIS_RADIUS = 3396.0
  B_AXIS_RADIUS = 3396.0
  C_AXIS_RADIUS = 3396.0
  CENTER_LATITUDE = 0.0
  CENTER_LONGITUDE = 294.0
  COORDINATE_SYSTEM_NAME = PLANETOGRAPHIC
  COORDINATE_SYSTEM_TYPE = "BODY-FIXED ROTATING"
  EASTERNMOST_LONGITUDE = 296.085
  FIRST_STANDARD_PARALLEL = "N/A"
  LINE_FIRST_PIXEL = 1
  LINE_LAST_PIXEL = 12729
  LINE_PROJECTION_OFFSET = -12481.125
  MAP_PROJECTION_ROTATION = 0.0
  MAP_PROJECTION_TYPE = SINUSOIDAL
  MAP_RESOLUTION = 592.713803866667
  MAP_SCALE = 0.1
  MAXIMUM_LATITUDE = -21.0896
  MINIMUM_LATITUDE = -42.5645
  POSITIVE_LONGITUDE_DIRECTION = EAST
  REFERENCE_LATITUDE = "N/A"
  REFERENCE_LONGITUDE = "N/A"
  SAMPLE_FIRST_PIXEL = 1
  SAMPLE_LAST_PIXEL = 2118
  SAMPLE_PROJECTION_OFFSET = 833.625
  SECOND_STANDARD_PARALLEL = "N/A"
  WESTERNMOST_LONGITUDE = 292.743
END_OBJECT = IMAGE_MAP_PROJECTION
/* The JPEG2000 image data file associated with this label. */
OBJECT = COMPRESSED_FILE
  FILE_NAME = "H2486_0001_IR3.JP2"
  RECORD_TYPE = UNDEFINED
  FILE_RECORDS = UNK
  ENCODING_TYPE = "JP2"
  INTERCHANGE_FORMAT = BINARY
  UNCOMPRESSED_FILE_NAME = "H2486_0001_IR3.IMG"
  REQUIRED_STORAGE_BYTES = "26981202"
  ^DESCRIPTION = "JP2INFO.TXT"
END_OBJECT = COMPRESSED_FILE
END
