PDS_VERSION_ID = PDS3
/* FILE DATA ELEMENTS */
RECORD_TYPE = STREAM
/* POINTERS TO DATA OBJECTS */
^COMPRESSED_FILE = "H2487_0009_ND3.JP2"
/* IDENTIFICATION DATA ELEMENTS */
DATA_SET_ID = "MEX-M-HRSC-5-REFDR-MAPPROJECTED-V3.0"
DATA_SET_NAME = "MARS EXPRESS HRSC MAP PROJECTED REFDR V3.0"
DETECTOR_ID = MEX_HRSC_NADIR
EVENT_TYPE = "MARS-REGIONAL-MAPPING-Im-Gl"
INSTRUMENT_HOST_ID = MEX
INSTRUMENT_HOST_NAME = "MARS EXPRESS"
INSTRUMENT_ID = HRSC
INSTRUMENT_NAME = "HIGH RESOLUTION STEREO CAMERA"
MISSION_NAME = "MARS EXPRESS"
MISSION_PHASE_NAME = ME_Phase_1
PROCESSING_LEVEL_ID = 3
PRODUCT_CREATION_TIME = 2016-04-06T10:39:59.000Z
PRODUCT_ID = "H2487_0009_ND3.JP2"
RELEASE_ID = 0030
REVISION_ID = 0000
/* QUALITY DATA ELEMENTS */
DATA_QUALITY_ID = 1
DATA_QUALITY_DESC = "Data calculated based on original SPICE kernels"
/* TIME DATA ELEMENTS */
SPACECRAFT_CLOCK_START_COUNT = "1/0083123845.57290"
SPACECRAFT_CLOCK_STOP_COUNT = "1/0083124165.57773"
START_TIME = 2005-12-20T01:57:56.714Z
STOP_TIME = 2005-12-20T02:02:17.702Z
/* ORBITAL DATA ELEMENTS */
ASCENDING_NODE_LONGITUDE = 176.06
MAXIMUM_RESOLUTION = 10.9
FOOTPRINT_POINT_LATITUDE = (-76.9681,-76.965,-76.6496,-76.3337, -76.0174,-75.7007,-75.3836,-75.0664, -74.7487,-74.4309,-74.1128,-73.7946, -73.4761,-73.1575,-72.8388,-72.5201, -72.2012,-71.8823,-71.3854,-71.0537, -70.7219,-70.3901,-70.0584,-69.7267, -69.3952,-69.0637,-68.7323,-68.3939, -68.05,-67.706,-67.3625,-67.0191, -66.6759,-66.333,-65.8051,-65.4501, -65.0953,-64.7406,-64.3865,-64.0253, -63.6591,-63.2933,-62.9279,-62.5629, -62.1875,-61.8107,-61.4345,-61.0587, -60.6735,-60.2863,-60.0428,-60.0081, -60.153,-60.5387,-60.9227,-61.297, -61.6717,-62.0468,-62.421,-62.7844, -63.1482,-63.5124,-63.8768,-64.2367, -64.5885,-64.9412,-65.2942,-65.6472, -66.1726,-66.5134,-66.8544,-67.1957, -67.5368,-67.8783,-68.2195,-68.5559, -68.8851,-69.2136,-69.5424,-69.8711, -70.1998,-70.5285,-70.8571,-71.1856, -71.6777,-72.3086,-72.9381,-73.253, -73.5674,-73.8814,-74.1948,-74.5078, -74.8205,-75.1325,-75.4438,-75.7547, -76.0648,-76.3744,-76.8373,-76.9681)
FOOTPRINT_POINT_LONGITUDE = (183.935,186.537,186.89,187.225,187.546 ,187.852,188.144,188.423,188.691, 188.947,189.193,189.429,189.655,189.873 ,190.082,190.283,190.477,190.664, 190.941,191.118,191.288,191.452,191.61, 191.763,191.911,192.054,192.192,192.328 ,192.462,192.591,192.717,192.838, 192.955,193.069,193.237,193.346,193.451 ,193.553,193.652,193.75,193.846,193.939 ,194.03,194.117,194.205,194.291,194.373 ,194.454,194.533,194.612,193.789, 193.105,192.213,192.126,192.037,191.948 ,191.855,191.759,191.66,191.561,191.458 ,191.353,191.244,191.134,191.007, 190.891,190.769,190.64,190.445,190.309, 190.169,190.028,189.875,189.723,189.558 ,189.396,189.236,189.058,188.878,188.69 ,188.496,188.297,188.09,187.876,187.537 ,187.075,186.566,186.306,186.031, 185.745,185.442,185.126,184.799,184.455 ,184.092,183.715,183.319,182.907, 182.251,183.935)
ORBIT_NUMBER = 2487
ORBITAL_ECCENTRICITY = 0.572
ORBITAL_INCLINATION = 86.62
ORBITAL_SEMIMAJOR_AXIS = 8530.15
PERIAPSIS_ALTITUDE = 276.08
PERIAPSIS_ARGUMENT_ANGLE = 281.17
PERIAPSIS_TIME = 2005-12-20T01:57:38.000Z
SPACECRAFT_ORIENTATION = (0.0,-1.0,0.0)
^MEX_ORIENTATION_DESC = "MEX_ORIENTATION_DESC.TXT"
SPACECRAFT_POINTING_MODE = ACROSSTRACK
^MEX_POINTING_DESC = "MEX_POINTING_DESC.TXT"
RIGHT_ASCENSION = -1e+32
DECLINATION = -1e+32
OFFSET_ANGLE = 0.458
SPACECRAFT_SOLAR_DISTANCE = 2.26753e+08
TARGET_NAME = MARS
/* CAMERA DATA ELEMENTS */
DETECTOR_TEMPERATURE = 18.7783
FOCAL_PLANE_TEMPERATURE = 8.9911
INST_CMPRS_NAME = "DISCRETE COSINE TRANSFORMATION (DCT)"
INST_CMPRS_RATIO = 6.83763
INST_CMPRS_QUALITY = 0
INST_CMPRS_QUANTZ_TBL_ID = 0
INSTRUMENT_TEMPERATURE = 13.0691
LENS_TEMPERATURE = 9.8067
MACROPIXEL_SIZE = 1
MISSING_FRAMES = 0
PIXEL_SUBSAMPLING_FLAG = N
SIGNAL_CHAIN_ID = 0
/* RADIOMETRIC DATA ELEMENTS */
BANDWIDTH = 177.0
CENTER_FILTER_WAVELENGTH = 677.5
RADIANCE_OFFSET = 1.69873
RADIANCE_SCALING_FACTOR = 0.0121478
REFLECTANCE_SCALING_FACTOR = 0.000331809
MEX:REFLECTANCE_OFFSET = 0.0463998
/* IMAGE OBJECT DEFINITIONS */
OBJECT = IMAGE
  INTERCHANGE_FORMAT = BINARY
  LINES = 81366
  LINE_SAMPLES = 17856
  SAMPLE_TYPE = UNSIGNED_INTEGER
  SAMPLE_BITS = 8
  BANDS = 1
  BAND_STORAGE_TYPE = BAND_SEQUENTIAL
  MAXIMUM = 255
  MEAN = 130.388
  MINIMUM = 1
  STANDARD_DEVIATION = 36.558
END_OBJECT = IMAGE
/* MAP OBJECT DEFINITIONS */
OBJECT = IMAGE_MAP_PROJECTION
  ^DATA_SET_MAP_PROJECTION_CATALOG= "DSMAP.CAT"
  A_AXIS_RADIUS = 3396.0
  B_AXIS_RADIUS = 3396.0
  C_AXIS_RADIUS = 3396.0
  CENTER_LATITUDE = 0.0
  CENTER_LONGITUDE = 191.0
  COORDINATE_SYSTEM_NAME = PLANETOGRAPHIC
  COORDINATE_SYSTEM_TYPE = "BODY-FIXED ROTATING"
  EASTERNMOST_LONGITUDE = 194.612
  FIRST_STANDARD_PARALLEL = "N/A"
  LINE_FIRST_PIXEL = 1
  LINE_LAST_PIXEL = 81366
  LINE_PROJECTION_OFFSET = -284323.0
  MAP_PROJECTION_ROTATION = 0.0
  MAP_PROJECTION_TYPE = SINUSOIDAL
  MAP_RESOLUTION = 4741.71043093333
  MAP_SCALE = 0.0125
  MAXIMUM_LATITUDE = -60.0081
  MINIMUM_LATITUDE = -76.96810000000001
  POSITIVE_LONGITUDE_DIRECTION = EAST
  REFERENCE_LATITUDE = "N/A"
  REFERENCE_LONGITUDE = "N/A"
  SAMPLE_FIRST_PIXEL = 1
  SAMPLE_LAST_PIXEL = 17856
  SAMPLE_PROJECTION_OFFSET = 9237.0
  SECOND_STANDARD_PARALLEL = "N/A"
  WESTERNMOST_LONGITUDE = 182.251
END_OBJECT = IMAGE_MAP_PROJECTION
/* The JPEG2000 image data file associated with this label. */
OBJECT = COMPRESSED_FILE
  FILE_NAME = "H2487_0009_ND3.JP2"
  RECORD_TYPE = UNDEFINED
  FILE_RECORDS = UNK
  ENCODING_TYPE = "JP2"
  INTERCHANGE_FORMAT = BINARY
  UNCOMPRESSED_FILE_NAME = "H2487_0009_ND3.IMG"
  REQUIRED_STORAGE_BYTES = "1452924864"
  ^DESCRIPTION = "JP2INFO.TXT"
END_OBJECT = COMPRESSED_FILE
END
