PDS_VERSION_ID = PDS3
/* FILE DATA ELEMENTS */
RECORD_TYPE = STREAM
/* POINTERS TO DATA OBJECTS */
^COMPRESSED_FILE = "H2490_0000_IR3.JP2"
/* IDENTIFICATION DATA ELEMENTS */
DATA_SET_ID = "MEX-M-HRSC-5-REFDR-MAPPROJECTED-V3.0"
DATA_SET_NAME = "MARS EXPRESS HRSC MAP PROJECTED REFDR V3.0"
DETECTOR_ID = MEX_HRSC_IR
EVENT_TYPE = "MARS-REGIONAL-STEREO-Gl-Eo-La"
INSTRUMENT_HOST_ID = MEX
INSTRUMENT_HOST_NAME = "MARS EXPRESS"
INSTRUMENT_ID = HRSC
INSTRUMENT_NAME = "HIGH RESOLUTION STEREO CAMERA"
MISSION_NAME = "MARS EXPRESS"
MISSION_PHASE_NAME = ME_Phase_1
PROCESSING_LEVEL_ID = 3
PRODUCT_CREATION_TIME = 2016-04-06T10:39:59.000Z
PRODUCT_ID = "H2490_0000_IR3.JP2"
RELEASE_ID = 0030
REVISION_ID = 0000
/* QUALITY DATA ELEMENTS */
DATA_QUALITY_ID = 1
DATA_QUALITY_DESC = "Data calculated based on original SPICE kernels"
/* TIME DATA ELEMENTS */
SPACECRAFT_CLOCK_START_COUNT = "1/0083196204.57967"
SPACECRAFT_CLOCK_STOP_COUNT = "1/0083196547.16135"
START_TIME = 2005-12-20T22:03:36.655Z
STOP_TIME = 2005-12-20T22:08:25.789Z
/* ORBITAL DATA ELEMENTS */
ASCENDING_NODE_LONGITUDE = 176.0
MAXIMUM_RESOLUTION = 90.9
FOOTPRINT_POINT_LATITUDE = (-85.9655,-86.1704,-86.4025,-86.6978, -86.9877,-87.0321,-87.0228,-86.9612, -86.8507,-86.6965,-86.5039,-86.1564, -85.9024,-85.4857,-85.1891,-84.8803, -84.3983,-84.0671,-83.7309,-83.3986, -83.0643,-82.7247,-82.2089,-81.8611, -81.5095,-81.1573,-80.8024,-80.4455, -79.9061,-79.5453,-79.183,-78.8193, -78.4546,-78.0887,-77.7219,-77.3538, -76.8006,-76.4306,-76.0598,-75.5027, -74.9449,-74.571,-74.1974,-73.8232, -73.2616,-72.8863,-72.5103,-72.1346, -71.5711,-71.1944,-71.0346,-70.9778, -70.9301,-71.0756,-71.4446,-71.8218, -72.194,-72.5653,-72.9374,-73.4944, -74.0455,-74.414,-74.9656,-75.5149, -75.8804,-76.2443,-76.607,-77.1491, -77.5093,-77.8675,-78.2243,-78.7563, -79.1084,-79.6331,-79.9799,-80.3239, -80.6658,-81.0043,-81.3396,-81.6705, -81.9968,-82.3197,-82.6362,-82.9465, -83.4047,-83.7071,-83.9984,-84.2819, -84.5511,-84.8039,-85.0392,-85.2545, -85.451,-85.6234,-85.7655,-85.8743, -85.948,-85.9831,-85.9781,-85.9655)
FOOTPRINT_POINT_LONGITUDE = (168.451,167.929,167.267,166.296, 166.678,174.396,182.162,189.613,196.591 ,203.022,208.844,216.351,220.472,225.76 ,228.765,231.415,234.838,236.805, 238.555,240.092,241.462,242.714,244.386 ,245.383,246.305,247.145,247.923, 248.643,249.631,250.23,250.789,251.313, 251.803,252.262,252.694,253.102,253.669 ,254.022,254.356,254.823,255.254, 255.527,255.784,256.03,256.377,256.596, 256.805,257.005,257.288,257.467,257.035 ,256.01,255.236,254.473,254.244,254.01, 253.763,253.503,253.232,252.801,252.335 ,252.006,251.481,250.913,250.509, 250.082,249.631,248.905,248.385,247.834 ,247.247,246.296,245.61,244.491,243.68, 242.809,241.874,240.868,239.782,238.609 ,237.339,235.961,234.464,232.833, 230.066,227.945,225.619,223.047,220.22, 217.117,213.711,209.986,205.844,201.284 ,196.389,191.202,185.772,180.222, 174.533,168.451)
ORBIT_NUMBER = 2490
ORBITAL_ECCENTRICITY = 0.572
ORBITAL_INCLINATION = 86.62
ORBITAL_SEMIMAJOR_AXIS = 8529.4
PERIAPSIS_ALTITUDE = 275.69
PERIAPSIS_ARGUMENT_ANGLE = 280.63
PERIAPSIS_TIME = 2005-12-20T22:06:46.000Z
SPACECRAFT_ORIENTATION = (0.0,-1.0,0.0)
^MEX_ORIENTATION_DESC = "MEX_ORIENTATION_DESC.TXT"
SPACECRAFT_POINTING_MODE = ACROSSTRACK
^MEX_POINTING_DESC = "MEX_POINTING_DESC.TXT"
RIGHT_ASCENSION = -1e+32
DECLINATION = -1e+32
OFFSET_ANGLE = 0.1
SPACECRAFT_SOLAR_DISTANCE = 2.26917e+08
TARGET_NAME = MARS
/* CAMERA DATA ELEMENTS */
DETECTOR_TEMPERATURE = 18.1666
FOCAL_PLANE_TEMPERATURE = 8.5833
INST_CMPRS_NAME = "DISCRETE COSINE TRANSFORMATION (DCT)"
INST_CMPRS_RATIO = 38.4064
INST_CMPRS_QUALITY = 0
INST_CMPRS_QUANTZ_TBL_ID = 0
INSTRUMENT_TEMPERATURE = 10.8262
LENS_TEMPERATURE = 8.5833
MACROPIXEL_SIZE = 8
MISSING_FRAMES = 0
PIXEL_SUBSAMPLING_FLAG = N
SIGNAL_CHAIN_ID = 2
/* RADIOMETRIC DATA ELEMENTS */
BANDWIDTH = 81.0
CENTER_FILTER_WAVELENGTH = 955.5
RADIANCE_OFFSET = 0.153757
RADIANCE_SCALING_FACTOR = 0.00367262
REFLECTANCE_SCALING_FACTOR = 0.00040798
MEX:REFLECTANCE_OFFSET = 0.0170804
/* IMAGE OBJECT DEFINITIONS */
OBJECT = IMAGE
  INTERCHANGE_FORMAT = BINARY
  LINES = 9565
  LINE_SAMPLES = 5397
  SAMPLE_TYPE = UNSIGNED_INTEGER
  SAMPLE_BITS = 8
  BANDS = 1
  BAND_STORAGE_TYPE = BAND_SEQUENTIAL
  MAXIMUM = 255
  MEAN = 106.479
  MINIMUM = 1
  STANDARD_DEVIATION = 54.292
END_OBJECT = IMAGE
/* MAP OBJECT DEFINITIONS */
OBJECT = IMAGE_MAP_PROJECTION
  ^DATA_SET_MAP_PROJECTION_CATALOG= "DSMAP.CAT"
  A_AXIS_RADIUS = 3396.0
  B_AXIS_RADIUS = 3396.0
  C_AXIS_RADIUS = 3396.0
  CENTER_LATITUDE = 0.0
  CENTER_LONGITUDE = 246.0
  COORDINATE_SYSTEM_NAME = PLANETOGRAPHIC
  COORDINATE_SYSTEM_TYPE = "BODY-FIXED ROTATING"
  EASTERNMOST_LONGITUDE = 257.467
  FIRST_STANDARD_PARALLEL = "N/A"
  LINE_FIRST_PIXEL = 1
  LINE_LAST_PIXEL = 9565
  LINE_PROJECTION_OFFSET = -42018.5625
  MAP_PROJECTION_ROTATION = 0.0
  MAP_PROJECTION_TYPE = SINUSOIDAL
  MAP_RESOLUTION = 592.713803866667
  MAP_SCALE = 0.1
  MAXIMUM_LATITUDE = -70.9301
  MINIMUM_LATITUDE = -87.0321
  POSITIVE_LONGITUDE_DIRECTION = EAST
  REFERENCE_LATITUDE = "N/A"
  REFERENCE_LONGITUDE = "N/A"
  SAMPLE_FIRST_PIXEL = 1
  SAMPLE_LAST_PIXEL = 5397
  SAMPLE_PROJECTION_OFFSET = 3175.4375
  SECOND_STANDARD_PARALLEL = "N/A"
  WESTERNMOST_LONGITUDE = 166.296
END_OBJECT = IMAGE_MAP_PROJECTION
/* The JPEG2000 image data file associated with this label. */
OBJECT = COMPRESSED_FILE
  FILE_NAME = "H2490_0000_IR3.JP2"
  RECORD_TYPE = UNDEFINED
  FILE_RECORDS = UNK
  ENCODING_TYPE = "JP2"
  INTERCHANGE_FORMAT = BINARY
  UNCOMPRESSED_FILE_NAME = "H2490_0000_IR3.IMG"
  REQUIRED_STORAGE_BYTES = "51649290"
  ^DESCRIPTION = "JP2INFO.TXT"
END_OBJECT = COMPRESSED_FILE
END
