PDS_VERSION_ID = PDS3
/* FILE DATA ELEMENTS */
RECORD_TYPE = STREAM
/* POINTERS TO DATA OBJECTS */
^COMPRESSED_FILE = "H2491_0000_GR3.JP2"
/* IDENTIFICATION DATA ELEMENTS */
DATA_SET_ID = "MEX-M-HRSC-5-REFDR-MAPPROJECTED-V3.0"
DATA_SET_NAME = "MARS EXPRESS HRSC MAP PROJECTED REFDR V3.0"
DETECTOR_ID = MEX_HRSC_GREEN
EVENT_TYPE = "MARS-REGIONAL-STEREO-Gl-Pf-La"
INSTRUMENT_HOST_ID = MEX
INSTRUMENT_HOST_NAME = "MARS EXPRESS"
INSTRUMENT_ID = HRSC
INSTRUMENT_NAME = "HIGH RESOLUTION STEREO CAMERA"
MISSION_NAME = "MARS EXPRESS"
MISSION_PHASE_NAME = ME_Phase_1
PROCESSING_LEVEL_ID = 3
PRODUCT_CREATION_TIME = 2016-04-06T10:39:59.000Z
PRODUCT_ID = "H2491_0000_GR3.JP2"
RELEASE_ID = 0030
REVISION_ID = 0000
/* QUALITY DATA ELEMENTS */
DATA_QUALITY_ID = 1
DATA_QUALITY_DESC = "Data calculated based on original SPICE kernels"
/* TIME DATA ELEMENTS */
SPACECRAFT_CLOCK_START_COUNT = "1/0083220508.57955"
SPACECRAFT_CLOCK_STOP_COUNT = "1/0083220879.32247"
START_TIME = 2005-12-21T04:48:56.074Z
STOP_TIME = 2005-12-21T04:54:07.259Z
/* ORBITAL DATA ELEMENTS */
ASCENDING_NODE_LONGITUDE = 175.98
MAXIMUM_RESOLUTION = 87.1
FOOTPRINT_POINT_LATITUDE = (-81.6299,-81.8169,-81.9368,-82.0263, -81.6631,-81.2962,-80.7428,-80.3711, -79.9973,-79.6218,-79.2447,-78.8661, -78.4856,-77.915,-77.5328,-77.1499, -76.5741,-76.1894,-75.6111,-75.0318, -74.4519,-73.8708,-73.2893,-72.9011, -72.5132,-71.9111,-71.5072,-71.1035, -70.6985,-70.2952,-69.8918,-69.2865, -68.8735,-68.4536,-68.0354,-67.6167, -67.1982,-66.7797,-66.3486,-65.9154, -65.2662,-64.8334,-64.3892,-63.9423, -63.4959,-63.0499,-62.5909,-62.3607, -62.1307,-61.7286,-61.6929,-61.6413, -61.8494,-62.3065,-62.9902,-63.4341, -64.1009,-64.5451,-64.9782,-65.4083, -65.8388,-66.2699,-66.6959,-67.3204, -67.7363,-68.1523,-68.5691,-68.9827, -69.3851,-69.9859,-70.3858,-70.786, -71.186,-71.586,-71.9864,-72.3794, -72.7629,-73.1467,-73.53,-74.1034, -74.6761,-75.0565,-75.4362,-75.8152, -76.1932,-76.57,-76.9456,-77.3196, -77.6909,-78.0631,-78.4332,-78.8027, -79.1685,-79.5321,-79.8929,-80.2508, -80.6037,-80.9561,-81.3053,-81.6299)
FOOTPRINT_POINT_LONGITUDE = (139.174,141.579,143.293,144.948, 146.027,147.022,148.352,149.154,149.897 ,150.586,151.227,151.825,152.386, 153.151,153.624,154.068,154.686,155.069 ,155.604,156.097,156.551,156.973, 157.364,157.61,157.844,158.187,158.404, 158.61,158.81,158.997,159.177,159.433, 159.6,159.764,159.917,160.066,160.21, 160.348,160.484,160.616,160.804,160.925 ,161.043,161.158,161.268,161.374, 161.479,161.531,161.581,161.306,160.583 ,159.631,159.198,159.079,158.898, 158.774,158.579,158.438,158.304,158.159 ,158.008,157.852,157.689,157.442, 157.264,157.079,156.89,156.682,156.487, 156.164,155.933,155.693,155.443,155.181 ,154.91,154.629,154.337,154.034,153.717 ,153.205,152.655,152.261,151.845, 151.406,150.941,150.448,149.924,149.366 ,148.764,148.14,147.47,146.764,145.997, 145.175,144.292,143.34,142.304,141.205, 140.021,139.174)
ORBIT_NUMBER = 2491
ORBITAL_ECCENTRICITY = 0.572
ORBITAL_INCLINATION = 86.62
ORBITAL_SEMIMAJOR_AXIS = 8530.68
PERIAPSIS_ALTITUDE = 276.8
PERIAPSIS_ARGUMENT_ANGLE = 280.47
PERIAPSIS_TIME = 2005-12-21T04:49:47.000Z
SPACECRAFT_ORIENTATION = (0.0,-1.0,0.0)
^MEX_ORIENTATION_DESC = "MEX_ORIENTATION_DESC.TXT"
SPACECRAFT_POINTING_MODE = ACROSSTRACK
^MEX_POINTING_DESC = "MEX_POINTING_DESC.TXT"
RIGHT_ASCENSION = -1e+32
DECLINATION = -1e+32
OFFSET_ANGLE = 0.3
SPACECRAFT_SOLAR_DISTANCE = 2.26972e+08
TARGET_NAME = MARS
/* CAMERA DATA ELEMENTS */
DETECTOR_TEMPERATURE = 18.3705
FOCAL_PLANE_TEMPERATURE = 7.7677
INST_CMPRS_NAME = "DISCRETE COSINE TRANSFORMATION (DCT)"
INST_CMPRS_RATIO = 28.3665
INST_CMPRS_QUALITY = 0
INST_CMPRS_QUANTZ_TBL_ID = 0
INSTRUMENT_TEMPERATURE = 11.6418
LENS_TEMPERATURE = 8.7872
MACROPIXEL_SIZE = 8
MISSING_FRAMES = 0
PIXEL_SUBSAMPLING_FLAG = N
SIGNAL_CHAIN_ID = 2
/* RADIOMETRIC DATA ELEMENTS */
BANDWIDTH = 88.0
CENTER_FILTER_WAVELENGTH = 538.0
RADIANCE_OFFSET = 0.749141
RADIANCE_SCALING_FACTOR = 0.00461656
REFLECTANCE_SCALING_FACTOR = 0.000204763
MEX:REFLECTANCE_OFFSET = 0.0332274
/* IMAGE OBJECT DEFINITIONS */
OBJECT = IMAGE
  INTERCHANGE_FORMAT = BINARY
  LINES = 12087
  LINE_SAMPLES = 3065
  SAMPLE_TYPE = UNSIGNED_INTEGER
  SAMPLE_BITS = 8
  BANDS = 1
  BAND_STORAGE_TYPE = BAND_SEQUENTIAL
  MAXIMUM = 255
  MEAN = 118.718
  MINIMUM = 1
  STANDARD_DEVIATION = 49.2063
END_OBJECT = IMAGE
/* MAP OBJECT DEFINITIONS */
OBJECT = IMAGE_MAP_PROJECTION
  ^DATA_SET_MAP_PROJECTION_CATALOG= "DSMAP.CAT"
  A_AXIS_RADIUS = 3396.0
  B_AXIS_RADIUS = 3396.0
  C_AXIS_RADIUS = 3396.0
  CENTER_LATITUDE = 0.0
  CENTER_LONGITUDE = 156.0
  COORDINATE_SYSTEM_NAME = PLANETOGRAPHIC
  COORDINATE_SYSTEM_TYPE = "BODY-FIXED ROTATING"
  EASTERNMOST_LONGITUDE = 161.581
  FIRST_STANDARD_PARALLEL = "N/A"
  LINE_FIRST_PIXEL = 1
  LINE_LAST_PIXEL = 12087
  LINE_PROJECTION_OFFSET = -36530.3125
  MAP_PROJECTION_ROTATION = 0.0
  MAP_PROJECTION_TYPE = SINUSOIDAL
  MAP_RESOLUTION = 592.713803866667
  MAP_SCALE = 0.1
  MAXIMUM_LATITUDE = -61.6413
  MINIMUM_LATITUDE = -82.02630000000001
  POSITIVE_LONGITUDE_DIRECTION = EAST
  REFERENCE_LATITUDE = "N/A"
  REFERENCE_LONGITUDE = "N/A"
  SAMPLE_FIRST_PIXEL = 1
  SAMPLE_LAST_PIXEL = 3065
  SAMPLE_PROJECTION_OFFSET = 1471.0625
  SECOND_STANDARD_PARALLEL = "N/A"
  WESTERNMOST_LONGITUDE = 139.174
END_OBJECT = IMAGE_MAP_PROJECTION
/* The JPEG2000 image data file associated with this label. */
OBJECT = COMPRESSED_FILE
  FILE_NAME = "H2491_0000_GR3.JP2"
  RECORD_TYPE = UNDEFINED
  FILE_RECORDS = UNK
  ENCODING_TYPE = "JP2"
  INTERCHANGE_FORMAT = BINARY
  UNCOMPRESSED_FILE_NAME = "H2491_0000_GR3.IMG"
  REQUIRED_STORAGE_BYTES = "37071175"
  ^DESCRIPTION = "JP2INFO.TXT"
END_OBJECT = COMPRESSED_FILE
END
