PDS_VERSION_ID = PDS3
/* FILE DATA ELEMENTS */
RECORD_TYPE = STREAM
/* POINTERS TO DATA OBJECTS */
^COMPRESSED_FILE = "H2493_0000_IR3.JP2"
/* IDENTIFICATION DATA ELEMENTS */
DATA_SET_ID = "MEX-M-HRSC-5-REFDR-MAPPROJECTED-V3.0"
DATA_SET_NAME = "MARS EXPRESS HRSC MAP PROJECTED REFDR V3.0"
DETECTOR_ID = MEX_HRSC_IR
EVENT_TYPE = "MARS-REGIONAL-MAPPING-Im-Fl-Mw"
INSTRUMENT_HOST_ID = MEX
INSTRUMENT_HOST_NAME = "MARS EXPRESS"
INSTRUMENT_ID = HRSC
INSTRUMENT_NAME = "HIGH RESOLUTION STEREO CAMERA"
MISSION_NAME = "MARS EXPRESS"
MISSION_PHASE_NAME = ME_Phase_1
PROCESSING_LEVEL_ID = 3
PRODUCT_CREATION_TIME = 2016-04-06T10:39:59.000Z
PRODUCT_ID = "H2493_0000_IR3.JP2"
RELEASE_ID = 0030
REVISION_ID = 0000
/* QUALITY DATA ELEMENTS */
DATA_QUALITY_ID = 1
DATA_QUALITY_DESC = "Data calculated based on original SPICE kernels"
/* TIME DATA ELEMENTS */
SPACECRAFT_CLOCK_START_COUNT = "1/0083269279.56191"
SPACECRAFT_CLOCK_STOP_COUNT = "1/0083269581.48819"
START_TIME = 2005-12-21T18:21:32.317Z
STOP_TIME = 2005-12-21T18:24:40.634Z
/* ORBITAL DATA ELEMENTS */
ASCENDING_NODE_LONGITUDE = 175.94
MAXIMUM_RESOLUTION = 62.1
FOOTPRINT_POINT_LATITUDE = (-55.386,-55.4089,-55.4269,-55.4393, -55.4534,-55.1799,-54.9479,-54.7202, -54.49,-54.2655,-53.9305,-53.7024, -53.478,-53.2538,-53.0344,-52.8103, -52.5863,-52.3649,-52.138,-51.9064, -51.5609,-51.3316,-51.1024,-50.8679, -50.636,-50.3995,-50.0443,-49.8057, -49.5733,-49.3383,-49.093,-48.8468, -48.4781,-48.1044,-47.8552,-47.4759, -47.0929,-46.7074,-46.319,-46.0579, -45.7944,-45.4031,-45.132,-44.8646, -44.5854,-44.1737,-43.8994,-43.6264, -43.2063,-43.1921,-43.1826,-43.1703, -43.1708,-43.1435,-43.5536,-43.9675, -44.2416,-44.5149,-44.9208,-45.1918, -45.4489,-45.7113,-45.9762,-46.2359, -46.4963,-46.7546,-47.007,-47.2613, -47.6391,-47.8881,-48.1378,-48.3877, -48.6312,-48.8753,-49.2423,-49.4825, -49.7218,-49.9614,-50.1986,-50.4317, -50.6656,-51.0143,-51.2422,-51.4705, -51.7001,-51.9313,-52.1574,-52.4882, -52.711,-53.0448,-53.382,-53.7174, -53.9421,-54.1658,-54.3906,-54.6142, -54.8415,-55.072,-55.3094,-55.386)
FOOTPRINT_POINT_LONGITUDE = (324.859,325.357,325.793,326.126, 326.542,326.845,326.875,326.902,326.931 ,326.955,326.989,327.015,327.039, 327.061,327.08,327.103,327.124,327.144, 327.168,327.191,327.224,327.245,327.265 ,327.286,327.304,327.325,327.355, 327.374,327.389,327.405,327.424,327.444 ,327.473,327.5,327.517,327.545,327.572, 327.598,327.623,327.641,327.657,327.678 ,327.696,327.711,327.732,327.756, 327.771,327.784,327.807,327.348,326.864 ,326.357,326.014,325.506,325.324, 325.311,325.302,325.292,325.279,325.269 ,325.255,325.244,325.233,325.222,325.21 ,325.198,325.184,325.172,325.151, 325.137,325.123,325.109,325.095,325.08, 325.057,325.042,325.026,325.01,324.993, 324.976,324.958,324.93,324.912,324.893, 324.875,324.856,324.837,324.806,324.785 ,324.752,324.72,324.686,324.663,324.639 ,324.615,324.59,324.566,324.542,324.522 ,324.859)
ORBIT_NUMBER = 2493
ORBITAL_ECCENTRICITY = 0.572
ORBITAL_INCLINATION = 86.63
ORBITAL_SEMIMAJOR_AXIS = 8528.69
PERIAPSIS_ALTITUDE = 276.76
PERIAPSIS_ARGUMENT_ANGLE = 280.13
PERIAPSIS_TIME = 2005-12-21T18:15:50.000Z
SPACECRAFT_ORIENTATION = (0.0,-1.0,0.0)
^MEX_ORIENTATION_DESC = "MEX_ORIENTATION_DESC.TXT"
SPACECRAFT_POINTING_MODE = NADIR
^MEX_POINTING_DESC = "MEX_POINTING_DESC.TXT"
RIGHT_ASCENSION = -1e+32
DECLINATION = -1e+32
OFFSET_ANGLE = -1e+32
SPACECRAFT_SOLAR_DISTANCE = 2.27081e+08
TARGET_NAME = MARS
/* CAMERA DATA ELEMENTS */
DETECTOR_TEMPERATURE = 17.351
FOCAL_PLANE_TEMPERATURE = 8.3794
INST_CMPRS_NAME = "DISCRETE COSINE TRANSFORMATION (DCT)"
INST_CMPRS_RATIO = 14.8781
INST_CMPRS_QUALITY = 0
INST_CMPRS_QUANTZ_TBL_ID = 0
INSTRUMENT_TEMPERATURE = 11.4379
LENS_TEMPERATURE = 8.5833
MACROPIXEL_SIZE = 4
MISSING_FRAMES = 0
PIXEL_SUBSAMPLING_FLAG = N
SIGNAL_CHAIN_ID = 2
/* RADIOMETRIC DATA ELEMENTS */
BANDWIDTH = 81.0
CENTER_FILTER_WAVELENGTH = 955.5
RADIANCE_OFFSET = 0.687291
RADIANCE_SCALING_FACTOR = 0.00499848
REFLECTANCE_SCALING_FACTOR = 0.000556072
MEX:REFLECTANCE_OFFSET = 0.0764599
/* IMAGE OBJECT DEFINITIONS */
OBJECT = IMAGE
  INTERCHANGE_FORMAT = BINARY
  LINES = 14515
  LINE_SAMPLES = 2688
  SAMPLE_TYPE = UNSIGNED_INTEGER
  SAMPLE_BITS = 8
  BANDS = 1
  BAND_STORAGE_TYPE = BAND_SEQUENTIAL
  MAXIMUM = 255
  MEAN = 106.532
  MINIMUM = 1
  STANDARD_DEVIATION = 31.0712
END_OBJECT = IMAGE
/* MAP OBJECT DEFINITIONS */
OBJECT = IMAGE_MAP_PROJECTION
  ^DATA_SET_MAP_PROJECTION_CATALOG= "DSMAP.CAT"
  A_AXIS_RADIUS = 3396.0
  B_AXIS_RADIUS = 3396.0
  C_AXIS_RADIUS = 3396.0
  CENTER_LATITUDE = 0.0
  CENTER_LONGITUDE = 326.0
  COORDINATE_SYSTEM_NAME = PLANETOGRAPHIC
  COORDINATE_SYSTEM_TYPE = "BODY-FIXED ROTATING"
  EASTERNMOST_LONGITUDE = 327.807
  FIRST_STANDARD_PARALLEL = "N/A"
  LINE_FIRST_PIXEL = 1
  LINE_LAST_PIXEL = 14515
  LINE_PROJECTION_OFFSET = -51160.375
  MAP_PROJECTION_ROTATION = 0.0
  MAP_PROJECTION_TYPE = SINUSOIDAL
  MAP_RESOLUTION = 1185.42760773333
  MAP_SCALE = 0.05
  MAXIMUM_LATITUDE = -43.1435
  MINIMUM_LATITUDE = -55.4534
  POSITIVE_LONGITUDE_DIRECTION = EAST
  REFERENCE_LATITUDE = "N/A"
  REFERENCE_LONGITUDE = "N/A"
  SAMPLE_FIRST_PIXEL = 1
  SAMPLE_LAST_PIXEL = 2688
  SAMPLE_PROJECTION_OFFSET = 1044.875
  SECOND_STANDARD_PARALLEL = "N/A"
  WESTERNMOST_LONGITUDE = 324.522
END_OBJECT = IMAGE_MAP_PROJECTION
/* The JPEG2000 image data file associated with this label. */
OBJECT = COMPRESSED_FILE
  FILE_NAME = "H2493_0000_IR3.JP2"
  RECORD_TYPE = UNDEFINED
  FILE_RECORDS = UNK
  ENCODING_TYPE = "JP2"
  INTERCHANGE_FORMAT = BINARY
  UNCOMPRESSED_FILE_NAME = "H2493_0000_IR3.IMG"
  REQUIRED_STORAGE_BYTES = "39037824"
  ^DESCRIPTION = "JP2INFO.TXT"
END_OBJECT = COMPRESSED_FILE
END
