PDS_VERSION_ID = PDS3
/* FILE DATA ELEMENTS */
RECORD_TYPE = STREAM
/* POINTERS TO DATA OBJECTS */
^COMPRESSED_FILE = "H2493_0001_S23.JP2"
/* IDENTIFICATION DATA ELEMENTS */
DATA_SET_ID = "MEX-M-HRSC-5-REFDR-MAPPROJECTED-V3.0"
DATA_SET_NAME = "MARS EXPRESS HRSC MAP PROJECTED REFDR V3.0"
DETECTOR_ID = MEX_HRSC_S2
EVENT_TYPE = "MARS-GLOBAL-MAPPING-Te-Im-Fl"
INSTRUMENT_HOST_ID = MEX
INSTRUMENT_HOST_NAME = "MARS EXPRESS"
INSTRUMENT_ID = HRSC
INSTRUMENT_NAME = "HIGH RESOLUTION STEREO CAMERA"
MISSION_NAME = "MARS EXPRESS"
MISSION_PHASE_NAME = ME_Phase_1
PROCESSING_LEVEL_ID = 3
PRODUCT_CREATION_TIME = 2016-04-06T10:39:59.000Z
PRODUCT_ID = "H2493_0001_S23.JP2"
RELEASE_ID = 0030
REVISION_ID = 0000
/* QUALITY DATA ELEMENTS */
DATA_QUALITY_ID = 1
DATA_QUALITY_DESC = "Data calculated based on original SPICE kernels"
/* TIME DATA ELEMENTS */
SPACECRAFT_CLOCK_START_COUNT = "1/0083269716.57950"
SPACECRAFT_CLOCK_STOP_COUNT = "1/0083270275.36042"
START_TIME = 2005-12-21T18:32:19.461Z
STOP_TIME = 2005-12-21T18:38:00.486Z
/* ORBITAL DATA ELEMENTS */
ASCENDING_NODE_LONGITUDE = 175.94
MAXIMUM_RESOLUTION = 89
FOOTPRINT_POINT_LATITUDE = (-27.7542,-27.749,-27.7436,-27.7381, -27.7326,-27.7271,-27.7214,-27.7158, -27.7102,-27.7045,-27.6986,-27.6927, -27.6867,-27.5864,-27.2021,-26.9502, -26.6995,-26.4518,-26.0822,-25.835, -25.5887,-25.3442,-25.1017,-24.8596, -24.62,-24.3812,-24.142,-23.9057, -23.5523,-23.316,-23.0818,-22.8507, -22.6201,-22.3913,-22.1643,-21.9401, -21.7187,-21.4973,-21.0579,-20.6371, -20.3125,-19.884,-19.4635,-19.0468, -18.6367,-18.2309,-17.8295,-17.4331, -17.0421,-16.6548,-16.5316,-16.549, -16.5709,-16.5802,-16.5877,-16.614, -16.6269,-16.6433,-16.6569,-16.6832, -16.7024,-16.7334,-16.7573,-16.8711, -17.2479,-17.5342,-17.9209,-18.5047, -18.9011,-19.3005,-19.8104,-20.2219, -20.4452,-20.8721,-21.1895,-21.5017, -21.94,-22.1607,-22.3821,-22.6052, -22.8293,-23.0547,-23.2816,-23.5095, -23.7393,-23.9693,-24.2014,-24.4353, -24.788,-25.1474,-25.391,-25.6269, -25.8771,-26.243,-26.4905,-26.7363, -26.9867,-27.2426,-27.4985,-27.7542)
FOOTPRINT_POINT_LONGITUDE = (324.855,325.176,325.496,325.816, 326.136,326.456,326.776,327.095,327.414 ,327.734,328.054,328.374,328.695, 328.928,328.947,328.96,328.973,328.987, 329.008,329.02,329.033,329.045,329.058, 329.07,329.082,329.095,329.106,329.119, 329.136,329.147,329.158,329.17,329.181, 329.193,329.205,329.217,329.23,329.242, 329.266,329.296,329.313,329.336,329.361 ,329.385,329.409,329.434,329.458, 329.482,329.507,329.531,329.32,328.876, 328.378,328.046,327.77,327.275,326.779, 326.394,326.063,325.568,325.183,324.631 ,324.189,323.848,323.89,323.922,323.963 ,324.026,324.067,324.108,324.159, 324.199,324.214,324.252,324.282,324.313 ,324.35,324.369,324.387,324.405,324.424 ,324.442,324.46,324.478,324.495,324.513 ,324.531,324.548,324.573,324.598, 324.613,324.631,324.645,324.669,324.684 ,324.701,324.716,324.729,324.743, 324.855)
ORBIT_NUMBER = 2493
ORBITAL_ECCENTRICITY = 0.572
ORBITAL_INCLINATION = 86.63
ORBITAL_SEMIMAJOR_AXIS = 8528.69
PERIAPSIS_ALTITUDE = 276.76
PERIAPSIS_ARGUMENT_ANGLE = 280.13
PERIAPSIS_TIME = 2005-12-21T18:15:50.000Z
SPACECRAFT_ORIENTATION = (0.0,-1.0,0.0)
^MEX_ORIENTATION_DESC = "MEX_ORIENTATION_DESC.TXT"
SPACECRAFT_POINTING_MODE = NADIR
^MEX_POINTING_DESC = "MEX_POINTING_DESC.TXT"
RIGHT_ASCENSION = -1e+32
DECLINATION = -1e+32
OFFSET_ANGLE = -1e+32
SPACECRAFT_SOLAR_DISTANCE = 2.27081e+08
TARGET_NAME = MARS
/* CAMERA DATA ELEMENTS */
DETECTOR_TEMPERATURE = 20.2056
FOCAL_PLANE_TEMPERATURE = 8.5833
INST_CMPRS_NAME = "DISCRETE COSINE TRANSFORMATION (DCT)"
INST_CMPRS_RATIO = 10.81
INST_CMPRS_QUALITY = 0
INST_CMPRS_QUANTZ_TBL_ID = 0
INSTRUMENT_TEMPERATURE = 12.8652
LENS_TEMPERATURE = 9.195
MACROPIXEL_SIZE = 2
MISSING_FRAMES = 0
PIXEL_SUBSAMPLING_FLAG = N
SIGNAL_CHAIN_ID = 1
/* RADIOMETRIC DATA ELEMENTS */
BANDWIDTH = 178.0
CENTER_FILTER_WAVELENGTH = 679.0
RADIANCE_OFFSET = 5.07259
RADIANCE_SCALING_FACTOR = 0.0162087
REFLECTANCE_SCALING_FACTOR = 0.000442637
MEX:REFLECTANCE_OFFSET = 0.138525
/* IMAGE OBJECT DEFINITIONS */
OBJECT = IMAGE
  INTERCHANGE_FORMAT = BINARY
  LINES = 13288
  LINE_SAMPLES = 4969
  SAMPLE_TYPE = UNSIGNED_INTEGER
  SAMPLE_BITS = 8
  BANDS = 1
  BAND_STORAGE_TYPE = BAND_SEQUENTIAL
  MAXIMUM = 255
  MEAN = 88.87
  MINIMUM = 1
  STANDARD_DEVIATION = 26.5333
END_OBJECT = IMAGE
/* MAP OBJECT DEFINITIONS */
OBJECT = IMAGE_MAP_PROJECTION
  ^DATA_SET_MAP_PROJECTION_CATALOG= "DSMAP.CAT"
  A_AXIS_RADIUS = 3396.0
  B_AXIS_RADIUS = 3396.0
  C_AXIS_RADIUS = 3396.0
  CENTER_LATITUDE = 0.0
  CENTER_LONGITUDE = 327.0
  COORDINATE_SYSTEM_NAME = PLANETOGRAPHIC
  COORDINATE_SYSTEM_TYPE = "BODY-FIXED ROTATING"
  EASTERNMOST_LONGITUDE = 329.531
  FIRST_STANDARD_PARALLEL = "N/A"
  LINE_FIRST_PIXEL = 1
  LINE_LAST_PIXEL = 13288
  LINE_PROJECTION_OFFSET = -19603.25
  MAP_PROJECTION_ROTATION = 0.0
  MAP_PROJECTION_TYPE = SINUSOIDAL
  MAP_RESOLUTION = 1185.42760773333
  MAP_SCALE = 0.05
  MAXIMUM_LATITUDE = -16.5316
  MINIMUM_LATITUDE = -27.7542
  POSITIVE_LONGITUDE_DIRECTION = EAST
  REFERENCE_LATITUDE = "N/A"
  REFERENCE_LONGITUDE = "N/A"
  SAMPLE_FIRST_PIXEL = 1
  SAMPLE_LAST_PIXEL = 4969
  SAMPLE_PROJECTION_OFFSET = 2949.25
  SECOND_STANDARD_PARALLEL = "N/A"
  WESTERNMOST_LONGITUDE = 323.848
END_OBJECT = IMAGE_MAP_PROJECTION
/* The JPEG2000 image data file associated with this label. */
OBJECT = COMPRESSED_FILE
  FILE_NAME = "H2493_0001_S23.JP2"
  RECORD_TYPE = UNDEFINED
  FILE_RECORDS = UNK
  ENCODING_TYPE = "JP2"
  INTERCHANGE_FORMAT = BINARY
  UNCOMPRESSED_FILE_NAME = "H2493_0001_S23.IMG"
  REQUIRED_STORAGE_BYTES = "66052917"
  ^DESCRIPTION = "JP2INFO.TXT"
END_OBJECT = COMPRESSED_FILE
END
