PDS_VERSION_ID = PDS3
/* FILE DATA ELEMENTS */
RECORD_TYPE = STREAM
/* POINTERS TO DATA OBJECTS */
^COMPRESSED_FILE = "H2496_0000_P23.JP2"
/* IDENTIFICATION DATA ELEMENTS */
DATA_SET_ID = "MEX-M-HRSC-5-REFDR-MAPPROJECTED-V3.0"
DATA_SET_NAME = "MARS EXPRESS HRSC MAP PROJECTED REFDR V3.0"
DETECTOR_ID = MEX_HRSC_P2
EVENT_TYPE = "MARS-REGIONAL-MAPPING-Te-Im-Pf"
INSTRUMENT_HOST_ID = MEX
INSTRUMENT_HOST_NAME = "MARS EXPRESS"
INSTRUMENT_ID = HRSC
INSTRUMENT_NAME = "HIGH RESOLUTION STEREO CAMERA"
MISSION_NAME = "MARS EXPRESS"
MISSION_PHASE_NAME = ME_Phase_1
PROCESSING_LEVEL_ID = 3
PRODUCT_CREATION_TIME = 2016-04-06T10:39:59.000Z
PRODUCT_ID = "H2496_0000_P23.JP2"
RELEASE_ID = 0030
REVISION_ID = 0000
/* QUALITY DATA ELEMENTS */
DATA_QUALITY_ID = 1
DATA_QUALITY_DESC = "Data calculated based on original SPICE kernels"
/* TIME DATA ELEMENTS */
SPACECRAFT_CLOCK_START_COUNT = "1/0083341815.56192"
SPACECRAFT_CLOCK_STOP_COUNT = "1/0083342231.19993"
START_TIME = 2005-12-22T14:31:21.228Z
STOP_TIME = 2005-12-22T14:36:46.088Z
/* ORBITAL DATA ELEMENTS */
ASCENDING_NODE_LONGITUDE = 175.88
MAXIMUM_RESOLUTION = 33.1
FOOTPRINT_POINT_LATITUDE = (-56.5939,-56.6254,-56.714,-56.4215, -56.1257,-55.8272,-55.5293,-55.2268, -54.9225,-54.6185,-54.3088,-53.8446, -53.5293,-53.0562,-52.5758,-52.2604, -51.7642,-51.2695,-50.9406,-50.605, -50.0945,-49.7532,-49.4069,-48.8896, -48.3571,-47.9992,-47.648,-47.2851, -46.9132,-46.5473,-46.1758,-45.8008, -45.4225,-45.0381,-44.6511,-44.2627, -43.6709,-43.2736,-42.8715,-42.4652, -42.0551,-41.6405,-41.221,-40.8026, -40.37,-39.726,-39.2884,-38.8487, -38.8338,-38.8197,-38.8139,-38.801, -39.0128,-39.4494,-40.0996,-40.527, -40.9489,-41.3672,-41.7808,-42.193, -42.5974,-42.998,-43.4052,-43.7997, -44.1894,-44.7661,-45.1498,-45.529, -45.9068,-46.2783,-46.6518,-47.0195, -47.3808,-47.919,-48.4509,-48.8015, -49.1449,-49.4912,-49.8325,-50.1725, -50.51,-50.8446,-51.1744,-51.6668, -51.9904,-52.3186,-52.6376,-52.9566, -53.4284,-53.7433,-54.0516,-54.5144, -54.8126,-55.1171,-55.4196,-55.7172, -56.016,-56.311,-56.6022,-56.5939)
FOOTPRINT_POINT_LONGITUDE = (30.6479,31.4153,32.5405,32.5745, 32.6089,32.6429,32.6759,32.7089,32.7414 ,32.7728,32.8046,32.8513,32.8816, 32.9266,32.9721,33.0059,33.0441,33.0862 ,33.1166,33.1445,33.1823,33.2107, 33.2353,33.2784,33.3147,33.3396,33.3703 ,33.3961,33.4154,33.4417,33.4671, 33.4914,33.5149,33.5376,33.5601,33.5835 ,33.6173,33.6405,33.6628,33.6854, 33.7077,33.7293,33.7501,33.7745,33.7914 ,33.8257,33.8467,33.8696,33.2655, 32.4201,31.97,31.192,30.7645,30.7677, 30.7694,30.7695,30.7694,30.7681,30.7663 ,30.7623,30.7595,30.756,30.7466,30.7411 ,30.7349,30.7253,30.7156,30.7061, 30.6954,30.6846,30.6704,30.6576,30.6448 ,30.6238,30.6011,30.5859,30.571,30.5535 ,30.5355,30.5169,30.4968,30.4767, 30.4564,30.4241,30.4027,30.3764,30.3529 ,30.3285,30.29,30.2627,30.2356,30.1935, 30.1674,30.1368,30.1057,30.0742,30.0412 ,30.0085,29.975,30.6479)
ORBIT_NUMBER = 2496
ORBITAL_ECCENTRICITY = 0.572
ORBITAL_INCLINATION = 86.61
ORBITAL_SEMIMAJOR_AXIS = 8530.26
PERIAPSIS_ALTITUDE = 276.84
PERIAPSIS_ARGUMENT_ANGLE = 279.59
PERIAPSIS_TIME = 2005-12-22T14:24:58.000Z
SPACECRAFT_ORIENTATION = (0.0,-1.0,0.0)
^MEX_ORIENTATION_DESC = "MEX_ORIENTATION_DESC.TXT"
SPACECRAFT_POINTING_MODE = ACROSSTRACK
^MEX_POINTING_DESC = "MEX_POINTING_DESC.TXT"
RIGHT_ASCENSION = -1e+32
DECLINATION = -1e+32
OFFSET_ANGLE = -0.26
SPACECRAFT_SOLAR_DISTANCE = 2.27245e+08
TARGET_NAME = MARS
/* CAMERA DATA ELEMENTS */
DETECTOR_TEMPERATURE = 18.7783
FOCAL_PLANE_TEMPERATURE = 8.7872
INST_CMPRS_NAME = "DISCRETE COSINE TRANSFORMATION (DCT)"
INST_CMPRS_RATIO = 6.80767
INST_CMPRS_QUALITY = 0
INST_CMPRS_QUANTZ_TBL_ID = 0
INSTRUMENT_TEMPERATURE = 11.0301
LENS_TEMPERATURE = 8.9911
MACROPIXEL_SIZE = 2
MISSING_FRAMES = 0
PIXEL_SUBSAMPLING_FLAG = N
SIGNAL_CHAIN_ID = 3
/* RADIOMETRIC DATA ELEMENTS */
BANDWIDTH = 177.0
CENTER_FILTER_WAVELENGTH = 676.5
RADIANCE_OFFSET = 2.38544
RADIANCE_SCALING_FACTOR = 0.0199567
REFLECTANCE_SCALING_FACTOR = 0.000546434
MEX:REFLECTANCE_OFFSET = 0.065316
/* IMAGE OBJECT DEFINITIONS */
OBJECT = IMAGE
  INTERCHANGE_FORMAT = BINARY
  LINES = 42458
  LINE_SAMPLES = 5853
  SAMPLE_TYPE = UNSIGNED_INTEGER
  SAMPLE_BITS = 8
  BANDS = 1
  BAND_STORAGE_TYPE = BAND_SEQUENTIAL
  MAXIMUM = 255
  MEAN = 156.145
  MINIMUM = 1
  STANDARD_DEVIATION = 33.2796
END_OBJECT = IMAGE
/* MAP OBJECT DEFINITIONS */
OBJECT = IMAGE_MAP_PROJECTION
  ^DATA_SET_MAP_PROJECTION_CATALOG= "DSMAP.CAT"
  A_AXIS_RADIUS = 3396.0
  B_AXIS_RADIUS = 3396.0
  C_AXIS_RADIUS = 3396.0
  CENTER_LATITUDE = 0.0
  CENTER_LONGITUDE = 32.0
  COORDINATE_SYSTEM_NAME = PLANETOGRAPHIC
  COORDINATE_SYSTEM_TYPE = "BODY-FIXED ROTATING"
  EASTERNMOST_LONGITUDE = 33.8696
  FIRST_STANDARD_PARALLEL = "N/A"
  LINE_FIRST_PIXEL = 1
  LINE_LAST_PIXEL = 42458
  LINE_PROJECTION_OFFSET = -92006.25
  MAP_PROJECTION_ROTATION = 0.0
  MAP_PROJECTION_TYPE = SINUSOIDAL
  MAP_RESOLUTION = 2370.85521546667
  MAP_SCALE = 0.025
  MAXIMUM_LATITUDE = -38.801
  MINIMUM_LATITUDE = -56.714
  POSITIVE_LONGITUDE_DIRECTION = EAST
  REFERENCE_LATITUDE = "N/A"
  REFERENCE_LONGITUDE = "N/A"
  SAMPLE_FIRST_PIXEL = 1
  SAMPLE_LAST_PIXEL = 5853
  SAMPLE_PROJECTION_OFFSET = 2595.75
  SECOND_STANDARD_PARALLEL = "N/A"
  WESTERNMOST_LONGITUDE = 29.975
END_OBJECT = IMAGE_MAP_PROJECTION
/* The JPEG2000 image data file associated with this label. */
OBJECT = COMPRESSED_FILE
  FILE_NAME = "H2496_0000_P23.JP2"
  RECORD_TYPE = UNDEFINED
  FILE_RECORDS = UNK
  ENCODING_TYPE = "JP2"
  INTERCHANGE_FORMAT = BINARY
  UNCOMPRESSED_FILE_NAME = "H2496_0000_P23.IMG"
  REQUIRED_STORAGE_BYTES = "248535939"
  ^DESCRIPTION = "JP2INFO.TXT"
END_OBJECT = COMPRESSED_FILE
END
