PDS_VERSION_ID = PDS3
/* FILE DATA ELEMENTS */
RECORD_TYPE = STREAM
/* POINTERS TO DATA OBJECTS */
^COMPRESSED_FILE = "H2496_0000_S23.JP2"
/* IDENTIFICATION DATA ELEMENTS */
DATA_SET_ID = "MEX-M-HRSC-5-REFDR-MAPPROJECTED-V3.0"
DATA_SET_NAME = "MARS EXPRESS HRSC MAP PROJECTED REFDR V3.0"
DETECTOR_ID = MEX_HRSC_S2
EVENT_TYPE = "MARS-REGIONAL-MAPPING-Te-Im-Pf"
INSTRUMENT_HOST_ID = MEX
INSTRUMENT_HOST_NAME = "MARS EXPRESS"
INSTRUMENT_ID = HRSC
INSTRUMENT_NAME = "HIGH RESOLUTION STEREO CAMERA"
MISSION_NAME = "MARS EXPRESS"
MISSION_PHASE_NAME = ME_Phase_1
PROCESSING_LEVEL_ID = 3
PRODUCT_CREATION_TIME = 2016-04-06T10:39:59.000Z
PRODUCT_ID = "H2496_0000_S23.JP2"
RELEASE_ID = 0030
REVISION_ID = 0000
/* QUALITY DATA ELEMENTS */
DATA_QUALITY_ID = 1
DATA_QUALITY_DESC = "Data calculated based on original SPICE kernels"
/* TIME DATA ELEMENTS */
SPACECRAFT_CLOCK_START_COUNT = "1/0083341815.56192"
SPACECRAFT_CLOCK_STOP_COUNT = "1/0083342231.19993"
START_TIME = 2005-12-22T14:31:35.179Z
STOP_TIME = 2005-12-22T14:37:16.212Z
/* ORBITAL DATA ELEMENTS */
ASCENDING_NODE_LONGITUDE = 175.88
MAXIMUM_RESOLUTION = 35.1
FOOTPRINT_POINT_LATITUDE = (-56.541,-56.5769,-56.6094,-56.715, -56.4206,-56.1234,-55.8242,-55.5251, -55.0689,-54.7641,-54.2994,-53.9892, -53.5167,-53.041,-52.7199,-52.4071, -52.082,-51.7458,-51.4159,-51.0871, -50.7526,-50.2414,-49.9022,-49.5543, -49.0381,-48.6835,-48.3299,-47.9704, -47.6237,-47.2583,-46.8845,-46.5196, -46.1481,-45.7723,-45.3929,-45.0092, -44.6224,-44.2336,-43.841,-43.4437, -43.0442,-42.641,-42.2341,-41.8229, -41.4066,-40.7861,-40.347,-39.704, -39.2668,-38.8291,-38.826,-38.8111, -38.8074,-38.7998,-38.7924,-38.9995, -39.4352,-39.8673,-40.2937,-40.717, -41.1364,-41.5509,-41.9614,-42.5712, -42.9711,-43.5787,-43.9691,-44.3487, -44.7345,-45.1205,-45.5,-45.8771, -46.2483,-46.6252,-46.9938,-47.3553, -47.8937,-48.4266,-48.9452,-49.2935, -49.6372,-50.1475,-50.6548,-50.9882, -51.3186,-51.6475,-52.1379,-52.4623, -52.7795,-53.0995,-53.4139,-53.8862, -54.1949,-54.5037,-54.8013,-55.1072, -55.4113,-55.71,-56.0108,-56.541)
FOOTPRINT_POINT_LONGITUDE = (30.1777,30.9633,31.7542,32.5861, 32.6209,32.6556,32.6906,32.7244,32.775, 32.8077,32.8562,32.8878,32.9352,32.9816 ,33.0121,33.0475,33.078,33.1015,33.1316 ,33.162,33.1917,33.232,33.2604,33.2869, 33.3311,33.3555,33.3833,33.4085,33.4416 ,33.467,33.489,33.5166,33.543,33.5685, 33.5934,33.6172,33.6416,33.6667,33.6915 ,33.7153,33.7397,33.764,33.7881,33.812, 33.8352,33.8754,33.8922,33.9288,33.9513 ,33.9756,33.179,32.6675,32.2868,31.7478 ,31.3049,30.6962,30.7005,30.7035,30.706 ,30.7074,30.7078,30.7077,30.7068, 30.7034,30.7007,30.6903,30.6857,30.683, 30.676,30.6671,30.6587,30.6489,30.6392, 30.6257,30.6137,30.6017,30.5822,30.5606 ,30.5403,30.5239,30.507,30.4805,30.4514 ,30.432,30.4114,30.3904,30.3558,30.3323 ,30.3094,30.2846,30.2592,30.219,30.192, 30.1643,30.139,30.1086,30.0778,30.0467, 30.0139,30.1777)
ORBIT_NUMBER = 2496
ORBITAL_ECCENTRICITY = 0.572
ORBITAL_INCLINATION = 86.61
ORBITAL_SEMIMAJOR_AXIS = 8530.26
PERIAPSIS_ALTITUDE = 276.84
PERIAPSIS_ARGUMENT_ANGLE = 279.59
PERIAPSIS_TIME = 2005-12-22T14:24:58.000Z
SPACECRAFT_ORIENTATION = (0.0,-1.0,0.0)
^MEX_ORIENTATION_DESC = "MEX_ORIENTATION_DESC.TXT"
SPACECRAFT_POINTING_MODE = ACROSSTRACK
^MEX_POINTING_DESC = "MEX_POINTING_DESC.TXT"
RIGHT_ASCENSION = -1e+32
DECLINATION = -1e+32
OFFSET_ANGLE = -0.26
SPACECRAFT_SOLAR_DISTANCE = 2.27245e+08
TARGET_NAME = MARS
/* CAMERA DATA ELEMENTS */
DETECTOR_TEMPERATURE = 18.7783
FOCAL_PLANE_TEMPERATURE = 8.7872
INST_CMPRS_NAME = "DISCRETE COSINE TRANSFORMATION (DCT)"
INST_CMPRS_RATIO = 11.1909
INST_CMPRS_QUALITY = 0
INST_CMPRS_QUANTZ_TBL_ID = 0
INSTRUMENT_TEMPERATURE = 11.0301
LENS_TEMPERATURE = 8.9911
MACROPIXEL_SIZE = 2
MISSING_FRAMES = 0
PIXEL_SUBSAMPLING_FLAG = N
SIGNAL_CHAIN_ID = 1
/* RADIOMETRIC DATA ELEMENTS */
BANDWIDTH = 178.0
CENTER_FILTER_WAVELENGTH = 679.0
RADIANCE_OFFSET = 2.54048
RADIANCE_SCALING_FACTOR = 0.0212412
REFLECTANCE_SCALING_FACTOR = 0.0005809
MEX:REFLECTANCE_OFFSET = 0.0694766
/* IMAGE OBJECT DEFINITIONS */
OBJECT = IMAGE
  INTERCHANGE_FORMAT = BINARY
  LINES = 42458
  LINE_SAMPLES = 5853
  SAMPLE_TYPE = UNSIGNED_INTEGER
  SAMPLE_BITS = 8
  BANDS = 1
  BAND_STORAGE_TYPE = BAND_SEQUENTIAL
  MAXIMUM = 255
  MEAN = 161.522
  MINIMUM = 1
  STANDARD_DEVIATION = 32.876
END_OBJECT = IMAGE
/* MAP OBJECT DEFINITIONS */
OBJECT = IMAGE_MAP_PROJECTION
  ^DATA_SET_MAP_PROJECTION_CATALOG= "DSMAP.CAT"
  A_AXIS_RADIUS = 3396.0
  B_AXIS_RADIUS = 3396.0
  C_AXIS_RADIUS = 3396.0
  CENTER_LATITUDE = 0.0
  CENTER_LONGITUDE = 32.0
  COORDINATE_SYSTEM_NAME = PLANETOGRAPHIC
  COORDINATE_SYSTEM_TYPE = "BODY-FIXED ROTATING"
  EASTERNMOST_LONGITUDE = 33.9756
  FIRST_STANDARD_PARALLEL = "N/A"
  LINE_FIRST_PIXEL = 1
  LINE_LAST_PIXEL = 42458
  LINE_PROJECTION_OFFSET = -92006.25
  MAP_PROJECTION_ROTATION = 0.0
  MAP_PROJECTION_TYPE = SINUSOIDAL
  MAP_RESOLUTION = 2370.85521546667
  MAP_SCALE = 0.025
  MAXIMUM_LATITUDE = -38.7924
  MINIMUM_LATITUDE = -56.715
  POSITIVE_LONGITUDE_DIRECTION = EAST
  REFERENCE_LATITUDE = "N/A"
  REFERENCE_LONGITUDE = "N/A"
  SAMPLE_FIRST_PIXEL = 1
  SAMPLE_LAST_PIXEL = 5853
  SAMPLE_PROJECTION_OFFSET = 2595.75
  SECOND_STANDARD_PARALLEL = "N/A"
  WESTERNMOST_LONGITUDE = 30.0139
END_OBJECT = IMAGE_MAP_PROJECTION
/* The JPEG2000 image data file associated with this label. */
OBJECT = COMPRESSED_FILE
  FILE_NAME = "H2496_0000_S23.JP2"
  RECORD_TYPE = UNDEFINED
  FILE_RECORDS = UNK
  ENCODING_TYPE = "JP2"
  INTERCHANGE_FORMAT = BINARY
  UNCOMPRESSED_FILE_NAME = "H2496_0000_S23.IMG"
  REQUIRED_STORAGE_BYTES = "248535939"
  ^DESCRIPTION = "JP2INFO.TXT"
END_OBJECT = COMPRESSED_FILE
END
