PDS_VERSION_ID = PDS3
/* FILE DATA ELEMENTS */
RECORD_TYPE = STREAM
/* POINTERS TO DATA OBJECTS */
^COMPRESSED_FILE = "H2501_0000_S23.JP2"
/* IDENTIFICATION DATA ELEMENTS */
DATA_SET_ID = "MEX-M-HRSC-5-REFDR-MAPPROJECTED-V3.0"
DATA_SET_NAME = "MARS EXPRESS HRSC MAP PROJECTED REFDR V3.0"
DETECTOR_ID = MEX_HRSC_S2
EVENT_TYPE = "MARS-REGIONAL-MAPPING-Te-Im-Pf"
INSTRUMENT_HOST_ID = MEX
INSTRUMENT_HOST_NAME = "MARS EXPRESS"
INSTRUMENT_ID = HRSC
INSTRUMENT_NAME = "HIGH RESOLUTION STEREO CAMERA"
MISSION_NAME = "MARS EXPRESS"
MISSION_PHASE_NAME = ME_Phase_1
PROCESSING_LEVEL_ID = 3
PRODUCT_CREATION_TIME = 2016-04-07T06:49:26.000Z
PRODUCT_ID = "H2501_0000_S23.JP2"
RELEASE_ID = 0031
REVISION_ID = 0000
/* QUALITY DATA ELEMENTS */
DATA_QUALITY_ID = 1
DATA_QUALITY_DESC = "Data calculated based on original SPICE kernels"
/* TIME DATA ELEMENTS */
SPACECRAFT_CLOCK_START_COUNT = "1/0083462602.57156"
SPACECRAFT_CLOCK_STOP_COUNT = "1/0083463029.38891"
START_TIME = 2005-12-24T00:04:26.314Z
STOP_TIME = 2005-12-24T00:10:34.441Z
/* ORBITAL DATA ELEMENTS */
ASCENDING_NODE_LONGITUDE = 175.78
MAXIMUM_RESOLUTION = 27.9
FOOTPRINT_POINT_LATITUDE = (-66.386,-66.4506,-66.1621,-65.7714, -64.0765,-63.5018,-63.1005,-62.5098, -61.3624,-60.9701,-60.5808,-60.1932, -59.8073,-59.4222,-59.0379,-58.6553, -58.2736,-57.8929,-57.5148,-57.1376, -56.7617,-56.3868,-56.0127,-55.6403, -55.269,-54.8994,-54.5321,-53.9817, -53.6167,-53.253,-52.8903,-52.5292, -52.1689,-51.8106,-51.4554,-51.0998, -50.7454,-50.3929,-50.042,-49.6934, -49.172,-48.8268,-48.4829,-48.1414, -47.8004,-47.4604,-46.8016,-46.4555, -45.7903,-45.6117,-45.6042,-45.5891, -45.5763,-45.5624,-46.2229,-46.8896, -47.5613,-47.9,-48.2398,-48.5802, -48.9228,-49.2669,-49.6124,-49.9602, -50.3104,-50.6604,-51.0129,-51.3666, -51.7216,-52.0775,-52.4357,-52.7955, -53.1584,-53.702,-54.0665,-54.4318, -54.7986,-55.1665,-55.5363,-56.0963, -56.6552,-57.0299,-57.4153,-57.7841, -58.1611,-58.5413,-58.9213,-59.3043, -59.6895,-60.0743,-60.4611,-60.8497, -61.2381,-62.381,-62.7747,-63.3663, -63.9357,-65.633,-66.2117,-66.386)
FOOTPRINT_POINT_LONGITUDE = (257.189,258.593,259.047,259.153, 259.577,259.705,259.788,259.912,260.135 ,260.205,260.275,260.342,260.407, 260.471,260.532,260.591,260.649,260.705 ,260.76,260.813,260.865,260.915,260.964 ,261.011,261.057,261.102,261.146,261.21 ,261.251,261.291,261.33,261.368,261.405 ,261.441,261.477,261.511,261.545, 261.578,261.61,261.642,261.688,261.718, 261.748,261.777,261.805,261.833,261.893 ,261.915,261.965,261.487,260.994, 260.214,259.577,258.987,258.967,258.943 ,258.917,258.902,258.886,258.87,258.853 ,258.835,258.816,258.795,258.773,258.75 ,258.726,258.701,258.675,258.647, 258.618,258.588,258.555,258.505,258.469 ,258.433,258.395,258.355,258.313, 258.245,258.176,258.127,258.069,258.022 ,257.967,257.909,257.85,257.787,257.72, 257.652,257.581,257.506,257.429,257.185 ,257.094,256.951,256.806,256.317, 256.134,257.189)
ORBIT_NUMBER = 2501
ORBITAL_ECCENTRICITY = 0.572
ORBITAL_INCLINATION = 86.62
ORBITAL_SEMIMAJOR_AXIS = 8528.82
PERIAPSIS_ALTITUDE = 276.34
PERIAPSIS_ARGUMENT_ANGLE = 278.72
PERIAPSIS_TIME = 2005-12-24T00:00:19.000Z
SPACECRAFT_ORIENTATION = (0.0,-1.0,0.0)
^MEX_ORIENTATION_DESC = "MEX_ORIENTATION_DESC.TXT"
SPACECRAFT_POINTING_MODE = NADIR
^MEX_POINTING_DESC = "MEX_POINTING_DESC.TXT"
RIGHT_ASCENSION = -1e+32
DECLINATION = -1e+32
OFFSET_ANGLE = -1e+32
SPACECRAFT_SOLAR_DISTANCE = 2.27519e+08
TARGET_NAME = MARS
/* CAMERA DATA ELEMENTS */
DETECTOR_TEMPERATURE = 18.7783
FOCAL_PLANE_TEMPERATURE = 8.7872
INST_CMPRS_NAME = "DISCRETE COSINE TRANSFORMATION (DCT)"
INST_CMPRS_RATIO = 11.9255
INST_CMPRS_QUALITY = 0
INST_CMPRS_QUANTZ_TBL_ID = 0
INSTRUMENT_TEMPERATURE = 11.6418
LENS_TEMPERATURE = 9.8067
MACROPIXEL_SIZE = 2
MISSING_FRAMES = 817
PIXEL_SUBSAMPLING_FLAG = N
SIGNAL_CHAIN_ID = 1
/* RADIOMETRIC DATA ELEMENTS */
BANDWIDTH = 178.0
CENTER_FILTER_WAVELENGTH = 679.0
RADIANCE_OFFSET = 3.16191
RADIANCE_SCALING_FACTOR = 0.0121301
REFLECTANCE_SCALING_FACTOR = 0.000332529
MEX:REFLECTANCE_OFFSET = 0.0866792
/* IMAGE OBJECT DEFINITIONS */
OBJECT = IMAGE
  INTERCHANGE_FORMAT = BINARY
  LINES = 49788
  LINE_SAMPLES = 6613
  SAMPLE_TYPE = UNSIGNED_INTEGER
  SAMPLE_BITS = 8
  BANDS = 1
  BAND_STORAGE_TYPE = BAND_SEQUENTIAL
  MAXIMUM = 255
  MEAN = 122.893
  MINIMUM = 1
  STANDARD_DEVIATION = 30.1552
END_OBJECT = IMAGE
/* MAP OBJECT DEFINITIONS */
OBJECT = IMAGE_MAP_PROJECTION
  ^DATA_SET_MAP_PROJECTION_CATALOG= "DSMAP.CAT"
  A_AXIS_RADIUS = 3396.0
  B_AXIS_RADIUS = 3396.0
  C_AXIS_RADIUS = 3396.0
  CENTER_LATITUDE = 0.0
  CENTER_LONGITUDE = 260.0
  COORDINATE_SYSTEM_NAME = PLANETOGRAPHIC
  COORDINATE_SYSTEM_TYPE = "BODY-FIXED ROTATING"
  EASTERNMOST_LONGITUDE = 261.965
  FIRST_STANDARD_PARALLEL = "N/A"
  LINE_FIRST_PIXEL = 1
  LINE_LAST_PIXEL = 49788
  LINE_PROJECTION_OFFSET = -108012.75
  MAP_PROJECTION_ROTATION = 0.0
  MAP_PROJECTION_TYPE = SINUSOIDAL
  MAP_RESOLUTION = 2370.85521546667
  MAP_SCALE = 0.025
  MAXIMUM_LATITUDE = -45.5624
  MINIMUM_LATITUDE = -66.45059999999999
  POSITIVE_LONGITUDE_DIRECTION = EAST
  REFERENCE_LATITUDE = "N/A"
  REFERENCE_LONGITUDE = "N/A"
  SAMPLE_FIRST_PIXEL = 1
  SAMPLE_LAST_PIXEL = 6613
  SAMPLE_PROJECTION_OFFSET = 3635.75
  SECOND_STANDARD_PARALLEL = "N/A"
  WESTERNMOST_LONGITUDE = 256.134
END_OBJECT = IMAGE_MAP_PROJECTION
/* The JPEG2000 image data file associated with this label. */
OBJECT = COMPRESSED_FILE
  FILE_NAME = "H2501_0000_S23.JP2"
  RECORD_TYPE = UNDEFINED
  FILE_RECORDS = UNK
  ENCODING_TYPE = "JP2"
  INTERCHANGE_FORMAT = BINARY
  UNCOMPRESSED_FILE_NAME = "H2501_0000_S23.IMG"
  REQUIRED_STORAGE_BYTES = "329281109"
  ^DESCRIPTION = "JP2INFO.TXT"
END_OBJECT = COMPRESSED_FILE
END
