PDS_VERSION_ID = PDS3
/* FILE DATA ELEMENTS */
RECORD_TYPE = STREAM
/* POINTERS TO DATA OBJECTS */
^COMPRESSED_FILE = "H2503_0000_RE3.JP2"
/* IDENTIFICATION DATA ELEMENTS */
DATA_SET_ID = "MEX-M-HRSC-5-REFDR-MAPPROJECTED-V3.0"
DATA_SET_NAME = "MARS EXPRESS HRSC MAP PROJECTED REFDR V3.0"
DETECTOR_ID = MEX_HRSC_RED
EVENT_TYPE = "MARS-REGIONAL-MAPPING-Vo-Im-Pf"
INSTRUMENT_HOST_ID = MEX
INSTRUMENT_HOST_NAME = "MARS EXPRESS"
INSTRUMENT_ID = HRSC
INSTRUMENT_NAME = "HIGH RESOLUTION STEREO CAMERA"
MISSION_NAME = "MARS EXPRESS"
MISSION_PHASE_NAME = ME_Phase_1
PROCESSING_LEVEL_ID = 3
PRODUCT_CREATION_TIME = 2016-04-07T06:49:26.000Z
PRODUCT_ID = "H2503_0000_RE3.JP2"
RELEASE_ID = 0031
REVISION_ID = 0000
/* QUALITY DATA ELEMENTS */
DATA_QUALITY_ID = 1
DATA_QUALITY_DESC = "Data calculated based on original SPICE kernels"
/* TIME DATA ELEMENTS */
SPACECRAFT_CLOCK_START_COUNT = "1/0083510923.56191"
SPACECRAFT_CLOCK_STOP_COUNT = "1/0083511276.15420"
START_TIME = 2005-12-24T13:29:39.354Z
STOP_TIME = 2005-12-24T13:34:32.074Z
/* ORBITAL DATA ELEMENTS */
ASCENDING_NODE_LONGITUDE = 175.73
MAXIMUM_RESOLUTION = 51.3
FOOTPRINT_POINT_LATITUDE = (-69.7231,-69.7719,-69.8173,-69.7845, -69.4822,-69.0297,-68.7275,-68.261, -67.9497,-67.6385,-67.1718,-66.8561, -66.5357,-66.2164,-65.8974,-65.5799, -65.2521,-64.7613,-64.4348,-63.9467, -63.6212,-63.297,-62.8113,-62.489, -62.1669,-61.8452,-61.4642,-60.8929, -60.513,-60.1351,-59.7575,-59.3807, -59.0066,-58.633,-58.2613,-57.8903, -57.5112,-57.1337,-56.5584,-56.1745, -55.7831,-55.3938,-54.9944,-54.3928, -53.9886,-53.5771,-52.9544,-52.5354, -52.317,-52.3046,-52.2839,-52.266, -52.2494,-52.4343,-52.8531,-53.4743, -53.8845,-54.2884,-54.6904,-55.0869, -55.4797,-55.8679,-56.4448,-56.8278, -57.2056,-57.5821,-58.1399,-58.5109, -58.883,-59.2576,-59.6329,-60.0089, -60.3931,-60.9685,-61.3466,-61.8839, -62.1961,-62.52,-62.8418,-63.1643, -63.4873,-63.8105,-64.1347,-64.459, -64.785,-65.1114,-65.4366,-65.7532, -66.071,-66.3893,-66.7088,-67.0229, -67.3319,-67.6412,-67.9503,-68.2609, -68.57,-69.0206,-69.3207,-69.7231)
FOOTPRINT_POINT_LONGITUDE = (59.7809,60.6489,61.5286,62.4513, 62.5524,62.6982,62.7903,62.9276,63.0162 ,63.1016,63.2238,63.3042,63.3831, 63.4603,63.5347,63.608,63.6799,63.7851, 63.8526,63.9507,64.0127,64.0737,64.1611 ,64.2181,64.273,64.3262,64.3865,64.4765 ,64.5338,64.5903,64.6444,64.6966, 64.7488,64.7988,64.8482,64.8958,64.944, 64.9912,65.0613,65.1075,65.1534,65.199, 65.2427,65.3073,65.3498,65.3912,65.4516 ,65.4908,65.2478,64.8273,64.2008, 63.7071,63.2934,62.7041,62.675,62.6296, 62.5979,62.5652,62.531,62.496,62.46, 62.4231,62.3648,62.3239,62.2813,62.2373 ,62.1685,62.1201,62.0697,62.0164, 61.9611,61.9038,61.8403,61.7417,61.6764 ,61.5785,61.5219,61.457,61.3915,61.3237 ,61.2536,61.1813,61.1062,61.0287, 60.9478,60.8642,60.7783,60.6916,60.6015 ,60.5082,60.411,60.3127,60.2126,60.109, 60.0022,59.8907,59.7761,59.6018,59.4809 ,59.7809)
ORBIT_NUMBER = 2503
ORBITAL_ECCENTRICITY = 0.572
ORBITAL_INCLINATION = 86.63
ORBITAL_SEMIMAJOR_AXIS = 8529.18
PERIAPSIS_ALTITUDE = 276.22
PERIAPSIS_ARGUMENT_ANGLE = 278.38
PERIAPSIS_TIME = 2005-12-24T13:26:24.000Z
SPACECRAFT_ORIENTATION = (0.0,-1.0,0.0)
^MEX_ORIENTATION_DESC = "MEX_ORIENTATION_DESC.TXT"
SPACECRAFT_POINTING_MODE = ACROSSTRACK
^MEX_POINTING_DESC = "MEX_POINTING_DESC.TXT"
RIGHT_ASCENSION = -1e+32
DECLINATION = -1e+32
OFFSET_ANGLE = -0.34
SPACECRAFT_SOLAR_DISTANCE = 2.27628e+08
TARGET_NAME = MARS
/* CAMERA DATA ELEMENTS */
DETECTOR_TEMPERATURE = 18.3705
FOCAL_PLANE_TEMPERATURE = 8.9911
INST_CMPRS_NAME = "DISCRETE COSINE TRANSFORMATION (DCT)"
INST_CMPRS_RATIO = 24.2908
INST_CMPRS_QUALITY = 0
INST_CMPRS_QUANTZ_TBL_ID = 0
INSTRUMENT_TEMPERATURE = 10.4184
LENS_TEMPERATURE = 9.6028
MACROPIXEL_SIZE = 4
MISSING_FRAMES = 0
PIXEL_SUBSAMPLING_FLAG = N
SIGNAL_CHAIN_ID = 2
/* RADIOMETRIC DATA ELEMENTS */
BANDWIDTH = 48.0
CENTER_FILTER_WAVELENGTH = 748.0
RADIANCE_OFFSET = 0.773644
RADIANCE_SCALING_FACTOR = 0.00521617
REFLECTANCE_SCALING_FACTOR = 0.000616781
MEX:REFLECTANCE_OFFSET = 0.0914787
/* IMAGE OBJECT DEFINITIONS */
OBJECT = IMAGE
  INTERCHANGE_FORMAT = BINARY
  LINES = 21013
  LINE_SAMPLES = 3228
  SAMPLE_TYPE = UNSIGNED_INTEGER
  SAMPLE_BITS = 8
  BANDS = 1
  BAND_STORAGE_TYPE = BAND_SEQUENTIAL
  MAXIMUM = 255
  MEAN = 101.471
  MINIMUM = 1
  STANDARD_DEVIATION = 46.8931
END_OBJECT = IMAGE
/* MAP OBJECT DEFINITIONS */
OBJECT = IMAGE_MAP_PROJECTION
  ^DATA_SET_MAP_PROJECTION_CATALOG= "DSMAP.CAT"
  A_AXIS_RADIUS = 3396.0
  B_AXIS_RADIUS = 3396.0
  C_AXIS_RADIUS = 3396.0
  CENTER_LATITUDE = 0.0
  CENTER_LONGITUDE = 63.0
  COORDINATE_SYSTEM_NAME = PLANETOGRAPHIC
  COORDINATE_SYSTEM_TYPE = "BODY-FIXED ROTATING"
  EASTERNMOST_LONGITUDE = 65.49079999999999
  FIRST_STANDARD_PARALLEL = "N/A"
  LINE_FIRST_PIXEL = 1
  LINE_LAST_PIXEL = 21013
  LINE_PROJECTION_OFFSET = -61887.375
  MAP_PROJECTION_ROTATION = 0.0
  MAP_PROJECTION_TYPE = SINUSOIDAL
  MAP_RESOLUTION = 1185.42760773333
  MAP_SCALE = 0.05
  MAXIMUM_LATITUDE = -52.2494
  MINIMUM_LATITUDE = -69.8173
  POSITIVE_LONGITUDE_DIRECTION = EAST
  REFERENCE_LATITUDE = "N/A"
  REFERENCE_LONGITUDE = "N/A"
  SAMPLE_FIRST_PIXEL = 1
  SAMPLE_LAST_PIXEL = 3228
  SAMPLE_PROJECTION_OFFSET = 1499.375
  SECOND_STANDARD_PARALLEL = "N/A"
  WESTERNMOST_LONGITUDE = 59.4809
END_OBJECT = IMAGE_MAP_PROJECTION
/* The JPEG2000 image data file associated with this label. */
OBJECT = COMPRESSED_FILE
  FILE_NAME = "H2503_0000_RE3.JP2"
  RECORD_TYPE = UNDEFINED
  FILE_RECORDS = UNK
  ENCODING_TYPE = "JP2"
  INTERCHANGE_FORMAT = BINARY
  UNCOMPRESSED_FILE_NAME = "H2503_0000_RE3.IMG"
  REQUIRED_STORAGE_BYTES = "67852560"
  ^DESCRIPTION = "JP2INFO.TXT"
END_OBJECT = COMPRESSED_FILE
END
