PDS_VERSION_ID = PDS3
/* FILE DATA ELEMENTS */
RECORD_TYPE = STREAM
/* POINTERS TO DATA OBJECTS */
^COMPRESSED_FILE = "H2511_0000_ND3.JP2"
/* IDENTIFICATION DATA ELEMENTS */
DATA_SET_ID = "MEX-M-HRSC-5-REFDR-MAPPROJECTED-V3.0"
DATA_SET_NAME = "MARS EXPRESS HRSC MAP PROJECTED REFDR V3.0"
DETECTOR_ID = MEX_HRSC_NADIR
EVENT_TYPE = "MARS-REGIONAL-MAPPING-Im"
INSTRUMENT_HOST_ID = MEX
INSTRUMENT_HOST_NAME = "MARS EXPRESS"
INSTRUMENT_ID = HRSC
INSTRUMENT_NAME = "HIGH RESOLUTION STEREO CAMERA"
MISSION_NAME = "MARS EXPRESS"
MISSION_PHASE_NAME = ME_Phase_1
PROCESSING_LEVEL_ID = 3
PRODUCT_CREATION_TIME = 2016-04-07T06:49:26.000Z
PRODUCT_ID = "H2511_0000_ND3.JP2"
RELEASE_ID = 0031
REVISION_ID = 0000
/* QUALITY DATA ELEMENTS */
DATA_QUALITY_ID = 1
DATA_QUALITY_DESC = "Data calculated based on original SPICE kernels"
/* TIME DATA ELEMENTS */
SPACECRAFT_CLOCK_START_COUNT = "1/0083704426.57135"
SPACECRAFT_CLOCK_STOP_COUNT = "1/0083704827.57663"
START_TIME = 2005-12-26T19:14:20.711Z
STOP_TIME = 2005-12-26T19:19:35.686Z
/* ORBITAL DATA ELEMENTS */
ASCENDING_NODE_LONGITUDE = 175.57
MAXIMUM_RESOLUTION = 12.5
FOOTPRINT_POINT_LATITUDE = (-68.7386,-68.7856,-68.2228,-67.8357, -67.449,-67.0628,-66.6675,-66.2692, -65.8711,-65.4734,-64.8604,-64.451, -64.0423,-63.6343,-63.2269,-62.8201, -62.414,-62.0086,-61.6039,-61.2, -60.7968,-60.3944,-59.9926,-59.5916, -59.1915,-58.7922,-58.3938,-57.9963, -57.5995,-57.2038,-56.8086,-56.4145, -56.0212,-55.6288,-55.2374,-54.8468, -54.4572,-54.0686,-53.681,-53.2943, -52.9085,-52.5237,-52.1399,-51.7571, -51.3753,-50.9945,-50.6147,-49.8582, -49.1059,-49.0865,-49.0615,-49.0407, -49.5935,-50.3466,-51.1039,-51.484, -51.8652,-52.2474,-52.6306,-53.0147, -53.3998,-53.7859,-54.1729,-54.5609, -54.9498,-55.3397,-55.7304,-56.1221, -56.5146,-56.908,-57.3023,-57.6974, -58.0934,-58.4902,-58.8878,-59.2862, -59.6854,-60.0854,-60.4861,-60.8876, -61.2897,-61.6926,-62.0962,-62.5005, -62.9054,-63.3109,-63.7171,-64.1239, -64.5312,-64.9392,-65.3454,-65.7412, -66.1374,-66.5341,-66.9271,-67.3114, -67.696,-68.0809,-68.6535,-68.7386)
FOOTPRINT_POINT_LONGITUDE = (354.999,356.076,356.541,356.658, 356.768,356.878,356.978,357.086,357.184 ,357.279,357.418,357.507,357.595,357.68 ,357.761,357.839,357.914,357.987, 358.057,358.126,358.192,358.255,358.316 ,358.373,358.43,358.486,358.541,358.595 ,358.646,358.699,358.744,358.792, 358.837,358.881,358.924,358.965,359.005 ,359.046,359.085,359.122,359.159, 359.194,359.229,359.263,359.295,359.327 ,359.358,359.417,359.474,358.556, 357.617,357.003,356.719,356.677,356.63, 356.604,356.578,356.549,356.52,356.489, 356.457,356.424,356.388,356.352,356.314 ,356.274,356.231,356.189,356.143, 356.096,356.046,355.995,355.941,355.885 ,355.825,355.764,355.701,355.636, 355.567,355.495,355.422,355.344,355.263 ,355.179,355.09,354.999,354.904,354.805 ,354.699,354.592,354.479,354.365, 354.246,354.122,353.994,353.863,353.727 ,353.585,353.363,354.999)
ORBIT_NUMBER = 2511
ORBITAL_ECCENTRICITY = 0.572
ORBITAL_INCLINATION = 86.62
ORBITAL_SEMIMAJOR_AXIS = 8528.01
PERIAPSIS_ALTITUDE = 276.98
PERIAPSIS_ARGUMENT_ANGLE = 276.97
PERIAPSIS_TIME = 2005-12-26T19:10:50.000Z
SPACECRAFT_ORIENTATION = (0.0,-1.0,0.0)
^MEX_ORIENTATION_DESC = "MEX_ORIENTATION_DESC.TXT"
SPACECRAFT_POINTING_MODE = ACROSSTRACK
^MEX_POINTING_DESC = "MEX_POINTING_DESC.TXT"
RIGHT_ASCENSION = -1e+32
DECLINATION = -1e+32
OFFSET_ANGLE = -0.2
SPACECRAFT_SOLAR_DISTANCE = 2.28064e+08
TARGET_NAME = MARS
/* CAMERA DATA ELEMENTS */
DETECTOR_TEMPERATURE = 18.1666
FOCAL_PLANE_TEMPERATURE = 8.9911
INST_CMPRS_NAME = "DISCRETE COSINE TRANSFORMATION (DCT)"
INST_CMPRS_RATIO = 7.69544
INST_CMPRS_QUALITY = 0
INST_CMPRS_QUANTZ_TBL_ID = 0
INSTRUMENT_TEMPERATURE = 11.234
LENS_TEMPERATURE = 9.3989
MACROPIXEL_SIZE = 1
MISSING_FRAMES = 0
PIXEL_SUBSAMPLING_FLAG = N
SIGNAL_CHAIN_ID = 0
/* RADIOMETRIC DATA ELEMENTS */
BANDWIDTH = 177.0
CENTER_FILTER_WAVELENGTH = 677.5
RADIANCE_OFFSET = 1.89056
RADIANCE_SCALING_FACTOR = 0.0151025
REFLECTANCE_SCALING_FACTOR = 0.000417301
MEX:REFLECTANCE_OFFSET = 0.0522385
/* IMAGE OBJECT DEFINITIONS */
OBJECT = IMAGE
  INTERCHANGE_FORMAT = BINARY
  LINES = 93704
  LINE_SAMPLES = 13909
  SAMPLE_TYPE = UNSIGNED_INTEGER
  SAMPLE_BITS = 8
  BANDS = 1
  BAND_STORAGE_TYPE = BAND_SEQUENTIAL
  MAXIMUM = 255
  MEAN = 110.715
  MINIMUM = 1
  STANDARD_DEVIATION = 36.0087
END_OBJECT = IMAGE
/* MAP OBJECT DEFINITIONS */
OBJECT = IMAGE_MAP_PROJECTION
  ^DATA_SET_MAP_PROJECTION_CATALOG= "DSMAP.CAT"
  A_AXIS_RADIUS = 3396.0
  B_AXIS_RADIUS = 3396.0
  C_AXIS_RADIUS = 3396.0
  CENTER_LATITUDE = 0.0
  CENTER_LONGITUDE = 357.0
  COORDINATE_SYSTEM_NAME = PLANETOGRAPHIC
  COORDINATE_SYSTEM_TYPE = "BODY-FIXED ROTATING"
  EASTERNMOST_LONGITUDE = 359.474
  FIRST_STANDARD_PARALLEL = "N/A"
  LINE_FIRST_PIXEL = 1
  LINE_LAST_PIXEL = 93704
  LINE_PROJECTION_OFFSET = -232494.0
  MAP_PROJECTION_ROTATION = 0.0
  MAP_PROJECTION_TYPE = SINUSOIDAL
  MAP_RESOLUTION = 4741.71043093333
  MAP_SCALE = 0.0125
  MAXIMUM_LATITUDE = -49.0407
  MINIMUM_LATITUDE = -68.7856
  POSITIVE_LONGITUDE_DIRECTION = EAST
  REFERENCE_LATITUDE = "N/A"
  REFERENCE_LONGITUDE = "N/A"
  SAMPLE_FIRST_PIXEL = 1
  SAMPLE_LAST_PIXEL = 13909
  SAMPLE_PROJECTION_OFFSET = 6252.0
  SECOND_STANDARD_PARALLEL = "N/A"
  WESTERNMOST_LONGITUDE = 353.363
END_OBJECT = IMAGE_MAP_PROJECTION
/* The JPEG2000 image data file associated with this label. */
OBJECT = COMPRESSED_FILE
  FILE_NAME = "H2511_0000_ND3.JP2"
  RECORD_TYPE = UNDEFINED
  FILE_RECORDS = UNK
  ENCODING_TYPE = "JP2"
  INTERCHANGE_FORMAT = BINARY
  UNCOMPRESSED_FILE_NAME = "H2511_0000_ND3.IMG"
  REQUIRED_STORAGE_BYTES = "1303370663"
  ^DESCRIPTION = "JP2INFO.TXT"
END_OBJECT = COMPRESSED_FILE
END
