PDS_VERSION_ID = PDS3
/* FILE DATA ELEMENTS */
RECORD_TYPE = STREAM
/* POINTERS TO DATA OBJECTS */
^COMPRESSED_FILE = "H2511_0000_S23.JP2"
/* IDENTIFICATION DATA ELEMENTS */
DATA_SET_ID = "MEX-M-HRSC-5-REFDR-MAPPROJECTED-V3.0"
DATA_SET_NAME = "MARS EXPRESS HRSC MAP PROJECTED REFDR V3.0"
DETECTOR_ID = MEX_HRSC_S2
EVENT_TYPE = "MARS-REGIONAL-MAPPING-Im"
INSTRUMENT_HOST_ID = MEX
INSTRUMENT_HOST_NAME = "MARS EXPRESS"
INSTRUMENT_ID = HRSC
INSTRUMENT_NAME = "HIGH RESOLUTION STEREO CAMERA"
MISSION_NAME = "MARS EXPRESS"
MISSION_PHASE_NAME = ME_Phase_1
PROCESSING_LEVEL_ID = 3
PRODUCT_CREATION_TIME = 2016-04-07T06:49:26.000Z
PRODUCT_ID = "H2511_0000_S23.JP2"
RELEASE_ID = 0031
REVISION_ID = 0000
/* QUALITY DATA ELEMENTS */
DATA_QUALITY_ID = 1
DATA_QUALITY_DESC = "Data calculated based on original SPICE kernels"
/* TIME DATA ELEMENTS */
SPACECRAFT_CLOCK_START_COUNT = "1/0083704426.57135"
SPACECRAFT_CLOCK_STOP_COUNT = "1/0083704827.57663"
START_TIME = 2005-12-26T19:14:50.052Z
STOP_TIME = 2005-12-26T19:20:32.665Z
/* ORBITAL DATA ELEMENTS */
ASCENDING_NODE_LONGITUDE = 175.57
MAXIMUM_RESOLUTION = 27.7
FOOTPRINT_POINT_LATITUDE = (-68.5709,-68.6211,-68.6983,-68.1709, -67.7601,-67.3487,-66.9272,-66.4952, -66.0829,-65.6618,-65.2427,-64.6154, -64.1991,-63.7856,-63.1671,-62.7552, -62.3454,-61.9372,-61.5298,-61.1242, -60.7202,-60.1149,-59.712,-59.3099, -58.9109,-58.5139,-58.1185,-57.7273, -57.3403,-56.9469,-56.3626,-55.9759, -55.5905,-55.2061,-54.8222,-54.4419, -54.0646,-53.5007,-53.1263,-52.753, -52.381,-52.0101,-51.6421,-51.275, -50.9097,-50.5457,-50.184,-49.822, -49.4621,-49.0946,-49.0797,-49.069, -49.0569,-49.0341,-49.0225,-49.5577, -49.915,-50.4505,-50.8122,-51.1757, -51.5404,-51.9085,-52.2778,-52.6484, -53.0203,-53.393,-53.7683,-54.1455, -54.5242,-55.0937,-55.6689,-56.0516, -56.4379,-57.0211,-57.6063,-57.9993, -58.5904,-58.9899,-59.387,-59.785, -60.1847,-60.5862,-60.9896,-61.3928, -61.7996,-62.2074,-62.616,-63.0253, -63.4362,-63.8481,-64.4712,-65.0928, -65.5099,-66.1377,-66.5574,-66.9785, -67.3945,-67.8042,-68.2135,-68.5709)
FOOTPRINT_POINT_LONGITUDE = (353.856,354.771,356.365,356.644, 356.768,356.887,357.006,357.112,357.227 ,357.33,357.43,357.572,357.662,357.75, 357.876,357.956,358.033,358.108,358.18, 358.249,358.317,358.413,358.474,358.533 ,358.59,358.647,358.701,358.756,358.811 ,358.859,358.931,358.978,359.023, 359.067,359.109,359.151,359.193,359.253 ,359.292,359.329,359.365,359.4,359.435, 359.469,359.502,359.534,359.566,359.596 ,359.626,359.361,358.74,358.358,357.741 ,357.125,356.615,356.59,356.573,356.547 ,356.527,356.505,356.483,356.459, 356.433,356.407,356.379,356.35,356.319, 356.287,356.253,356.199,356.141,356.101 ,356.058,355.99,355.918,355.866,355.785 ,355.726,355.666,355.605,355.54,355.472 ,355.401,355.327,355.249,355.167, 355.083,354.994,354.902,354.805,354.65, 354.487,354.37,354.186,354.056,353.919, 353.778,353.632,353.481,353.856)
ORBIT_NUMBER = 2511
ORBITAL_ECCENTRICITY = 0.572
ORBITAL_INCLINATION = 86.62
ORBITAL_SEMIMAJOR_AXIS = 8528.01
PERIAPSIS_ALTITUDE = 276.98
PERIAPSIS_ARGUMENT_ANGLE = 276.97
PERIAPSIS_TIME = 2005-12-26T19:10:50.000Z
SPACECRAFT_ORIENTATION = (0.0,-1.0,0.0)
^MEX_ORIENTATION_DESC = "MEX_ORIENTATION_DESC.TXT"
SPACECRAFT_POINTING_MODE = ACROSSTRACK
^MEX_POINTING_DESC = "MEX_POINTING_DESC.TXT"
RIGHT_ASCENSION = -1e+32
DECLINATION = -1e+32
OFFSET_ANGLE = -0.2
SPACECRAFT_SOLAR_DISTANCE = 2.28064e+08
TARGET_NAME = MARS
/* CAMERA DATA ELEMENTS */
DETECTOR_TEMPERATURE = 18.5744
FOCAL_PLANE_TEMPERATURE = 8.9911
INST_CMPRS_NAME = "DISCRETE COSINE TRANSFORMATION (DCT)"
INST_CMPRS_RATIO = 12.0258
INST_CMPRS_QUALITY = 0
INST_CMPRS_QUANTZ_TBL_ID = 0
INSTRUMENT_TEMPERATURE = 11.234
LENS_TEMPERATURE = 9.3989
MACROPIXEL_SIZE = 2
MISSING_FRAMES = 0
PIXEL_SUBSAMPLING_FLAG = N
SIGNAL_CHAIN_ID = 1
/* RADIOMETRIC DATA ELEMENTS */
BANDWIDTH = 178.0
CENTER_FILTER_WAVELENGTH = 679.0
RADIANCE_OFFSET = 2.33706
RADIANCE_SCALING_FACTOR = 0.016443
REFLECTANCE_SCALING_FACTOR = 0.000452926
MEX:REFLECTANCE_OFFSET = 0.0643749
/* IMAGE OBJECT DEFINITIONS */
OBJECT = IMAGE
  INTERCHANGE_FORMAT = BINARY
  LINES = 46852
  LINE_SAMPLES = 6955
  SAMPLE_TYPE = UNSIGNED_INTEGER
  SAMPLE_BITS = 8
  BANDS = 1
  BAND_STORAGE_TYPE = BAND_SEQUENTIAL
  MAXIMUM = 255
  MEAN = 116.958
  MINIMUM = 1
  STANDARD_DEVIATION = 38.8806
END_OBJECT = IMAGE
/* MAP OBJECT DEFINITIONS */
OBJECT = IMAGE_MAP_PROJECTION
  ^DATA_SET_MAP_PROJECTION_CATALOG= "DSMAP.CAT"
  A_AXIS_RADIUS = 3396.0
  B_AXIS_RADIUS = 3396.0
  C_AXIS_RADIUS = 3396.0
  CENTER_LATITUDE = 0.0
  CENTER_LONGITUDE = 357.0
  COORDINATE_SYSTEM_NAME = PLANETOGRAPHIC
  COORDINATE_SYSTEM_TYPE = "BODY-FIXED ROTATING"
  EASTERNMOST_LONGITUDE = 359.626
  FIRST_STANDARD_PARALLEL = "N/A"
  LINE_FIRST_PIXEL = 1
  LINE_LAST_PIXEL = 46852
  LINE_PROJECTION_OFFSET = -116247.25
  MAP_PROJECTION_ROTATION = 0.0
  MAP_PROJECTION_TYPE = SINUSOIDAL
  MAP_RESOLUTION = 2370.85521546667
  MAP_SCALE = 0.025
  MAXIMUM_LATITUDE = -49.0225
  MINIMUM_LATITUDE = -68.6983
  POSITIVE_LONGITUDE_DIRECTION = EAST
  REFERENCE_LATITUDE = "N/A"
  REFERENCE_LONGITUDE = "N/A"
  SAMPLE_FIRST_PIXEL = 1
  SAMPLE_LAST_PIXEL = 6955
  SAMPLE_PROJECTION_OFFSET = 3125.75
  SECOND_STANDARD_PARALLEL = "N/A"
  WESTERNMOST_LONGITUDE = 353.481
END_OBJECT = IMAGE_MAP_PROJECTION
/* The JPEG2000 image data file associated with this label. */
OBJECT = COMPRESSED_FILE
  FILE_NAME = "H2511_0000_S23.JP2"
  RECORD_TYPE = UNDEFINED
  FILE_RECORDS = UNK
  ENCODING_TYPE = "JP2"
  INTERCHANGE_FORMAT = BINARY
  UNCOMPRESSED_FILE_NAME = "H2511_0000_S23.IMG"
  REQUIRED_STORAGE_BYTES = "325890435"
  ^DESCRIPTION = "JP2INFO.TXT"
END_OBJECT = COMPRESSED_FILE
END
